- Раздел: Путешествия
- Дата съёмки: 26.11.2009 12:18
- Дата загрузки фото: 29.11.2009 20:12
- Оригинальная фотография: 669 x 1000 (375 Кб)
- Технические характеристики:
- Фотоаппарат: Pentax K200D
- Выдержка: 1/2000
- Гиперфокальное расстояние: 34,84 m
- Диафрагма: 4,0
- Светочувствительность: 100
- Фокусное расстояние: 53,0 mm (35 mm equivalent: 79,0 mm)
- Экспокоррекция: -1,3
- Полный EXIF
- Adobe
- ColorTransform: YCbCr
- Composite
- Aperture: 4,0
- CircleOfConfusion: 0,020 mm
- FOV: 25,0 deg
- FocalLength35efl: 53,0 mm (35 mm equivalent: 79,0 mm)
- HyperfocalDistance: 34,84 m
- ScaleFactor35efl: 1,5
- ShutterSpeed: 1/2000
- ExifIFD
- ApertureValue: 4,0
- CFAPattern: [Red,Green][Green,Blue]
- Contrast: Normal
- CreateDate: 2009:11:26 12:18:07
- CustomRendered: Normal
- DateTimeOriginal: 2009:11:26 12:18:07
- ExposureCompensation: -1,3
- ExposureMode: Manual
- ExposureProgram: Aperture-priority AE
- ExposureTime: 1/2000
- FNumber: 4,0
- Flash: Off
- FocalLength: 53,0 mm
- FocalLengthIn35mmFormat: 79 mm
- ISO: 100
- MeteringMode: Spot
- Saturation: Normal
- SceneCaptureType: Standard
- SensingMethod: One-chip color area
- Sharpness: Normal
- ShutterSpeedValue: 1/2000
- SubjectDistanceRange: Distant
- WhiteBalance: Auto
- ICC-header
- ICC-meas
- ICC-view
- IFD0
- Make: PENTAX Corporation
- Model: PENTAX K200D
- ModifyDate: 2009:11:29 23:57:39
- Software: K200D Ver 1.00
- IFD1
- IPTC
- Keywords: Ulan-Ude, city, monument
- XMP-aux
- Lens: smc PENTAX-DA 17-70mm F4 AL [IF] SDM
- LensID: 8 232
- LensInfo: 170/10 700/10 40/10 40/10
- XMP-crs
- AlreadyApplied: True
- BlueHue: 0
- BlueSaturation: 0
- Brightness: +50
- CameraProfile: Camera Standard
- ChromaticAberrationB: 0
- ChromaticAberrationR: 0
- Clarity: 0
- ColorNoiseReduction: 25
- Contrast: +25
- ConvertToGrayscale: False
- Defringe: 0
- Exposure: +0.48
- FillLight: 21
- GreenHue: 0
- GreenSaturation: 0
- HasCrop: False
- HasSettings: True
- HighlightRecovery: 0
- HueAdjustmentAqua: 0
- HueAdjustmentBlue: 0
- HueAdjustmentGreen: 0
- HueAdjustmentMagenta: 0
- HueAdjustmentOrange: 0
- HueAdjustmentPurple: 0
- HueAdjustmentRed: 0
- HueAdjustmentYellow: 0
- LuminanceAdjustmentAqua: 0
- LuminanceAdjustmentBlue: 0
- LuminanceAdjustmentGreen: 0
- LuminanceAdjustmentMagenta: 0
- LuminanceAdjustmentOrange: 0
- LuminanceAdjustmentPurple: 0
- LuminanceAdjustmentRed: 0
- LuminanceAdjustmentYellow: 0
- LuminanceSmoothing: 0
- ParametricDarks: 0
- ParametricHighlightSplit: 75
- ParametricHighlights: 0
- ParametricLights: 0
- ParametricMidtoneSplit: 50
- ParametricShadowSplit: 25
- ParametricShadows: 0
- PostCropVignetteAmount: 0
- RedHue: 0
- RedSaturation: 0
- Saturation: 0
- SaturationAdjustmentAqua: 0
- SaturationAdjustmentBlue: 0
- SaturationAdjustmentGreen: 0
- SaturationAdjustmentMagenta: 0
- SaturationAdjustmentOrange: 0
- SaturationAdjustmentPurple: 0
- SaturationAdjustmentRed: 0
- SaturationAdjustmentYellow: 0
- ShadowTint: 0
- Shadows: 5
- SharpenDetail: 25
- SharpenEdgeMasking: 0
- SharpenRadius: +1.0
- Sharpness: 25
- SplitToningBalance: 0
- SplitToningHighlightHue: 0
- SplitToningHighlightSaturation: 0
- SplitToningShadowHue: 0
- SplitToningShadowSaturation: 0
- Temperature: 4600
- Tint: -7
- ToneCurve: 0, 0, 32, 22, 64, 56, 128, 128, 192, 196, 255, 255
- ToneCurveName: Medium Contrast
- Version: 5.5
- Vibrance: 0
- VignetteAmount: +31
- VignetteMidpoint: 50
- WhiteBalance: As Shot
- XMP-dc
- Subject: Ulan-Ude, city, monument
- XMP-exif
- DateTimeDigitized: 2009:11:26 12:18:07+07:00
- DateTimeOriginal: 2009:11:26 12:18:07+07:00
- ExifImageHeight: 1000
- ExifImageWidth: 669
- FlashFired: False
- FlashFunction: False
- FlashMode: Off
- FlashRedEyeMode: False
- FlashReturn: No return detection
- XMP-lr
- HierarchicalSubject: Ulan-Ude, city, monument
- XMP-tiff
- ImageHeight: 1000
- ImageWidth: 669
- XMP-xmp
- CreateDate: 2009:11:26 12:18:07+07:00
- Label: Purple
- ModifyDate: 2009:11:29 23:57:39+07:00
- Просмотров: 588
- Рейтинг: голосов еще нет
- Отзывов: 0