- Раздел: Портрет
- Дата съёмки: 30.10.2008 17:35
- Дата загрузки фото: 05.12.2009 01:25
- Оригинальная фотография: 2304 x 3456 (3,3 Мб)
- Технические характеристики:
- Фотоаппарат: Canon EOS 350D DIGITAL
- Выдержка: 1/200
- Гиперфокальное расстояние: 111,50 m
- Диафрагма: 3,5
- Светочувствительность: 800
- Фокусное расстояние: 85,0 mm (35 mm equivalent: 137,9 mm)
- Полный EXIF
- Adobe
- ColorTransform: YCbCr
- Composite
- Aperture: 3,5
- CircleOfConfusion: 0,019 mm
- FOV: 14,0 deg
- FocalLength35efl: 85,0 mm (35 mm equivalent: 137,9 mm)
- HyperfocalDistance: 111,50 m
- ScaleFactor35efl: 1,6
- ShutterSpeed: 1/200
- ExifIFD
- ApertureValue: 3,5
- ColorSpace: sRGB
- CreateDate: 2008:10:30 17:35:06
- CustomRendered: Normal
- DateTimeOriginal: 2008:10:30 17:35:06
- ExifImageHeight: 3456
- ExifImageWidth: 2304
- ExposureCompensation: 0
- ExposureMode: Auto
- ExposureProgram: Aperture-priority AE
- ExposureTime: 1/200
- FNumber: 3,5
- Flash: Off
- FocalLength: 85,0 mm
- ISO: 800
- MeteringMode: Partial
- SceneCaptureType: Standard
- ShutterSpeedValue: 1/200
- WhiteBalance: Auto
- ICC-header
- ICC-meas
- ICC-view
- IFD0
- Artist: unknown
- Make: Canon
- Model: Canon EOS 350D DIGITAL
- ModifyDate: 2009:01:17 18:40:41
- Orientation: Horizontal (normal)
- IFD1
- IPTC
- By-line: unknown
- Keywords: Olga Knyazeva
- XMP-aux
- Firmware: 1.0.3
- FlashCompensation: 0
- ImageNumber: 36
- Lens: 85.0 mm
- LensInfo: 85/1 85/1 0/0 0/0
- OwnerName: unknown
- SerialNumber: 430342117
- XMP-crs
- AlreadyApplied: True
- BlueHue: +11
- BlueSaturation: -70
- Brightness: +57
- CameraProfile: ACR 4.4
- ChromaticAberrationB: 0
- ChromaticAberrationR: 0
- Clarity: 0
- ColorNoiseReduction: 25
- Contrast: +25
- ConvertToGrayscale: False
- Defringe: 0
- Exposure: +0.86
- FillLight: 0
- GreenHue: +11
- GreenSaturation: +25
- HasCrop: False
- HasSettings: True
- HighlightRecovery: 0
- HueAdjustmentAqua: 0
- HueAdjustmentBlue: 0
- HueAdjustmentGreen: 0
- HueAdjustmentMagenta: 0
- HueAdjustmentOrange: 0
- HueAdjustmentPurple: 0
- HueAdjustmentRed: 0
- HueAdjustmentYellow: 0
- LuminanceAdjustmentAqua: 0
- LuminanceAdjustmentBlue: 0
- LuminanceAdjustmentGreen: 0
- LuminanceAdjustmentMagenta: 0
- LuminanceAdjustmentOrange: 0
- LuminanceAdjustmentPurple: 0
- LuminanceAdjustmentRed: 0
- LuminanceAdjustmentYellow: 0
- LuminanceSmoothing: 0
- ParametricDarks: -3
- ParametricHighlightSplit: 75
- ParametricHighlights: 0
- ParametricLights: 0
- ParametricMidtoneSplit: 50
- ParametricShadowSplit: 25
- ParametricShadows: -14
- PostCropVignetteAmount: 0
- RedHue: +96
- RedSaturation: +3
- Saturation: -71
- SaturationAdjustmentAqua: 0
- SaturationAdjustmentBlue: 0
- SaturationAdjustmentGreen: 0
- SaturationAdjustmentMagenta: 0
- SaturationAdjustmentOrange: 0
- SaturationAdjustmentPurple: 0
- SaturationAdjustmentRed: 0
- SaturationAdjustmentYellow: 0
- ShadowTint: +8
- Shadows: 11
- SharpenDetail: 50
- SharpenEdgeMasking: 0
- SharpenRadius: +0.8
- Sharpness: 40
- SplitToningBalance: 0
- SplitToningHighlightHue: 0
- SplitToningHighlightSaturation: 0
- SplitToningShadowHue: 0
- SplitToningShadowSaturation: 0
- Temperature: 12500
- Tint: +35
- ToneCurve: 0, 0, 255, 255
- ToneCurveName: Linear
- Version: 4.6
- Vibrance: 0
- VignetteAmount: -100
- VignetteMidpoint: 23
- WhiteBalance: Custom
- XMP-dc
- Creator: unknown
- Format: image/jpeg
- Subject: Olga Knyazeva
- XMP-exif
- DateTimeDigitized: 2008:10:30 17:35:06+03:00
- DateTimeOriginal: 2008:10:30 17:35:06+03:00
- FlashFired: False
- FlashFunction: False
- FlashMode: Off
- FlashRedEyeMode: False
- FlashReturn: No return detection
- XMP-tiff
- ImageHeight: 3456
- ImageWidth: 2304
- XMP-xmp
- CreateDate: 2008:10:30 17:35:06+03:00
- ModifyDate: 2009:01:17 18:40:41+03:00
- XMP-xmpMM