- Раздел: Репортаж
- Дата съёмки: 18.10.2009 16:31
- Дата загрузки фото: 05.12.2009 17:42
- Оригинальная фотография: 3888 x 2048 (3,1 Мб)
- Технические характеристики:
- Фотоаппарат: Canon EOS 40D
- Выдержка: 1/1000
- Гиперфокальное расстояние: 20,05 m
- Диафрагма: 3,5
- Светочувствительность: 200
- Фокусное расстояние: 35,0 mm (35 mm equivalent: 60,2 mm)
- Полный EXIF
- Adobe
- ColorTransform: YCbCr
- Composite
- Aperture: 3,5
- CircleOfConfusion: 0,017 mm
- FOV: 33,0 deg
- FocalLength35efl: 35,0 mm (35 mm equivalent: 60,2 mm)
- HyperfocalDistance: 20,05 m
- ScaleFactor35efl: 1,7
- ShutterSpeed: 1/1000
- ExifIFD
- ApertureValue: 3,5
- CreateDate: 2009:10:18 16:31:16
- CustomRendered: Normal
- DateTimeOriginal: 2009:10:18 16:31:16
- ExposureCompensation: 0
- ExposureMode: Auto
- ExposureProgram: Aperture-priority AE
- ExposureTime: 1/1000
- FNumber: 3,5
- Flash: Off
- FocalLength: 35,0 mm
- ISO: 200
- MaxApertureValue: 2,8
- MeteringMode: Multi-segment
- SceneCaptureType: Standard
- ShutterSpeedValue: 1/1000
- WhiteBalance: Auto
- ICC-header
- ICC-meas
- ICC-view
- IFD0
- Artist: Roman E Demakov
- Make: Canon
- Model: Canon EOS 40D
- ModifyDate: 2009:12:05 18:33:14
- IFD1
- IPTC
- By-line: Roman E Demakov
- XMP-aux
- Firmware: 1.1.1
- FlashCompensation: 0
- ImageNumber: 0
- Lens: EF16-35mm f/2.8L II USM
- LensInfo: 16/1 35/1 0/0 0/0
- OwnerName: Roman E Demakov
- SerialNumber: 830523091
- XMP-crs
- AlreadyApplied: True
- BlueHue: 0
- BlueSaturation: 0
- Brightness: +50
- CameraProfile: ACR 2.4
- ChromaticAberrationB: 0
- ChromaticAberrationR: 0
- Clarity: +70
- ColorNoiseReduction: 10
- Contrast: +25
- ConvertToGrayscale: False
- CropAngle: 0
- CropBottom: 0.938679
- CropHeight: 2048
- CropLeft: 0
- CropRight: 1
- CropTop: 0.148585
- CropUnit: 0
- CropWidth: 3888
- Defringe: 0
- Exposure: 0.00
- FillLight: 0
- GreenHue: 0
- GreenSaturation: 0
- HasCrop: True
- HasSettings: True
- HighlightRecovery: 0
- HueAdjustmentAqua: 0
- HueAdjustmentBlue: -7
- HueAdjustmentGreen: 0
- HueAdjustmentMagenta: 0
- HueAdjustmentOrange: 0
- HueAdjustmentPurple: 0
- HueAdjustmentRed: 0
- HueAdjustmentYellow: 0
- LuminanceAdjustmentAqua: 0
- LuminanceAdjustmentBlue: -86
- LuminanceAdjustmentGreen: 0
- LuminanceAdjustmentMagenta: 0
- LuminanceAdjustmentOrange: 0
- LuminanceAdjustmentPurple: -5
- LuminanceAdjustmentRed: 0
- LuminanceAdjustmentYellow: 0
- LuminanceSmoothing: 0
- ParametricDarks: 0
- ParametricHighlightSplit: 75
- ParametricHighlights: 0
- ParametricLights: 0
- ParametricMidtoneSplit: 50
- ParametricShadowSplit: 25
- ParametricShadows: 0
- PostCropVignetteAmount: 0
- RedHue: 0
- RedSaturation: 0
- Saturation: -30
- SaturationAdjustmentAqua: 0
- SaturationAdjustmentBlue: +74
- SaturationAdjustmentGreen: 0
- SaturationAdjustmentMagenta: 0
- SaturationAdjustmentOrange: 0
- SaturationAdjustmentPurple: +5
- SaturationAdjustmentRed: 0
- SaturationAdjustmentYellow: 0
- ShadowTint: -5
- Shadows: 5
- SharpenDetail: 25
- SharpenEdgeMasking: 50
- SharpenRadius: +1.0
- Sharpness: 10
- SplitToningBalance: 0
- SplitToningHighlightHue: 60
- SplitToningHighlightSaturation: 25
- SplitToningShadowHue: 235
- SplitToningShadowSaturation: 40
- Temperature: 9776
- Tint: -74
- ToneCurve: 0, 0, 32, 22, 64, 56, 128, 128, 192, 196, 255, 255
- ToneCurveName: Medium Contrast
- Version: 5.5
- Vibrance: +30
- VignetteAmount: -25
- VignetteMidpoint: 30
- WhiteBalance: Custom
- XMP-dc
- XMP-exif
- DateTimeDigitized: 2009:10:18 16:31:16.00+05:00
- DateTimeOriginal: 2009:10:18 16:31:16.00+05:00
- ExifImageHeight: 2048
- ExifImageWidth: 3888
- FlashFired: False
- FlashFunction: False
- FlashMode: Off
- FlashRedEyeMode: False
- FlashReturn: No return detection
- XMP-tiff
- ImageHeight: 2048
- ImageWidth: 3888
- XMP-xmp
- CreateDate: 2009:10:18 16:31:16.00+05:00
- ModifyDate: 2009:12:05 18:33:14+04:00