- Раздел: Животные
- Дата съёмки: 15.10.2008 13:38
- Дата загрузки фото: 05.12.2009 21:11
- Оригинальная фотография: 2522 x 3461 (3,2 Мб)
- Технические характеристики:
- Фотоаппарат: Sony DSLR-A100
- Выдержка: 1/320
- Гиперфокальное расстояние: 320,93 m
- Диафрагма: 3,5
- Фокусное расстояние: 150,0 mm (35 mm equivalent: 225,0 mm)
- Полный EXIF
- Adobe
- ColorTransform: YCbCr
- Composite
- Aperture: 3,5
- CircleOfConfusion: 0,020 mm
- FOV: 9,0 deg
- FocalLength35efl: 150,0 mm (35 mm equivalent: 225,0 mm)
- HyperfocalDistance: 320,93 m
- ScaleFactor35efl: 1,5
- ShutterSpeed: 1/320
- ExifIFD
- ApertureValue: 3,5
- BrightnessValue: 6,87
- ColorSpace: sRGB
- Contrast: Normal
- CreateDate: 2008:10:14 12:40:00
- CustomRendered: Normal
- DateTimeOriginal: 2008:10:14 12:40:00
- DigitalZoomRatio: 0
- ExifImageHeight: 3461
- ExifImageWidth: 2522
- ExposureCompensation: 0
- ExposureMode: Auto
- ExposureProgram: Aperture-priority AE
- ExposureTime: 1/320
- FNumber: 3,5
- Flash: Off
- FocalLength: 150,0 mm
- FocalLengthIn35mmFormat: 225 mm
- GainControl: None
- LightSource: Unknown
- MaxApertureValue: 2,8
- MeteringMode: Multi-segment
- Saturation: Normal
- SceneCaptureType: Standard
- SceneType: Directly photographed
- Sharpness: Normal
- ShutterSpeedValue: 1/320
- WhiteBalance: Manual
- ICC-header
- ICC-meas
- ICC-view
- IFD0
- ImageDescription: Crowned crane. The crowned crane is a tall bird. Its length can reach up to one meter. It has a beautiful "crown" of stiff golden feathers, white cheeks with a red spot at the top of the cheek, grey neck plumage and black belly and legs. It can be found in marshes, lakes and grasslands of Africa, distributed from Zaire to Tanzania.
- Make: SONY
- Model: DSLR-A100
- ModifyDate: 2008:10:15 11:38:00
- Orientation: Horizontal (normal)
- IFD1
- IPTC
- Caption-Abstract: Crowned crane. The crowned crane is a tall bird. Its length can reach up to one meter. It has a beautiful "crown" of stiff golden feathers, white cheeks with a red spot at the top of the cheek, grey neck plumage and black belly and legs. It can be found in marshes, lakes and grasslands of Africa, distributed from Zaire to Tanzania.
- Keywords: animals, bird, crane, crowned, feather, wildlife, nature, crown, beak, one, beauty, zoo, wild, outdoors, national, crest, park, elegance, heron
- XMP-crs
- AlreadyApplied: True
- BlueHue: 0
- BlueSaturation: 0
- Brightness: +50
- CameraProfile: ACR 3.5
- ChromaticAberrationB: 0
- ChromaticAberrationR: 0
- Clarity: 0
- ColorNoiseReduction: 0
- Contrast: +25
- ConvertToGrayscale: False
- CropAngle: 0
- CropBottom: 0.972851
- CropHeight: 2522
- CropLeft: 0.106061
- CropRight: 1
- CropTop: 0
- CropUnit: 0
- CropWidth: 3461
- Defringe: 0
- Exposure: 0.00
- FillLight: 0
- GreenHue: 0
- GreenSaturation: 0
- HasCrop: True
- HasSettings: True
- HighlightRecovery: 19
- HueAdjustmentAqua: 0
- HueAdjustmentBlue: 0
- HueAdjustmentGreen: 0
- HueAdjustmentMagenta: 0
- HueAdjustmentOrange: 0
- HueAdjustmentPurple: 0
- HueAdjustmentRed: 0
- HueAdjustmentYellow: 0
- LuminanceAdjustmentAqua: 0
- LuminanceAdjustmentBlue: 0
- LuminanceAdjustmentGreen: 0
- LuminanceAdjustmentMagenta: 0
- LuminanceAdjustmentOrange: 0
- LuminanceAdjustmentPurple: 0
- LuminanceAdjustmentRed: 0
- LuminanceAdjustmentYellow: 0
- LuminanceSmoothing: 0
- ParametricDarks: 0
- ParametricHighlightSplit: 75
- ParametricHighlights: 0
- ParametricLights: 0
- ParametricMidtoneSplit: 50
- ParametricShadowSplit: 25
- ParametricShadows: 0
- RedHue: 0
- RedSaturation: 0
- Saturation: 0
- SaturationAdjustmentAqua: 0
- SaturationAdjustmentBlue: 0
- SaturationAdjustmentGreen: 0
- SaturationAdjustmentMagenta: 0
- SaturationAdjustmentOrange: 0
- SaturationAdjustmentPurple: 0
- SaturationAdjustmentRed: 0
- SaturationAdjustmentYellow: 0
- ShadowTint: 0
- Shadows: 0
- SharpenDetail: 0
- SharpenEdgeMasking: 0
- SharpenRadius: +1.0
- Sharpness: 0
- SplitToningBalance: 0
- SplitToningHighlightHue: 0
- SplitToningHighlightSaturation: 0
- SplitToningShadowHue: 0
- SplitToningShadowSaturation: 0
- Temperature: 4900
- Tint: +20
- ToneCurve: 0, 0, 32, 22, 64, 56, 128, 128, 192, 196, 255, 255
- ToneCurveName: Medium Contrast
- Version: 4.4.1
- Vibrance: 0
- VignetteAmount: 0
- WhiteBalance: As Shot
- XMP-dc
- Description: Crowned crane. The crowned crane is a tall bird. Its length can reach up to one meter. It has a beautiful "crown" of stiff golden feathers, white cheeks with a red spot at the top of the cheek, grey neck plumage and black belly and legs. It can be found in marshes, lakes and grasslands of Africa, distributed from Zaire to Tanzania.
- Format: image/jpeg
- Subject: animals, bird, crane, crowned, feather, wildlife, nature, crown, beak, one, beauty, zoo, wild, outdoors, national, crest, park, elegance, heron
- XMP-exif
- DateTimeDigitized: 2008:10:14 12:40:000Z
- DateTimeOriginal: 2008:10:14 12:40:000Z
- FlashFired: False
- FlashFunction: False
- FlashMode: Off
- FlashRedEyeMode: False
- FlashReturn: No return detection
- FocalLengthIn35mmFormat: 225
- XMP-tiff
- ImageHeight: 3461
- ImageWidth: 2522
- XMP-xmp
- CreateDate: 2008:10:15 13:38:01+02:00
- ModifyDate: 2008:10:15 11:38:000Z
- XMP-xmpMM