- Раздел: Путешествия
- Дата съёмки: 29.06.2009 10:53
- Дата загрузки фото: 30.12.2009 01:08
- Оригинальная фотография: 1000 x 750 (890 Кб)
- Технические характеристики:
- Фотоаппарат: FujiFilm FinePix S6500fd
- Выдержка: 1/400
- Гиперфокальное расстояние: 1,84 m
- Диафрагма: 5,0
- Светочувствительность: 100
- Фокусное расстояние: 6,2 mm (35 mm equivalent: 44,6 mm)
- Полный EXIF
- Adobe
- ColorTransform: YCbCr
- Composite
- Aperture: 5,0
- CircleOfConfusion: 0,004 mm
- FOV: 43,0 deg
- FocalLength35efl: 6,2 mm (35 mm equivalent: 44,6 mm)
- HyperfocalDistance: 1,84 m
- ScaleFactor35efl: 7,2
- ShutterSpeed: 1/400
- ExifIFD
- ApertureValue: 5,0
- BrightnessValue: 8,54
- CreateDate: 2009:06:29 10:53:56
- CustomRendered: Normal
- DateTimeOriginal: 2009:06:29 10:53:56
- ExposureCompensation: 0
- ExposureMode: Manual
- ExposureProgram: Manual
- ExposureTime: 1/400
- FNumber: 5,0
- Flash: Off
- FocalLength: 6,2 mm
- ISO: 100
- LightSource: Unknown
- MaxApertureValue: 2,8
- MeteringMode: Average
- SceneCaptureType: Standard
- SceneType: Directly photographed
- SensingMethod: One-chip color area
- Sharpness: Hard
- ShutterSpeedValue: 1/400
- SubjectDistanceRange: Unknown
- WhiteBalance: Auto
- ICC-header
- ICC-meas
- ICC-view
- IFD0
- Make: FUJIFILM
- Model: FinePix S6500fd
- ModifyDate: 2009:07:02 00:45:32
- Software: Digital Camera FinePix S6500fd Ver1.00
- XMP-crs
- AlreadyApplied: True
- BlueHue: 0
- BlueSaturation: 0
- Brightness: +50
- CameraProfile: ACR 4.4
- ChromaticAberrationB: 0
- ChromaticAberrationR: 0
- Clarity: 0
- ColorNoiseReduction: 25
- Contrast: +25
- ConvertToGrayscale: False
- Defringe: 0
- Exposure: +0.09
- FillLight: 0
- GreenHue: 0
- GreenSaturation: 0
- HasCrop: False
- HasSettings: True
- HighlightRecovery: 100
- HueAdjustmentAqua: 0
- HueAdjustmentBlue: 0
- HueAdjustmentGreen: 0
- HueAdjustmentMagenta: 0
- HueAdjustmentOrange: 0
- HueAdjustmentPurple: 0
- HueAdjustmentRed: 0
- HueAdjustmentYellow: 0
- LuminanceAdjustmentAqua: 0
- LuminanceAdjustmentBlue: 0
- LuminanceAdjustmentGreen: 0
- LuminanceAdjustmentMagenta: 0
- LuminanceAdjustmentOrange: 0
- LuminanceAdjustmentPurple: 0
- LuminanceAdjustmentRed: 0
- LuminanceAdjustmentYellow: 0
- LuminanceSmoothing: 0
- ParametricDarks: 0
- ParametricHighlightSplit: 75
- ParametricHighlights: 0
- ParametricLights: 0
- ParametricMidtoneSplit: 50
- ParametricShadowSplit: 25
- ParametricShadows: 0
- PostCropVignetteAmount: 0
- RedHue: 0
- RedSaturation: 0
- Saturation: +7
- SaturationAdjustmentAqua: 0
- SaturationAdjustmentBlue: 0
- SaturationAdjustmentGreen: 0
- SaturationAdjustmentMagenta: 0
- SaturationAdjustmentOrange: 0
- SaturationAdjustmentPurple: 0
- SaturationAdjustmentRed: 0
- SaturationAdjustmentYellow: 0
- ShadowTint: 0
- Shadows: 5
- SharpenDetail: 25
- SharpenEdgeMasking: 0
- SharpenRadius: +1.0
- Sharpness: 25
- SplitToningBalance: 0
- SplitToningHighlightHue: 0
- SplitToningHighlightSaturation: 0
- SplitToningShadowHue: 0
- SplitToningShadowSaturation: 0
- Temperature: 5111
- Tint: -10
- ToneCurve: 0, 0, 32, 22, 64, 56, 128, 128, 192, 196, 255, 255
- ToneCurveName: Medium Contrast
- Version: 4.5
- Vibrance: +7
- VignetteAmount: 0
- WhiteBalance: Custom
- XMP-exif
- DateTimeDigitized: 2009:06:29 10:53:56+04:00
- DateTimeOriginal: 2009:06:29 10:53:56+04:00
- ExifImageHeight: 750
- ExifImageWidth: 1000
- FlashFired: False
- FlashFunction: False
- FlashMode: Off
- FlashRedEyeMode: False
- FlashReturn: No return detection
- XMP-tiff
- ImageHeight: 750
- ImageWidth: 1000
- XMP-xmp
- CreateDate: 2009:06:29 10:53:56+04:00
- ModifyDate: 2009:07:02 00:45:32+04:00
- Просмотров: 333
- Рейтинг: голосов еще нет
- Отзывов: 0