| » Участники » Yuras » Львов » Рождественский парад |
Уважаемые друзья и участники проекта iXBT.photo! К сожалению, 5 марта 2026 года проект iXBT.photo прекратит свою работу и будет закрыт. Мы высоко ценим ваше участие и тот вклад, который вы внесли в развитие нашего сообщества. Пожалуйста, не забудьте сохранить ваши фотографии до этой даты.
С уважением, команда iXBT.com
| Рождественский парад |
Рождественский парад
- Раздел: Город
- Дата съёмки: 08.01.2010 16:45
- Дата загрузки фото: 09.01.2010 17:39
- Оригинальная фотография: 1536 x 1024 (517 Кб)
- Технические характеристики:
- Фотоаппарат: Canon EOS 350D DIGITAL
- Выдержка: 1/50
- Гиперфокальное расстояние: 91,87 m
- Диафрагма: 4,0
- Светочувствительность: 100
- Фокусное расстояние: 55,0 mm (35 mm equivalent: 200,7 mm)
- Экспокоррекция: -1/3
- Полный EXIF
- Adobe
- ColorTransform: YCbCr
- Composite
- Aperture: 4,0
- CircleOfConfusion: 0,008 mm
- FOV: 10,0 deg
- FocalLength35efl: 55,0 mm (35 mm equivalent: 200,7 mm)
- HyperfocalDistance: 91,87 m
- ScaleFactor35efl: 3,6
- ShutterSpeed: 1/50
- ExifIFD
- ApertureValue: 4,0
- ColorSpace: sRGB
- CreateDate: 2010:01:08 16:45:17
- CustomRendered: Normal
- DateTimeOriginal: 2010:01:08 16:45:17
- ExifImageHeight: 1024
- ExifImageWidth: 1536
- ExposureCompensation: -1/3
- ExposureMode: Auto
- ExposureProgram: Aperture-priority AE
- ExposureTime: 1/50
- FNumber: 4,0
- Flash: Off
- FocalLength: 55,0 mm
- ISO: 100
- MeteringMode: Multi-segment
- SceneCaptureType: Standard
- ShutterSpeedValue: 1/50
- WhiteBalance: Auto
- ICC-header
- ICC-meas
- ICC-view
- IFD0
- Artist: Yuras
- Make: Canon
- Model: Canon EOS 350D DIGITAL
- ModifyDate: 2010:01:09 16:36:08
- Orientation: Horizontal (normal)
- IFD1
- IPTC
- By-line: Yuras
- XMP-aux
- Firmware: 1.0.3
- FlashCompensation: 0
- ImageNumber: 65
- Lens: 55.0-250.0 mm
- LensID: 65535
- LensInfo: 55/1 250/1 0/0 0/0
- OwnerName: Yuras
- SerialNumber: 230102161
- XMP-crs
- AlreadyApplied: True
- BlueHue: +3
- BlueSaturation: -15
- Brightness: +50
- CameraProfile: Camera Faithful beta 1
- ChromaticAberrationB: 0
- ChromaticAberrationR: 0
- Clarity: +20
- ColorNoiseReduction: 25
- Contrast: +25
- ConvertToGrayscale: False
- Defringe: 0
- Exposure: +0.45
- FillLight: 0
- GreenHue: +5
- GreenSaturation: +5
- HasCrop: False
- HasSettings: True
- HighlightRecovery: 0
- HueAdjustmentAqua: 0
- HueAdjustmentBlue: 0
- HueAdjustmentGreen: 0
- HueAdjustmentMagenta: -25
- HueAdjustmentOrange: 0
- HueAdjustmentPurple: 0
- HueAdjustmentRed: 0
- HueAdjustmentYellow: +7
- LuminanceAdjustmentAqua: 0
- LuminanceAdjustmentBlue: 0
- LuminanceAdjustmentGreen: 0
- LuminanceAdjustmentMagenta: 0
- LuminanceAdjustmentOrange: 0
- LuminanceAdjustmentPurple: 0
- LuminanceAdjustmentRed: 0
- LuminanceAdjustmentYellow: -5
- LuminanceSmoothing: 0
- ParametricDarks: 0
- ParametricHighlightSplit: 75
- ParametricHighlights: 0
- ParametricLights: 0
- ParametricMidtoneSplit: 50
- ParametricShadowSplit: 25
- ParametricShadows: 0
- PostCropVignetteAmount: 0
- RawFileName: IMG_9281.CR2
- RedHue: 0
- RedSaturation: -5
- Saturation: 0
- SaturationAdjustmentAqua: 0
- SaturationAdjustmentBlue: 0
- SaturationAdjustmentGreen: 0
- SaturationAdjustmentMagenta: +25
- SaturationAdjustmentOrange: 0
- SaturationAdjustmentPurple: 0
- SaturationAdjustmentRed: 0
- SaturationAdjustmentYellow: +25
- ShadowTint: 0
- Shadows: 4
- SharpenDetail: 17
- SharpenEdgeMasking: 0
- SharpenRadius: +1.3
- Sharpness: 16
- SplitToningBalance: 0
- SplitToningHighlightHue: 0
- SplitToningHighlightSaturation: 0
- SplitToningShadowHue: 0
- SplitToningShadowSaturation: 0
- Temperature: 7150
- Tint: +5
- ToneCurve: 0, 0, 50, 39, 95, 91, 142, 145, 187, 192, 217, 221, 238, 238, 255, 255
- ToneCurveName: Custom
- Version: 5.6
- Vibrance: 0
- VignetteAmount: 0
- WhiteBalance: Custom
- XMP-dc
- Creator: Yuras
- Format: image/jpeg
- XMP-exif
- DateTimeDigitized: 2010:01:08 16:45:17+02:00
- DateTimeOriginal: 2010:01:08 16:45:17+02:00
- FlashFired: False
- FlashFunction: False
- FlashMode: Off
- FlashRedEyeMode: False
- FlashReturn: No return detection
- XMP-tiff
- XMP-xmp
- CreateDate: 2010:01:08 16:45:17+02:00
- ModifyDate: 2010:01:09 16:36:08+02:00
- Rating: 0
- XMP-xmpMM
Получить код для блога
| Вставка фотографии в текущем разрешении |
Вставка миниатюры |
HTML (для вставки в блог):
BBCode (для вставки в форум):
Ссылка на фото:
Ссылка на миниатюру:
- Послать ссылку другу
| Комментарии к фотографии |