- Раздел: Пейзаж
- Дата съёмки: 05.01.2009 13:28
- Дата загрузки фото: 22.01.2010 21:35
- Оригинальная фотография: 600 x 900 (231 Кб)
- Технические характеристики:
- Фотоаппарат: Canon EOS 350D DIGITAL
- Выдержка: 1/25
- Гиперфокальное расстояние: 4,56 m
- Диафрагма: 22,0
- Светочувствительность: 100
- Фокусное расстояние: 22,0 mm (35 mm equivalent: 137,1 mm)
- Полный EXIF
- Adobe
- ColorTransform: YCbCr
- Composite
- Aperture: 22,0
- CircleOfConfusion: 0,005 mm
- FOV: 14,0 deg
- FocalLength35efl: 22,0 mm (35 mm equivalent: 137,1 mm)
- HyperfocalDistance: 4,56 m
- ScaleFactor35efl: 6,2
- ShutterSpeed: 1/25
- ExifIFD
- ApertureValue: 22,0
- CreateDate: 2009:01:05 13:28:26
- CustomRendered: Normal
- DateTimeOriginal: 2009:01:05 13:28:26
- ExposureCompensation: 0
- ExposureMode: Auto
- ExposureProgram: Aperture-priority AE
- ExposureTime: 1/25
- FNumber: 22,0
- Flash: Off
- FocalLength: 22,0 mm
- ISO: 100
- MaxApertureValue: 3,5
- MeteringMode: Multi-segment
- SceneCaptureType: Standard
- ShutterSpeedValue: 1/25
- WhiteBalance: Auto
- ICC-header
- ICC-meas
- ICC-view
- IFD0
- Artist: unknown
- Make: Canon
- Model: Canon EOS 350D DIGITAL
- ModifyDate: 2010:01:22 20:32:00
- IFD1
- IPTC
- By-line: unknown
- Keywords: ÁåðäÿГГ±ГЄ, çèìà , ìîðå, ïåéçà æ
- XMP-aux
- Firmware: 1.0.3
- FlashCompensation: 0
- ImageNumber: 148
- Lens: 18.0-55.0 mm
- LensID: 65535
- LensInfo: 18/1 55/1 0/0 0/0
- OwnerName: unknown
- SerialNumber: 2930701221
- XMP-crs
- AlreadyApplied: True
- BlueHue: 0
- BlueSaturation: 0
- Brightness: +36
- CameraProfile: Camera Standard
- ChromaticAberrationB: 0
- ChromaticAberrationR: 0
- Clarity: -83
- ColorNoiseReduction: 25
- Contrast: +25
- ConvertToGrayscale: False
- CropAngle: 0
- CropBottom: 0.920679
- CropHeight: 600
- CropLeft: 0
- CropRight: 0.822418
- CropTop: 0.098262
- CropUnit: 0
- CropWidth: 900
- Defringe: 0
- Exposure: +0.19
- FillLight: 0
- GradientBasedCorrectionsCorrectionActive: true
- GradientBasedCorrectionsCorrectionAmount: 1.000000
- GradientBasedCorrectionsCorrectionMasksFullX: 0.001887
- GradientBasedCorrectionsCorrectionMasksFullY: 0.498584
- GradientBasedCorrectionsCorrectionMasksMaskValue: 1.000000
- GradientBasedCorrectionsCorrectionMasksWhat: Mask/Gradient
- GradientBasedCorrectionsCorrectionMasksZeroX: 0.605660
- GradientBasedCorrectionsCorrectionMasksZeroY: 0.492918
- GradientBasedCorrectionsLocalBrightness: -0.225000
- GradientBasedCorrectionsLocalClarity: 0.000000
- GradientBasedCorrectionsLocalContrast: 0.000000
- GradientBasedCorrectionsLocalExposure: -0.025000
- GradientBasedCorrectionsLocalSaturation: 0.325000
- GradientBasedCorrectionsLocalSharpness: 0.000000
- GradientBasedCorrectionsLocalToningHue: 322.000000
- GradientBasedCorrectionsLocalToningSaturation: 0.390000
- GradientBasedCorrectionsWhat: Correction
- GreenHue: 0
- GreenSaturation: 0
- HasCrop: True
- HasSettings: True
- HighlightRecovery: 8
- HueAdjustmentAqua: 0
- HueAdjustmentBlue: 0
- HueAdjustmentGreen: 0
- HueAdjustmentMagenta: 0
- HueAdjustmentOrange: 0
- HueAdjustmentPurple: 0
- HueAdjustmentRed: 0
- HueAdjustmentYellow: 0
- LuminanceAdjustmentAqua: 0
- LuminanceAdjustmentBlue: -21
- LuminanceAdjustmentGreen: +24
- LuminanceAdjustmentMagenta: 0
- LuminanceAdjustmentOrange: +50
- LuminanceAdjustmentPurple: -100
- LuminanceAdjustmentRed: 0
- LuminanceAdjustmentYellow: +9
- LuminanceSmoothing: 46
- ParametricDarks: +5
- ParametricHighlightSplit: 75
- ParametricHighlights: -100
- ParametricLights: +43
- ParametricMidtoneSplit: 50
- ParametricShadowSplit: 25
- ParametricShadows: +57
- PostCropVignetteAmount: 0
- RedHue: 0
- RedSaturation: 0
- Saturation: 0
- SaturationAdjustmentAqua: 0
- SaturationAdjustmentBlue: 0
- SaturationAdjustmentGreen: 0
- SaturationAdjustmentMagenta: 0
- SaturationAdjustmentOrange: 0
- SaturationAdjustmentPurple: +50
- SaturationAdjustmentRed: 0
- SaturationAdjustmentYellow: 0
- ShadowTint: 0
- Shadows: 7
- SharpenDetail: 38
- SharpenEdgeMasking: 0
- SharpenRadius: +1.0
- Sharpness: 36
- SplitToningBalance: 0
- SplitToningHighlightHue: 0
- SplitToningHighlightSaturation: 0
- SplitToningShadowHue: 0
- SplitToningShadowSaturation: 0
- Temperature: 5650
- Tint: +16
- ToneCurve: 0, 0, 32, 22, 64, 56, 128, 128, 192, 196, 255, 255
- ToneCurveName: Medium Contrast
- Version: 5.6
- Vibrance: +19
- VignetteAmount: 0
- WhiteBalance: As Shot
- XMP-dc
- Creator: unknown
- Subject: Бердянск, зима, море, пейзаж
- XMP-exif
- DateTimeDigitized: 2009:01:05 13:28:26+02:00
- DateTimeOriginal: 2009:01:05 13:28:26+02:00
- ExifImageHeight: 900
- ExifImageWidth: 600
- FlashFired: False
- FlashFunction: False
- FlashMode: Off
- FlashRedEyeMode: False
- FlashReturn: No return detection
- XMP-tiff
- ImageHeight: 900
- ImageWidth: 600
- XMP-xmp
- CreateDate: 2009:01:05 13:28:26+02:00
- ModifyDate: 2010:01:22 20:32:00+02:00
- Просмотров: 144
- Рейтинг: голосов еще нет
- Отзывов: 0