- Раздел: Другое, разное
- Дата съёмки: 25.07.2006 19:40
- Дата загрузки фото: 02.02.2010 17:11
- Оригинальная фотография: 1680 x 1260 (666 Кб)
- Технические характеристики:
- Фотоаппарат: Canon PowerShot A75
- Выдержка: 1/60
- Гиперфокальное расстояние: 6,98 m
- Диафрагма: 4,0
- Фокусное расстояние: 11,3 mm (35 mm equivalent: 74,1 mm)
- Полный EXIF
- Composite
- Aperture: 4,0
- CircleOfConfusion: 0,005 mm
- FOV: 27,0 deg
- FocalLength35efl: 11,3 mm (35 mm equivalent: 74,1 mm)
- HyperfocalDistance: 6,98 m
- ScaleFactor35efl: 6,6
- ShutterSpeed: 1/60
- ExifIFD
- ApertureValue: 4,0
- CreateDate: 2006:07:25 19:40:59
- CustomRendered: Normal
- DateTimeOriginal: 2006:07:25 19:40:59
- DigitalZoomRatio: 1
- ExifImageHeight: 1260
- ExifImageWidth: 1680
- ExposureCompensation: 0
- ExposureMode: Auto
- ExposureTime: 1/60
- FNumber: 4,0
- Flash: Auto, Fired, Red-eye reduction
- FocalLength: 11,3 mm
- MaxApertureValue: 4,0
- MeteringMode: Multi-segment
- SceneCaptureType: Portrait
- SensingMethod: One-chip color area
- ShutterSpeedValue: 1/60
- WhiteBalance: Auto
- ICC-header
- ICC-meas
- ICC-view
- IFD0
- Make: Canon
- Model: Canon PowerShot A75
- ModifyDate: 2010:02:02 15:19:30
- Orientation: Horizontal (normal)
- Software: ACD Systems Digital Imaging
- IFD1
- XMP-aux
- Firmware: 1.00
- FlashCompensation: 0
- Lens: 5.4-16.2 mm
- LensInfo: 173/32 519/32 0/0 0/0
- XMP-crs
- AlreadyApplied: True
- BlueHue: 0
- BlueSaturation: 0
- Brightness: 0
- CameraProfile: Embedded
- ChromaticAberrationB: 0
- ChromaticAberrationR: 0
- Clarity: 0
- ColorNoiseReduction: 0
- Contrast: 0
- ConvertToGrayscale: False
- Defringe: 0
- Exposure: 0.00
- FillLight: 0
- GreenHue: 0
- GreenSaturation: 0
- HasCrop: False
- HasSettings: True
- HighlightRecovery: 0
- HueAdjustmentAqua: 0
- HueAdjustmentBlue: 0
- HueAdjustmentGreen: 0
- HueAdjustmentMagenta: 0
- HueAdjustmentOrange: 0
- HueAdjustmentPurple: 0
- HueAdjustmentRed: 0
- HueAdjustmentYellow: 0
- IncrementalTemperature: 0
- IncrementalTint: 0
- LuminanceAdjustmentAqua: 0
- LuminanceAdjustmentBlue: 0
- LuminanceAdjustmentGreen: 0
- LuminanceAdjustmentMagenta: 0
- LuminanceAdjustmentOrange: 0
- LuminanceAdjustmentPurple: 0
- LuminanceAdjustmentRed: 0
- LuminanceAdjustmentYellow: 0
- LuminanceSmoothing: 0
- ParametricDarks: 0
- ParametricHighlightSplit: 75
- ParametricHighlights: 0
- ParametricLights: 0
- ParametricMidtoneSplit: 50
- ParametricShadowSplit: 25
- ParametricShadows: 0
- PostCropVignetteAmount: 0
- RedHue: 0
- RedSaturation: 0
- Saturation: 0
- SaturationAdjustmentAqua: 0
- SaturationAdjustmentBlue: 0
- SaturationAdjustmentGreen: 0
- SaturationAdjustmentMagenta: 0
- SaturationAdjustmentOrange: 0
- SaturationAdjustmentPurple: 0
- SaturationAdjustmentRed: 0
- SaturationAdjustmentYellow: 0
- ShadowTint: 0
- Shadows: 0
- SharpenDetail: 25
- SharpenEdgeMasking: 0
- SharpenRadius: +1.0
- Sharpness: 0
- SplitToningBalance: 0
- SplitToningHighlightHue: 0
- SplitToningHighlightSaturation: 0
- SplitToningShadowHue: 0
- SplitToningShadowSaturation: 0
- ToneCurve: 0, 0, 255, 255
- ToneCurveName: Linear
- Version: 5.4
- Vibrance: +20
- VignetteAmount: 0
- WhiteBalance: As Shot
- XMP-exif
- DateTimeDigitized: 2006:07:25 19:40:59+04:00
- DateTimeOriginal: 2006:07:25 19:40:59+04:00
- ExifImageHeight: 1536
- ExifImageWidth: 2048
- FlashFired: True
- FlashFunction: False
- FlashMode: Auto
- FlashRedEyeMode: True
- FlashReturn: No return detection
- XMP-tiff
- ImageHeight: 1536
- ImageWidth: 2048
- XMP-xmp
- CreateDate: 2006:07:25 19:40:59+04:00
- ModifyDate: 2010:02:02 14:54:51+03:00
- Просмотров: 131
- Рейтинг: голосов еще нет
- Отзывов: 0