- Раздел: Пейзаж
- Дата съёмки: 03.02.2010 18:59
- Дата загрузки фото: 05.02.2010 22:36
- Оригинальная фотография: 3025 x 4536 (2,2 Мб)
- Технические характеристики:
- Фотоаппарат: Canon EOS 50D
- Выдержка: 10,0
- Гиперфокальное расстояние: 16,57 m
- Диафрагма: 5,6
- Светочувствительность: 160
- Фокусное расстояние: 41,0 mm (35 mm equivalent: 68,0 mm)
- Полный EXIF
- Adobe
- ColorTransform: YCbCr
- Composite
- Aperture: 5,6
- CircleOfConfusion: 0,018 mm
- FOV: 29,0 deg
- FocalLength35efl: 41,0 mm (35 mm equivalent: 68,0 mm)
- HyperfocalDistance: 16,57 m
- LightValue: 0,6
- ScaleFactor35efl: 1,7
- ShutterSpeed: 10,0
- ExifIFD
- ApertureValue: 5,6
- CreateDate: 2010:02:03 18:59:52
- CustomRendered: Normal
- DateTimeOriginal: 2010:02:03 18:59:52
- ExposureCompensation: 0
- ExposureMode: Auto
- ExposureProgram: Shutter speed priority AE
- ExposureTime: 10,0
- FNumber: 5,6
- Flash: Off
- FocalLength: 41,0 mm
- ISO: 160
- MaxApertureValue: 5,2
- MeteringMode: Multi-segment
- SceneCaptureType: Standard
- ShutterSpeedValue: 10,0
- SubjectDistance: 4294967295 m
- WhiteBalance: Auto
- ICC-header
- ICC-meas
- ICC-view
- IFD0
- Artist: Photographer:LAVRADAR
- Copyright: Copyright:LAVRADAR
- Make: Canon
- Model: Canon EOS 50D
- ModifyDate: 2010:02:05 23:06:40
- IFD1
- IPTC
- By-line: Photographer:LAVRADAR
- CopyrightNotice: Copyright:LAVRADAR
- XMP-aux
- Firmware: 1.0.7
- FlashCompensation: 0
- ImageNumber: 0
- Lens: EF-S17-85mm f/4-5.6 IS USM
- LensID: 234
- LensInfo: 17/1 85/1 0/0 0/0
- OwnerName: LAVRADAR
- SerialNumber: 530350979
- XMP-crs
- AlreadyApplied: True
- BlueHue: 0
- BlueSaturation: 0
- Brightness: +80
- ChromaticAberrationB: 0
- ChromaticAberrationR: 0
- Clarity: +100
- ColorNoiseReduction: 25
- ColorNoiseReductionDetail: 50
- Contrast: +100
- ConvertToGrayscale: False
- CropAngle: 1.83366
- CropBottom: 1
- CropHeight: 3025
- CropLeft: 0.033093
- CropRight: 0.966907
- CropTop: 0
- CropUnit: 0
- CropWidth: 4536
- Defringe: 0
- Exposure: 0.00
- FillLight: 0
- GrainAmount: 0
- GreenHue: 0
- GreenSaturation: 0
- HasCrop: True
- HasSettings: True
- HighlightRecovery: 8
- HueAdjustmentAqua: 0
- HueAdjustmentBlue: 0
- HueAdjustmentGreen: 0
- HueAdjustmentMagenta: 0
- HueAdjustmentOrange: 0
- HueAdjustmentPurple: 0
- HueAdjustmentRed: 0
- HueAdjustmentYellow: 0
- LuminanceAdjustmentAqua: 0
- LuminanceAdjustmentBlue: 0
- LuminanceAdjustmentGreen: 0
- LuminanceAdjustmentMagenta: 0
- LuminanceAdjustmentOrange: 0
- LuminanceAdjustmentPurple: 0
- LuminanceAdjustmentRed: 0
- LuminanceAdjustmentYellow: 0
- NoiseReductionContrast: 0
- ParametricDarks: 0
- ParametricHighlightSplit: 75
- ParametricHighlights: 0
- ParametricLights: 0
- ParametricMidtoneSplit: 50
- ParametricShadowSplit: 25
- ParametricShadows: 0
- PostCropVignetteAmount: 0
- RedHue: 0
- RedSaturation: 0
- RenderVersion: 5.7
- Saturation: 0
- SaturationAdjustmentAqua: 0
- SaturationAdjustmentBlue: 0
- SaturationAdjustmentGreen: 0
- SaturationAdjustmentMagenta: 0
- SaturationAdjustmentOrange: 0
- SaturationAdjustmentPurple: 0
- SaturationAdjustmentRed: 0
- SaturationAdjustmentYellow: 0
- ShadowTint: 0
- Shadows: 2
- SharpenDetail: 25
- SharpenEdgeMasking: 0
- SharpenRadius: +1.0
- Sharpness: 25
- SplitToningBalance: 0
- SplitToningHighlightHue: 0
- SplitToningHighlightSaturation: 0
- SplitToningShadowHue: 0
- SplitToningShadowSaturation: 0
- Temperature: 3950
- Tint: +9
- ToneCurve: 0, 0, 32, 22, 64, 56, 128, 128, 192, 196, 255, 255
- ToneCurveName: Medium Contrast
- Version: 6.0
- Vibrance: 0
- VignetteAmount: 0
- WhiteBalance: As Shot
- XMP-dc
- Creator: Photographer:LAVRADAR
- Rights: Copyright:LAVRADAR
- XMP-exif
- DateTimeDigitized: 2010:02:03 18:59:52.29+04:00
- DateTimeOriginal: 2010:02:03 18:59:52.29+04:00
- ExifImageHeight: 4536
- ExifImageWidth: 3025
- FlashFired: False
- FlashFunction: False
- FlashMode: Off
- FlashRedEyeMode: False
- FlashReturn: No return detection
- XMP-tiff
- ImageHeight: 4536
- ImageWidth: 3025
- XMP-xmp
- CreateDate: 2010:02:03 18:59:52.29+04:00
- ModifyDate: 2010:02:05 23:06:40+04:00
- Просмотров: 346
- Рейтинг: голосов еще нет
- Отзывов: 0