Уважаемые друзья и участники проекта iXBT.photo! К сожалению, 1 марта 2026 года проект iXBT.photo прекратит свою работу и будет закрыт. Мы высоко ценим ваше участие и тот вклад, который вы внесли в развитие нашего сообщества. Пожалуйста, не забудьте сохранить ваши фотографии до этой даты.
С уважением, команда iXBT.com
| IMG_0352.jpg |
IMG_0352.jpg
- Раздел: Другое, разное
- Дата съёмки: 18.06.2005 16:08
- Дата загрузки фото: 10.02.2010 16:21
- Оригинальная фотография: 1400 x 1050 (852 Кб)
- Технические характеристики:
- Фотоаппарат: Canon PowerShot A75
- Выдержка: 1/800
- Гиперфокальное расстояние: 2,28 m
- Диафрагма: 2,8
- Фокусное расстояние: 5,4 mm (35 mm equivalent: 35,4 mm)
- Полный EXIF
- Composite
- Aperture: 2,8
- CircleOfConfusion: 0,005 mm
- FOV: 53,0 deg
- FocalLength35efl: 5,4 mm (35 mm equivalent: 35,4 mm)
- HyperfocalDistance: 2,28 m
- ScaleFactor35efl: 6,6
- ShutterSpeed: 1/800
- ExifIFD
- ApertureValue: 2,8
- CreateDate: 2005:06:18 16:08:32
- CustomRendered: Normal
- DateTimeOriginal: 2005:06:18 16:08:32
- DigitalZoomRatio: 1
- ExifImageHeight: 1050
- ExifImageWidth: 1400
- ExposureCompensation: 0
- ExposureMode: Auto
- ExposureTime: 1/800
- FNumber: 2,8
- Flash: Auto, Did not fire
- FocalLength: 5,4 mm
- MaxApertureValue: 2,8
- MeteringMode: Multi-segment
- SceneCaptureType: Standard
- SensingMethod: One-chip color area
- ShutterSpeedValue: 1/800
- WhiteBalance: Auto
- ICC-header
- ICC-meas
- ICC-view
- IFD0
- Make: Canon
- Model: Canon PowerShot A75
- ModifyDate: 2010:02:10 16:04:49
- Orientation: Horizontal (normal)
- Software: ACD Systems Digital Imaging
- IFD1
- XMP-aux
- Firmware: 1.00
- FlashCompensation: 0
- Lens: 5.4-16.2 mm
- LensInfo: 173/32 519/32 0/0 0/0
- XMP-crs
- AlreadyApplied: True
- BlueHue: 0
- BlueSaturation: 0
- Brightness: 0
- CameraProfile: Embedded
- ChromaticAberrationB: 0
- ChromaticAberrationR: 0
- Clarity: 0
- ColorNoiseReduction: 0
- Contrast: 0
- ConvertToGrayscale: False
- Defringe: 0
- Exposure: 0.00
- FillLight: 0
- GreenHue: 0
- GreenSaturation: 0
- HasCrop: False
- HasSettings: True
- HighlightRecovery: 78
- HueAdjustmentAqua: 0
- HueAdjustmentBlue: 0
- HueAdjustmentGreen: 0
- HueAdjustmentMagenta: 0
- HueAdjustmentOrange: 0
- HueAdjustmentPurple: 0
- HueAdjustmentRed: 0
- HueAdjustmentYellow: 0
- IncrementalTemperature: 0
- IncrementalTint: 0
- LuminanceAdjustmentAqua: 0
- LuminanceAdjustmentBlue: 0
- LuminanceAdjustmentGreen: 0
- LuminanceAdjustmentMagenta: 0
- LuminanceAdjustmentOrange: 0
- LuminanceAdjustmentPurple: 0
- LuminanceAdjustmentRed: 0
- LuminanceAdjustmentYellow: 0
- LuminanceSmoothing: 0
- ParametricDarks: 0
- ParametricHighlightSplit: 75
- ParametricHighlights: 0
- ParametricLights: 0
- ParametricMidtoneSplit: 50
- ParametricShadowSplit: 25
- ParametricShadows: 0
- PostCropVignetteAmount: 0
- RedHue: 0
- RedSaturation: 0
- Saturation: +10
- SaturationAdjustmentAqua: 0
- SaturationAdjustmentBlue: 0
- SaturationAdjustmentGreen: 0
- SaturationAdjustmentMagenta: 0
- SaturationAdjustmentOrange: 0
- SaturationAdjustmentPurple: 0
- SaturationAdjustmentRed: 0
- SaturationAdjustmentYellow: 0
- ShadowTint: 0
- Shadows: 0
- SharpenDetail: 25
- SharpenEdgeMasking: 0
- SharpenRadius: +1.0
- Sharpness: 0
- SplitToningBalance: 0
- SplitToningHighlightHue: 0
- SplitToningHighlightSaturation: 0
- SplitToningShadowHue: 0
- SplitToningShadowSaturation: 0
- ToneCurve: 0, 0, 255, 255
- ToneCurveName: Linear
- Version: 5.4
- Vibrance: 0
- VignetteAmount: 0
- WhiteBalance: As Shot
- XMP-exif
- DateTimeDigitized: 2005:06:18 16:08:32+04:00
- DateTimeOriginal: 2005:06:18 16:08:32+04:00
- ExifImageHeight: 1200
- ExifImageWidth: 1600
- FlashFired: False
- FlashFunction: False
- FlashMode: Auto
- FlashRedEyeMode: False
- FlashReturn: No return detection
- XMP-tiff
- ImageHeight: 1200
- ImageWidth: 1600
- XMP-xmp
- CreateDate: 2005:06:18 16:08:32+04:00
- ModifyDate: 2010:02:10 09:28:36+03:00
- Просмотров: 327
- Рейтинг: голосов еще нет
- Отзывов: 0
Получить код для блога
| Вставка фотографии в текущем разрешении |
Вставка миниатюры |
HTML (для вставки в блог):
BBCode (для вставки в форум):
Ссылка на фото:
Ссылка на миниатюру:
- Послать ссылку другу
| Комментарии к фотографии |