Уважаемые друзья и участники проекта iXBT.photo! К сожалению, 1 марта 2026 года проект iXBT.photo прекратит свою работу и будет закрыт. Мы высоко ценим ваше участие и тот вклад, который вы внесли в развитие нашего сообщества. Пожалуйста, не забудьте сохранить ваши фотографии до этой даты.
С уважением, команда iXBT.com
| IMG_0366.jpg |
IMG_0366.jpg
- Раздел: Другое, разное
- Дата съёмки: 18.06.2005 16:35
- Дата загрузки фото: 10.02.2010 16:26
- Оригинальная фотография: 919 x 1200 (422 Кб)
- Технические характеристики:
- Фотоаппарат: Canon PowerShot A75
- Выдержка: 1/60
- Гиперфокальное расстояние: 3,03 m
- Диафрагма: 3,2
- Фокусное расстояние: 6,6 mm (35 mm equivalent: 44,2 mm)
- Полный EXIF
- Composite
- Aperture: 3,2
- CircleOfConfusion: 0,004 mm
- FOV: 44,0 deg
- FocalLength35efl: 6,6 mm (35 mm equivalent: 44,2 mm)
- HyperfocalDistance: 3,03 m
- ScaleFactor35efl: 6,7
- ShutterSpeed: 1/60
- ExifIFD
- ApertureValue: 3,2
- CreateDate: 2005:06:18 16:35:51
- CustomRendered: Normal
- DateTimeOriginal: 2005:06:18 16:35:51
- DigitalZoomRatio: 1
- ExifImageHeight: 1200
- ExifImageWidth: 919
- ExposureCompensation: 0
- ExposureMode: Auto
- ExposureTime: 1/60
- FNumber: 3,2
- Flash: Auto, Fired, Red-eye reduction
- FocalLength: 6,6 mm
- MaxApertureValue: 3,2
- MeteringMode: Multi-segment
- SceneCaptureType: Standard
- SensingMethod: One-chip color area
- ShutterSpeedValue: 1/60
- WhiteBalance: Auto
- ICC-header
- ICC-meas
- ICC-view
- IFD0
- Make: Canon
- Model: Canon PowerShot A75
- ModifyDate: 2010:02:10 16:06:42
- Orientation: Horizontal (normal)
- Software: ACD Systems Digital Imaging
- IFD1
- XMP-aux
- Firmware: 1.00
- FlashCompensation: 0
- Lens: 5.4-16.2 mm
- LensInfo: 173/32 519/32 0/0 0/0
- XMP-crs
- AlreadyApplied: True
- BlueHue: 0
- BlueSaturation: 0
- Brightness: 0
- CameraProfile: Embedded
- ChromaticAberrationB: 0
- ChromaticAberrationR: 0
- Clarity: +34
- ColorNoiseReduction: 54
- Contrast: 0
- ConvertToGrayscale: False
- CropAngle: 0
- CropBottom: 0.988187
- CropHeight: 1172
- CropLeft: 0.011812
- CropRight: 0.988188
- CropTop: 0.011813
- CropUnit: 0
- CropWidth: 1562
- Defringe: 0
- Exposure: 0.00
- FillLight: 0
- GreenHue: 0
- GreenSaturation: 0
- HasCrop: True
- HasSettings: True
- HighlightRecovery: 0
- HueAdjustmentAqua: 0
- HueAdjustmentBlue: 0
- HueAdjustmentGreen: 0
- HueAdjustmentMagenta: 0
- HueAdjustmentOrange: 0
- HueAdjustmentPurple: 0
- HueAdjustmentRed: 0
- HueAdjustmentYellow: 0
- IncrementalTemperature: 0
- IncrementalTint: 0
- LuminanceAdjustmentAqua: 0
- LuminanceAdjustmentBlue: 0
- LuminanceAdjustmentGreen: 0
- LuminanceAdjustmentMagenta: 0
- LuminanceAdjustmentOrange: 0
- LuminanceAdjustmentPurple: 0
- LuminanceAdjustmentRed: 0
- LuminanceAdjustmentYellow: 0
- LuminanceSmoothing: 55
- ParametricDarks: 0
- ParametricHighlightSplit: 75
- ParametricHighlights: 0
- ParametricLights: 0
- ParametricMidtoneSplit: 50
- ParametricShadowSplit: 25
- ParametricShadows: 0
- PostCropVignetteAmount: 0
- RedHue: 0
- RedSaturation: 0
- Saturation: 0
- SaturationAdjustmentAqua: 0
- SaturationAdjustmentBlue: 0
- SaturationAdjustmentGreen: 0
- SaturationAdjustmentMagenta: 0
- SaturationAdjustmentOrange: 0
- SaturationAdjustmentPurple: 0
- SaturationAdjustmentRed: 0
- SaturationAdjustmentYellow: 0
- ShadowTint: 0
- Shadows: 0
- SharpenDetail: 25
- SharpenEdgeMasking: 0
- SharpenRadius: +1.0
- Sharpness: 0
- SplitToningBalance: 0
- SplitToningHighlightHue: 0
- SplitToningHighlightSaturation: 0
- SplitToningShadowHue: 0
- SplitToningShadowSaturation: 0
- ToneCurve: 0, 0, 255, 255
- ToneCurveName: Linear
- Version: 5.4
- Vibrance: +34
- VignetteAmount: 0
- WhiteBalance: As Shot
- XMP-exif
- DateTimeDigitized: 2005:06:18 16:35:51+04:00
- DateTimeOriginal: 2005:06:18 16:35:51+04:00
- ExifImageHeight: 1172
- ExifImageWidth: 1562
- FlashFired: True
- FlashFunction: False
- FlashMode: Auto
- FlashRedEyeMode: True
- FlashReturn: No return detection
- XMP-tiff
- ImageHeight: 1172
- ImageWidth: 1562
- XMP-xmp
- CreateDate: 2005:06:18 16:35:51+04:00
- ModifyDate: 2010:02:10 09:22:02+03:00
- Просмотров: 395
- Рейтинг: голосов еще нет
- Отзывов: 0
Получить код для блога
| Вставка фотографии в текущем разрешении |
Вставка миниатюры |
HTML (для вставки в блог):
BBCode (для вставки в форум):
Ссылка на фото:
Ссылка на миниатюру:
- Послать ссылку другу
| Комментарии к фотографии |