Уважаемые друзья и участники проекта iXBT.photo! К сожалению, 1 марта 2026 года проект iXBT.photo прекратит свою работу и будет закрыт. Мы высоко ценим ваше участие и тот вклад, который вы внесли в развитие нашего сообщества. Пожалуйста, не забудьте сохранить ваши фотографии до этой даты.
С уважением, команда iXBT.com
| *** |
***
- Раздел: Животные
- Дата съёмки: 22.02.2010 13:56
- Дата загрузки фото: 23.02.2010 01:02
- Оригинальная фотография: 1800 x 1200 (728 Кб)
- Технические характеристики:
- Фотоаппарат: Nikon D90
- Выдержка: 1/100
- Гиперфокальное расстояние: inf m
- Диафрагма: 5,6
- Светочувствительность:
- Фокусное расстояние: 280,0 mm (35 mm equivalent: 280,0 mm)
- Полный EXIF
- Composite
- Aperture: 5,6
- CircleOfConfusion: 0,020 mm
- FOV: 7,0 deg
- FocalLength35efl: 280,0 mm (35 mm equivalent: 280,0 mm)
- HyperfocalDistance: inf m
- ScaleFactor35efl: 1,5
- ShutterSpeed: 1/100
- ExifIFD
- ApertureValue: 5,6
- CFAPattern: [Green,Blue][Red,Green]
- ColorSpace: sRGB
- Contrast: Normal
- CreateDate: 2010:02:22 13:56:21
- CustomRendered: Normal
- DateTimeOriginal: 2010:02:22 13:56:21
- DigitalZoomRatio: 1
- ExifImageHeight: 1200
- ExifImageWidth: 1800
- ExposureCompensation: 0
- ExposureMode: Auto
- ExposureProgram: Aperture-priority AE
- ExposureTime: 1/100
- FNumber: 5,6
- Flash: No Flash
- FocalLength: 280,0 mm
- FocalLengthIn35mmFormat: 420 mm
- GainControl: None
- ISO:
- LightSource: Cloudy
- MaxApertureValue: 5,7
- MeteringMode: Spot
- Saturation: Normal
- SceneCaptureType: Standard
- SceneType: Directly photographed
- SensingMethod: One-chip color area
- Sharpness: Normal
- ShutterSpeedValue: 1/100
- SubjectDistanceRange: Unknown
- WhiteBalance: Manual
- ICC-header
- ICC-meas
- ICC-view
- IFD0
- Make: NIKON CORPORATION
- Model: NIKON D90
- ModifyDate: 2010:02:23 00:46:23
- Orientation: Horizontal (normal)
- Software: ACD Systems Digital Imaging
- IFD1
- IPTC
- System
- XMP-aux
- ImageNumber: 840
- Lens: 70.0-300.0 mm f/4.5-5.6
- LensInfo: 700/10 3000/10 45/10 56/10
- SerialNumber: 6331963
- XMP-crs
- AlreadyApplied: True
- BlueHue: 0
- BlueSaturation: 0
- Brightness: +33
- CameraProfile: ACR 4.6
- ChromaticAberrationB: 0
- ChromaticAberrationR: 0
- Clarity: +68
- ColorNoiseReduction: 25
- Contrast: +40
- ConvertToGrayscale: False
- Defringe: 0
- Exposure: 0.00
- FillLight: 53
- GreenHue: 0
- GreenSaturation: 0
- HasCrop: False
- HasSettings: True
- HighlightRecovery: 0
- HueAdjustmentAqua: 0
- HueAdjustmentBlue: 0
- HueAdjustmentGreen: 0
- HueAdjustmentMagenta: 0
- HueAdjustmentOrange: 0
- HueAdjustmentPurple: 0
- HueAdjustmentRed: 0
- HueAdjustmentYellow: 0
- LuminanceAdjustmentAqua: 0
- LuminanceAdjustmentBlue: 0
- LuminanceAdjustmentGreen: 0
- LuminanceAdjustmentMagenta: 0
- LuminanceAdjustmentOrange: 0
- LuminanceAdjustmentPurple: 0
- LuminanceAdjustmentRed: 0
- LuminanceAdjustmentYellow: 0
- LuminanceSmoothing: 0
- ParametricDarks: -20
- ParametricHighlightSplit: 75
- ParametricHighlights: +6
- ParametricLights: -31
- ParametricMidtoneSplit: 50
- ParametricShadowSplit: 22
- ParametricShadows: -100
- PostCropVignetteAmount: 0
- RawFileName: DSC_0750.NEF
- RedHue: 0
- RedSaturation: 0
- Saturation: 0
- SaturationAdjustmentAqua: 0
- SaturationAdjustmentBlue: 0
- SaturationAdjustmentGreen: 0
- SaturationAdjustmentMagenta: 0
- SaturationAdjustmentOrange: 0
- SaturationAdjustmentPurple: 0
- SaturationAdjustmentRed: 0
- SaturationAdjustmentYellow: 0
- ShadowTint: 0
- Shadows: 34
- SharpenDetail: 25
- SharpenEdgeMasking: 0
- SharpenRadius: +1.0
- Sharpness: 25
- SplitToningBalance: 0
- SplitToningHighlightHue: 0
- SplitToningHighlightSaturation: 0
- SplitToningShadowHue: 0
- SplitToningShadowSaturation: 0
- Temperature: 5400
- Tint: -14
- ToneCurve: 0, 0, 24, 19, 73, 51, 128, 128, 193, 210, 255, 255
- ToneCurveName: Custom
- Version: 4.6
- Vibrance: 0
- VignetteAmount: 0
- WhiteBalance: Custom
- XMP-dc
- XMP-exif
- DateTimeDigitized: 2010:02:22 13:56:210Z
- DateTimeOriginal: 2010:02:22 13:56:210Z
- FlashFired: False
- FlashFunction: False
- FlashMode: Unknown
- FlashRedEyeMode: False
- FlashReturn: No return detection
- FocalLengthIn35mmFormat: 420
- XMP-tiff
- XMP-x
- XMP-xmp
- CreateDate: 2010:02:23 00:09:04+03:00
- ModifyDate: 2010:02:22 21:09:040Z
- Rating: 0
- XMP-xmpMM
- DerivedFrom:
- Просмотров: 321
- Рейтинг: голосов еще нет
- Отзывов: 0
Получить код для блога
| Вставка фотографии в текущем разрешении |
Вставка миниатюры |
HTML (для вставки в блог):
BBCode (для вставки в форум):
Ссылка на фото:
Ссылка на миниатюру:
- Послать ссылку другу
| Комментарии к фотографии |