- Раздел: Активный отдых, туризм
- Дата съёмки: 29.01.2007 15:00
- Дата загрузки фото: 02.02.2007 12:41
- Оригинальная фотография: 980 x 609 ( 94 Кб)
- Технические характеристики:
- Фотоаппарат: Canon EOS 5D
- Выдержка: 1/160
- Гиперфокальное расстояние: 10,93 m
- Диафрагма: 8,0
- Светочувствительность: 320
- Фокусное расстояние: 24,0mm (35mm эквивалент: 109,4mm)
- Экспокоррекция: -2/3
- Полный EXIF
- ColorTransform: YCbCr
- Composite
- Aperture: 8,0
- CircleOfConfusion: 0,007 mm
- EV: 11,6
- FocalLength35efl: 24,0mm (35mm equivalent: 109,4mm)
- HyperfocalDistance: 10,93 m
- ScaleFactor35efl: 4,6
- ShutterSpeed: 1/160
- ExifIFD
- ApertureValue: 8,0
- ColorSpace: sRGB
- CreateDate: 2007:01:28 17:42:52
- CustomRendered: Normal
- DateTimeOriginal: 2007:01:28 17:42:52
- ExifImageLength: 609
- ExifImageWidth: 980
- ExposureCompensation: -2/3
- ExposureMode: Auto
- ExposureProgram: Aperture-priority AE
- ExposureTime: 1/160
- FNumber: 8,0
- Flash: Off
- FocalLength: 24,0mm
- ISO: 320
- MaxApertureValue: 2,8
- MeteringMode: Unknown (0)
- SceneCaptureType: Standard
- ShutterSpeedValue: 1/160
- WhiteBalance: Auto
- ICC-header
- ICC-meas
- ICC-view
- IFD0
- Artist: badnight
- Make: Canon
- Model: Canon EOS 5D
- ModifyDate: 2007:01:29 15:00:42
- Orientation: Horizontal (normal)
- IFD1
- IPTC
- By-line: badnight
- XMP-aux
- Firmware: 1.0.5
- FlashCompensation: 0
- ImageNumber: 1
- Lens: EF24-70mm f/2.8L USM
- LensInfo: 24
- OwnerName: badnight
- SerialNumber: 1130701913
- XMP-crs
- AlreadyApplied: True
- AutoGrayscaleWeights: True
- BlueHue: 0
- BlueSaturation: 0
- Brightness: +35
- CameraProfile: ACR 3.3
- ChromaticAberrationB: 0
- ChromaticAberrationR: 0
- ColorNoiseReduction: 25
- Contrast: +70
- ConvertToGrayscale: False
- Exposure: +0.15
- FillLight: 44
- GreenHue: 0
- GreenSaturation: 0
- HasCrop: False
- HasSettings: True
- HighlightRecovery: 0
- HueAdjustmentAqua: 0
- HueAdjustmentBlue: 0
- HueAdjustmentGreen: 0
- HueAdjustmentMagenta: 0
- HueAdjustmentOrange: 0
- HueAdjustmentPurple: 0
- HueAdjustmentRed: 0
- HueAdjustmentYellow: 0
- LuminanceAdjustmentAqua: 0
- LuminanceAdjustmentBlue: 0
- LuminanceAdjustmentGreen: 0
- LuminanceAdjustmentMagenta: 0
- LuminanceAdjustmentOrange: 0
- LuminanceAdjustmentPurple: 0
- LuminanceAdjustmentRed: 0
- LuminanceAdjustmentYellow: 0
- LuminanceSmoothing: 0
- ParametricDarks: 0
- ParametricHighlightSplit: 75
- ParametricHighlights: 0
- ParametricLights: 0
- ParametricMidtoneSplit: 50
- ParametricShadowSplit: 25
- ParametricShadows: 0
- RawFileName: IMG_8607.CR2
- RedHue: 0
- RedSaturation: 0
- Saturation: 0
- SaturationAdjustmentAqua: 0
- SaturationAdjustmentBlue: 0
- SaturationAdjustmentGreen: 0
- SaturationAdjustmentMagenta: 0
- SaturationAdjustmentOrange: 0
- SaturationAdjustmentPurple: 0
- SaturationAdjustmentRed: 0
- SaturationAdjustmentYellow: 0
- ShadowTint: 0
- Shadows: 4
- Sharpness: 50
- SplitToningBalance: 0
- SplitToningHighlightHue: 0
- SplitToningHighlightSaturation: 0
- SplitToningShadowHue: 0
- SplitToningShadowSaturation: 0
- Temperature: 9800
- Tint: +5
- ToneCurve: 0, 0, 32, 22, 64, 56, 128, 128, 192, 196, 255, 255
- ToneCurveName: Medium Contrast
- Version: 4.0x168
- Vibrance: +15
- VignetteAmount: 0
- WhiteBalance: Custom
- XMP-dc
- Creator: badnight
- Format: image/jpeg
- XMP-exif
- DateTimeDigitized: 2007:01:28 17:42:52+03:00
- DateTimeOriginal: 2007:01:28 17:42:52+03:00
- ExifImageHeight: 609
- FlashFired: False
- FlashFunction: False
- FlashMode: Off
- FlashRedEyeMode: False
- FlashReturn: No return detection
- XMP-tiff
- XMP-xmp
- CreateDate: 2007:01:29 15:00:42+03:00
- ModifyDate: 2007:01:29 15:00:42+03:00
- Rating: 0
- XMP-xmpMM
- Просмотров: 282
- Рейтинг: голосов еще нет
- Отзывов: 0