- Раздел: Путешествия
- Дата съёмки: 22.02.2006 11:13
- Дата загрузки фото: 28.02.2010 21:45
- Оригинальная фотография: 463 x 670 (263 Кб)
- Технические характеристики:
- Фотоаппарат: Olympus C8080WZ
- Выдержка: 1/250
- Диафрагма: 3,5
- Светочувствительность: 50
- Фокусное расстояние: 35,0 mm
- Экспокоррекция: +1
- Полный EXIF
- Adobe
- ColorTransform: YCbCr
- Composite
- Aperture: 3,5
- FocalLength35efl: 35,0 mm
- ShutterSpeed: 1/250
- ExifIFD
- ApertureValue: 3,5
- ColorSpace: Uncalibrated
- Contrast: Normal
- CreateDate: 2006:02:22 11:13:59
- CustomRendered: Normal
- DateTimeOriginal: 2006:02:22 11:13:59
- DigitalZoomRatio: 0
- ExifImageHeight: 670
- ExifImageWidth: 463
- ExposureCompensation: +1
- ExposureMode: Manual
- ExposureProgram: Program AE
- ExposureTime: 1/250
- FNumber: 3,5
- Flash: Off, Did not fire
- FocalLength: 35,6 mm
- GainControl: None
- ISO: 50
- LightSource: Cloudy
- MaxApertureValue: 3,4
- MeteringMode: Multi-segment
- Saturation: Normal
- SceneCaptureType: Standard
- SceneType: Directly photographed
- Sharpness: Soft
- ShutterSpeedValue: 1/250
- WhiteBalance: Manual
- ICC-header
- IFD0
- ImageDescription: OLYMPUS DIGITAL CAMERA
- Make: OLYMPUS CORPORATION
- Model: C8080WZ
- ModifyDate: 2009:06:18 23:40:07
- Orientation: Horizontal (normal)
- IFD1
- IPTC
- Caption-Abstract: OLYMPUS DIGITAL CAMERA
- System
- XMP-crs
- AlreadyApplied: True
- BlueHue: 0
- BlueSaturation: 0
- Brightness: 0
- CameraProfile: Embedded
- ChromaticAberrationB: 0
- ChromaticAberrationR: 0
- Clarity: +30
- ColorNoiseReduction: 0
- Contrast: +74
- ConvertToGrayscale: False
- Defringe: 0
- Exposure: 0.00
- FillLight: 0
- GreenHue: 0
- GreenSaturation: 0
- HasCrop: False
- HasSettings: True
- HighlightRecovery: 78
- HueAdjustmentAqua: 0
- HueAdjustmentBlue: 0
- HueAdjustmentGreen: 0
- HueAdjustmentMagenta: 0
- HueAdjustmentOrange: 0
- HueAdjustmentPurple: 0
- HueAdjustmentRed: 0
- HueAdjustmentYellow: 0
- IncrementalTemperature: 0
- IncrementalTint: 0
- LuminanceAdjustmentAqua: 0
- LuminanceAdjustmentBlue: 0
- LuminanceAdjustmentGreen: 0
- LuminanceAdjustmentMagenta: 0
- LuminanceAdjustmentOrange: 0
- LuminanceAdjustmentPurple: 0
- LuminanceAdjustmentRed: 0
- LuminanceAdjustmentYellow: 0
- LuminanceSmoothing: 0
- ParametricDarks: 0
- ParametricHighlightSplit: 75
- ParametricHighlights: 0
- ParametricLights: 0
- ParametricMidtoneSplit: 50
- ParametricShadowSplit: 25
- ParametricShadows: 0
- PostCropVignetteAmount: 0
- RawFileName: P2226287.JPG
- RedHue: 0
- RedSaturation: 0
- Saturation: 0
- SaturationAdjustmentAqua: 0
- SaturationAdjustmentBlue: 0
- SaturationAdjustmentGreen: 0
- SaturationAdjustmentMagenta: 0
- SaturationAdjustmentOrange: 0
- SaturationAdjustmentPurple: 0
- SaturationAdjustmentRed: 0
- SaturationAdjustmentYellow: 0
- ShadowTint: 0
- Shadows: 0
- SharpenDetail: 25
- SharpenEdgeMasking: 0
- SharpenRadius: +1.0
- Sharpness: 0
- SplitToningBalance: 0
- SplitToningHighlightHue: 0
- SplitToningHighlightSaturation: 0
- SplitToningShadowHue: 0
- SplitToningShadowSaturation: 0
- ToneCurve: 0, 0, 255, 255
- ToneCurveName: Linear
- Version: 4.6
- Vibrance: 0
- VignetteAmount: 0
- WhiteBalance: As Shot
- XMP-dc
- Description: OLYMPUS DIGITAL CAMERA
- Format: image/jpeg
- XMP-exif
- ColorSpace: Unknown (-1)
- DateTimeDigitized: 2006:02:22 11:13:59+03:00
- DateTimeOriginal: 2006:02:22 11:13:59+03:00
- FlashFired: False
- FlashFunction: False
- FlashMode: Off
- FlashRedEyeMode: False
- FlashReturn: No return detection
- XMP-tiff
- XMP-xmp
- CreateDate: 2009:06:18 23:40:07+04:00
- ModifyDate: 2009:06:18 23:40:07+04:00
- Rating: 0
- XMP-xmpMM
- DerivedFrom:
- Просмотров: 173
- Рейтинг: голосов еще нет
- Отзывов: 0