- Раздел: Другое, разное
- Дата съёмки: 04.02.2007 12:28
- Дата загрузки фото: 04.02.2007 16:50
- Оригинальная фотография: 1050 x 700 (261 Кб)
- Технические характеристики:
- Фотоаппарат: Canon EOS 5D
- Выдержка: 1/200
- Гиперфокальное расстояние: 12,21 m
- Диафрагма: 7,1
- Светочувствительность: 100
- Фокусное расстояние: 25,0mm (35mm эквивалент: 104,2mm)
- Полный EXIF
- ColorTransform: YCbCr
- Composite
- Aperture: 7,1
- CircleOfConfusion: 0,007 mm
- EV: 13,3
- FocalLength35efl: 25,0mm (35mm equivalent: 104,2mm)
- HyperfocalDistance: 12,21 m
- ScaleFactor35efl: 4,2
- ShutterSpeed: 1/200
- ExifIFD
- ApertureValue: 7,1
- ColorSpace: sRGB
- CreateDate: 2007:02:03 18:36:29
- CustomRendered: Normal
- DateTimeOriginal: 2007:02:03 18:36:29
- ExifImageLength: 700
- ExifImageWidth: 1050
- ExposureCompensation: 0
- ExposureMode: Auto
- ExposureProgram: Aperture-priority AE
- ExposureTime: 1/200
- FNumber: 7,1
- Flash: On
- FocalLength: 25,0mm
- ISO: 100
- MaxApertureValue: 2,8
- MeteringMode: Unknown (0)
- SceneCaptureType: Standard
- ShutterSpeedValue: 1/200
- WhiteBalance: Auto
- ICC-header
- ICC-meas
- ICC-view
- IFD0
- Artist: badnight
- Make: Canon
- Model: Canon EOS 5D
- ModifyDate: 2007:02:04 12:28:43
- Orientation: Horizontal (normal)
- IFD1
- IPTC
- By-line: badnight
- XMP-aux
- Firmware: 1.0.5
- FlashCompensation: 0,666666666666667
- ImageNumber: 4
- Lens: EF24-70mm f/2.8L USM
- LensInfo: 24
- OwnerName: badnight
- SerialNumber: 1130701913
- XMP-crs
- AlreadyApplied: True
- AutoGrayscaleWeights: True
- BlueHue: 0
- BlueSaturation: 0
- Brightness: +44
- CameraProfile: ACR 3.3
- ChromaticAberrationB: 0
- ChromaticAberrationR: 0
- ColorNoiseReduction: 25
- Contrast: +73
- ConvertToGrayscale: False
- Exposure: +0.45
- FillLight: 49
- GreenHue: 0
- GreenSaturation: 0
- HasCrop: False
- HasSettings: True
- HighlightRecovery: 35
- HueAdjustmentAqua: 0
- HueAdjustmentBlue: 0
- HueAdjustmentGreen: 0
- HueAdjustmentMagenta: 0
- HueAdjustmentOrange: 0
- HueAdjustmentPurple: 0
- HueAdjustmentRed: 0
- HueAdjustmentYellow: 0
- LuminanceAdjustmentAqua: 0
- LuminanceAdjustmentBlue: 0
- LuminanceAdjustmentGreen: 0
- LuminanceAdjustmentMagenta: 0
- LuminanceAdjustmentOrange: 0
- LuminanceAdjustmentPurple: 0
- LuminanceAdjustmentRed: 0
- LuminanceAdjustmentYellow: 0
- LuminanceSmoothing: 0
- ParametricDarks: 0
- ParametricHighlightSplit: 75
- ParametricHighlights: 0
- ParametricLights: 0
- ParametricMidtoneSplit: 50
- ParametricShadowSplit: 25
- ParametricShadows: 0
- RawFileName: IMG_8990.CR2
- RedHue: 0
- RedSaturation: -5
- Saturation: +5
- SaturationAdjustmentAqua: 0
- SaturationAdjustmentBlue: 0
- SaturationAdjustmentGreen: 0
- SaturationAdjustmentMagenta: 0
- SaturationAdjustmentOrange: 0
- SaturationAdjustmentPurple: 0
- SaturationAdjustmentRed: 0
- SaturationAdjustmentYellow: 0
- ShadowTint: 0
- Shadows: 2
- Sharpness: 50
- SplitToningBalance: 0
- SplitToningHighlightHue: 0
- SplitToningHighlightSaturation: 0
- SplitToningShadowHue: 0
- SplitToningShadowSaturation: 0
- Temperature: 5000
- Tint: -1
- ToneCurve: 0, 0, 32, 22, 64, 56, 128, 128, 192, 196, 255, 255
- ToneCurveName: Medium Contrast
- Version: 4.0x168
- Vibrance: +19
- VignetteAmount: 0
- WhiteBalance: Custom
- XMP-dc
- Creator: badnight
- Format: image/jpeg
- XMP-exif
- DateTimeDigitized: 2007:02:03 18:36:29+03:00
- DateTimeOriginal: 2007:02:03 18:36:29+03:00
- ExifImageHeight: 700
- FlashFired: True
- FlashFunction: False
- FlashMode: On
- FlashRedEyeMode: False
- FlashReturn: No return detection
- XMP-tiff
- XMP-xmp
- CreateDate: 2007:02:04 12:28:43+03:00
- ModifyDate: 2007:02:04 12:28:43+03:00
- Rating: 0
- XMP-xmpMM
- Просмотров: 289
- Рейтинг: голосов еще нет
- Отзывов: 0