- Раздел: Другое, разное
- Дата съёмки: 04.02.2007 14:38
- Дата загрузки фото: 04.02.2007 16:51
- Оригинальная фотография: 700 x 899 (145 Кб)
- Технические характеристики:
- Фотоаппарат: Canon EOS 5D
- Выдержка: 1/60
- Гиперфокальное расстояние: 213,52 m
- Диафрагма: 1,8
- Светочувствительность: 320
- Фокусное расстояние: 50,0mm (35mm эквивалент: 231,0mm)
- Экспокоррекция: -1/3
- Полный EXIF
- ColorTransform: YCbCr
- Composite
- Aperture: 1,8
- CircleOfConfusion: 0,007 mm
- EV: 5,9
- FocalLength35efl: 50,0mm (35mm equivalent: 231,0mm)
- HyperfocalDistance: 213,52 m
- ScaleFactor35efl: 4,6
- ShutterSpeed: 1/60
- ExifIFD
- ApertureValue: 1,8
- ColorSpace: sRGB
- CreateDate: 2007:02:03 19:17:44
- CustomRendered: Normal
- DateTimeOriginal: 2007:02:03 19:17:44
- ExifImageLength: 899
- ExifImageWidth: 700
- ExposureCompensation: -1/3
- ExposureMode: Auto
- ExposureProgram: Aperture-priority AE
- ExposureTime: 1/60
- FNumber: 1,8
- Flash: Off
- FocalLength: 50,0mm
- ISO: 320
- MaxApertureValue: 1,4
- MeteringMode: Unknown (0)
- SceneCaptureType: Standard
- ShutterSpeedValue: 1/60
- WhiteBalance: Auto
- ICC-header
- ICC-meas
- ICC-view
- IFD0
- Artist: badnight
- Make: Canon
- Model: Canon EOS 5D
- ModifyDate: 2007:02:04 14:38:13
- Orientation: Horizontal (normal)
- IFD1
- IPTC
- By-line: badnight
- XMP-aux
- Firmware: 1.0.5
- FlashCompensation: 0
- ImageNumber: 2
- Lens: EF50mm f/1.4 USM
- LensInfo: 50
- OwnerName: badnight
- SerialNumber: 1130701913
- XMP-crs
- AlreadyApplied: True
- AutoGrayscaleWeights: True
- BlueHue: 0
- BlueSaturation: 0
- Brightness: 0
- CameraProfile: ACR 3.3
- ChromaticAberrationB: 0
- ChromaticAberrationR: 0
- ColorNoiseReduction: 25
- Contrast: +71
- ConvertToGrayscale: False
- CropAngle: 0
- CropBottom: 1
- CropLeft: 0.143939
- CropRight: 0.662121
- CropTop: 0.002273
- Exposure: +0.60
- FillLight: 45
- GreenHue: 0
- GreenSaturation: 0
- HasCrop: True
- HasSettings: True
- HighlightRecovery: 27
- HueAdjustmentAqua: 0
- HueAdjustmentBlue: 0
- HueAdjustmentGreen: 0
- HueAdjustmentMagenta: 0
- HueAdjustmentOrange: 0
- HueAdjustmentPurple: 0
- HueAdjustmentRed: 0
- HueAdjustmentYellow: 0
- LuminanceAdjustmentAqua: 0
- LuminanceAdjustmentBlue: 0
- LuminanceAdjustmentGreen: 0
- LuminanceAdjustmentMagenta: 0
- LuminanceAdjustmentOrange: 0
- LuminanceAdjustmentPurple: 0
- LuminanceAdjustmentRed: 0
- LuminanceAdjustmentYellow: 0
- LuminanceSmoothing: 0
- ParametricDarks: 0
- ParametricHighlightSplit: 75
- ParametricHighlights: 0
- ParametricLights: 0
- ParametricMidtoneSplit: 50
- ParametricShadowSplit: 25
- ParametricShadows: 0
- RawFileName: IMG_9003.CR2
- RedHue: 0
- RedSaturation: -13
- Saturation: +5
- SaturationAdjustmentAqua: 0
- SaturationAdjustmentBlue: 0
- SaturationAdjustmentGreen: 0
- SaturationAdjustmentMagenta: 0
- SaturationAdjustmentOrange: 0
- SaturationAdjustmentPurple: 0
- SaturationAdjustmentRed: 0
- SaturationAdjustmentYellow: 0
- ShadowTint: 0
- Shadows: 0
- Sharpness: 50
- SplitToningBalance: 0
- SplitToningHighlightHue: 0
- SplitToningHighlightSaturation: 0
- SplitToningShadowHue: 0
- SplitToningShadowSaturation: 0
- Temperature: 2350
- Tint: -7
- ToneCurve: 0, 0, 32, 22, 64, 56, 128, 128, 192, 196, 255, 255
- ToneCurveName: Medium Contrast
- Version: 4.0x168
- Vibrance: +19
- VignetteAmount: 0
- WhiteBalance: Custom
- XMP-dc
- Creator: badnight
- Format: image/jpeg
- XMP-exif
- DateTimeDigitized: 2007:02:03 19:17:44+03:00
- DateTimeOriginal: 2007:02:03 19:17:44+03:00
- ExifImageHeight: 899
- FlashFired: False
- FlashFunction: False
- FlashMode: Off
- FlashRedEyeMode: False
- FlashReturn: No return detection
- XMP-tiff
- XMP-xmp
- CreateDate: 2007:02:04 14:38:13+03:00
- ModifyDate: 2007:02:04 14:38:13+03:00
- Rating: 0
- XMP-xmpMM
- Просмотров: 292
- Рейтинг: голосов еще нет
- Отзывов: 0