P1370383 [1280x768].jpg |
P1370383 [1280x768].jpg
- Раздел: Репортаж
- Дата съёмки: 23.02.2010 16:20
- Дата загрузки фото: 28.03.2010 15:06
- Оригинальная фотография: 1024 x 768 (154 Кб)
- Технические характеристики:
- Фотоаппарат: Panasonic DMC-TZ5
- Выдержка: 1/10
- Гиперфокальное расстояние: inf m
- Диафрагма: 4,7
- Светочувствительность: 800
- Фокусное расстояние: 20,0 mm (35 mm equivalent: 100,0 mm)
- Полный EXIF
- Composite
- Aperture: 4,7
- CircleOfConfusion: 0,005 mm
- FOV: 20,0 deg
- FocalLength35efl: 20,0 mm (35 mm equivalent: 100,0 mm)
- HyperfocalDistance: inf m
- ScaleFactor35efl: 6,0
- ShutterSpeed: 1/10
- ExifIFD
- ApertureValue: 4,7
- Contrast: Normal
- CreateDate: 2010:02:23 16:20:30
- CustomRendered: Normal
- DateTimeOriginal: 2010:02:23 16:20:30
- DigitalZoomRatio: 0
- ExposureCompensation: 0
- ExposureMode: Auto
- ExposureProgram: Program AE
- ExposureTime: 1/10
- FNumber: 4,7
- Flash: Off, Did not fire
- FocalLength: 20,3 mm
- FocalLengthIn35mmFormat: 119 mm
- GainControl: High gain up
- ISO: 800
- LightSource: Unknown
- MaxApertureValue: 3,3
- MeteringMode: Multi-segment
- Saturation: High
- SceneCaptureType: Standard
- SceneType: Directly photographed
- SensingMethod: One-chip color area
- Sharpness: Hard
- ShutterSpeedValue: 1/10
- WhiteBalance: Auto
- IFD0
- Make: Panasonic
- Model: DMC-TZ5
- ModifyDate: 2010:02:25 21:38:55
- Software: Ver.1.0
- IFD1
- System
- XMP-crs
- AlreadyApplied: True
- BlueHue: 0
- BlueSaturation: 0
- Brightness: 0
- CameraProfile: Embedded
- ChromaticAberrationB: 0
- ChromaticAberrationR: 0
- Clarity: 0
- ColorNoiseReduction: 0
- Contrast: 0
- ConvertToGrayscale: False
- Defringe: 0
- Exposure: +0.38
- FillLight: 15
- GradientBasedCorrActive: true
- GradientBasedCorrAmount: 1.000000
- GradientBasedCorrBrightness: 0.000000
- GradientBasedCorrClarity: 0.000000
- GradientBasedCorrContrast: 0.000000
- GradientBasedCorrExposure: 0.225000
- GradientBasedCorrHue: 0.000000
- GradientBasedCorrMaskFullX: 1.005870
- GradientBasedCorrMaskFullY: -0.017578
- GradientBasedCorrMaskValue: 1.000000
- GradientBasedCorrMaskWhat: Mask/Gradient
- GradientBasedCorrMaskZeroX: 0.543988
- GradientBasedCorrMaskZeroY: 0.503906
- GradientBasedCorrSaturation: 0.000000
- GradientBasedCorrSharpness: 0.000000
- GradientBasedCorrWhat: Correction
- GreenHue: 0
- GreenSaturation: 0
- HasCrop: False
- HasSettings: True
- HighlightRecovery: 0
- HueAdjustmentAqua: 0
- HueAdjustmentBlue: 0
- HueAdjustmentGreen: 0
- HueAdjustmentMagenta: 0
- HueAdjustmentOrange: 0
- HueAdjustmentPurple: 0
- HueAdjustmentRed: 0
- HueAdjustmentYellow: 0
- IncrementalTemperature: 0
- IncrementalTint: 0
- LuminanceAdjustmentAqua: 0
- LuminanceAdjustmentBlue: 0
- LuminanceAdjustmentGreen: 0
- LuminanceAdjustmentMagenta: 0
- LuminanceAdjustmentOrange: 0
- LuminanceAdjustmentPurple: 0
- LuminanceAdjustmentRed: 0
- LuminanceAdjustmentYellow: 0
- LuminanceSmoothing: 0
- ParametricDarks: 0
- ParametricHighlightSplit: 75
- ParametricHighlights: 0
- ParametricLights: 0
- ParametricMidtoneSplit: 50
- ParametricShadowSplit: 25
- ParametricShadows: 0
- PostCropVignetteAmount: 0
- RedHue: 0
- RedSaturation: 0
- Saturation: 0
- SaturationAdjustmentAqua: 0
- SaturationAdjustmentBlue: 0
- SaturationAdjustmentGreen: 0
- SaturationAdjustmentMagenta: 0
- SaturationAdjustmentOrange: 0
- SaturationAdjustmentPurple: 0
- SaturationAdjustmentRed: 0
- SaturationAdjustmentYellow: 0
- ShadowTint: 0
- Shadows: 0
- SharpenDetail: 25
- SharpenEdgeMasking: 0
- SharpenRadius: +1.0
- Sharpness: 0
- SplitToningBalance: 0
- SplitToningHighlightHue: 0
- SplitToningHighlightSaturation: 0
- SplitToningShadowHue: 0
- SplitToningShadowSaturation: 0
- ToneCurve: 0, 0, 255, 255
- ToneCurveName: Linear
- Version: 5.6.1
- Vibrance: 0
- VignetteAmount: 0
- WhiteBalance: As Shot
- XMP-exif
- DateTimeDigitized: 2010:02:23 16:20:30+03:00
- DateTimeOriginal: 2010:02:23 16:20:30+03:00
- ExifImageHeight: 2592
- ExifImageWidth: 3456
- FlashFired: False
- FlashFunction: False
- FlashMode: Off
- FlashRedEyeMode: False
- FlashReturn: No return detection
- XMP-tiff
- ImageHeight: 2592
- ImageWidth: 3456
- XMP-xmp
- CreateDate: 2010:02:23 16:20:30+03:00
- ModifyDate: 2010:02:25 21:38:55+03:00
- Просмотров: 262
- Рейтинг: голосов еще нет
- Отзывов: 0
Получить код для блога
Вставка фотографии в текущем разрешении |
Вставка миниатюры |
HTML (для вставки в блог):
BBCode (для вставки в форум):
Ссылка на фото:
Ссылка на миниатюру:
- Послать ссылку другу
Комментарии к фотографии |