- Раздел: Пейзаж
- Дата съёмки: 30.03.2008 13:14
- Дата загрузки фото: 28.03.2010 17:52
- Оригинальная фотография: 996 x 768 (176 Кб)
- Технические характеристики:
- Фотоаппарат: Canon EOS 40D
- Выдержка: 1/640
- Гиперфокальное расстояние: inf m
- Диафрагма: 7,1
- Светочувствительность: 200
- Фокусное расстояние: 25,0 mm (35 mm equivalent: 25,0 mm)
- Полный EXIF
- Composite
- Aperture: 7,1
- CircleOfConfusion: 0,017 mm
- FOV: 71,0 deg
- FocalLength35efl: 25,0 mm (35 mm equivalent: 25,0 mm)
- HyperfocalDistance: inf m
- ScaleFactor35efl: 1,7
- ShutterSpeed: 1/640
- ExifIFD
- ApertureValue: 7,1
- ColorSpace: sRGB
- CreateDate: 2008:03:30 00:00:00
- CustomRendered: Normal
- DateTimeOriginal: 2008:03:30 00:00:00
- ExifImageHeight: 2665
- ExifImageWidth: 3456
- ExposureCompensation: 0
- ExposureMode: Manual
- ExposureProgram: Manual
- ExposureTime: 1/640
- FNumber: 7,1
- Flash: Off, Did not fire
- FocalLength: 25,0 mm
- ISO: 200
- MaxApertureValue: 4,0
- MeteringMode: Multi-segment
- SceneCaptureType: Standard
- ShutterSpeedValue: 1/640
- WhiteBalance: Auto
- IFD0
- Make: Canon
- Model: Canon EOS 40D
- ModifyDate: 2008:04:01 11:42:29
- Orientation: Horizontal (normal)
- IFD1
- IPTC
- System
- XMP-aux
- Firmware: 1.0.4
- FlashCompensation: 0
- ImageNumber: 0
- Lens: EF17-40mm f/4L USM
- LensInfo: 17/1 40/1 0/0 0/0
- SerialNumber: 630443795
- XMP-crs
- AlreadyApplied: True
- BlueHue: 0
- BlueSaturation: +15
- Brightness: +50
- CameraProfile: ACR 4.4
- ChromaticAberrationB: 0
- ChromaticAberrationR: 0
- Clarity: 0
- ColorNoiseReduction: 25
- Contrast: +20
- ConvertToGrayscale: False
- Defringe: 0
- Exposure: 0.00
- FillLight: 25
- GreenHue: 0
- GreenSaturation: +20
- HasCrop: False
- HasSettings: True
- HighlightRecovery: 0
- HueAdjustmentAqua: 0
- HueAdjustmentBlue: 0
- HueAdjustmentGreen: 0
- HueAdjustmentMagenta: 0
- HueAdjustmentOrange: 0
- HueAdjustmentPurple: 0
- HueAdjustmentRed: 0
- HueAdjustmentYellow: +15
- LuminanceAdjustmentAqua: 0
- LuminanceAdjustmentBlue: -10
- LuminanceAdjustmentGreen: 0
- LuminanceAdjustmentMagenta: +25
- LuminanceAdjustmentOrange: +10
- LuminanceAdjustmentPurple: +20
- LuminanceAdjustmentRed: -10
- LuminanceAdjustmentYellow: +40
- LuminanceSmoothing: 0
- ParametricDarks: 0
- ParametricHighlightSplit: 75
- ParametricHighlights: 0
- ParametricLights: 0
- ParametricMidtoneSplit: 50
- ParametricShadowSplit: 25
- ParametricShadows: 0
- RedHue: 0
- RedSaturation: 0
- Saturation: 0
- SaturationAdjustmentAqua: 0
- SaturationAdjustmentBlue: +20
- SaturationAdjustmentGreen: +15
- SaturationAdjustmentMagenta: 0
- SaturationAdjustmentOrange: +15
- SaturationAdjustmentPurple: +100
- SaturationAdjustmentRed: +30
- SaturationAdjustmentYellow: -20
- ShadowTint: 0
- Shadows: 5
- SharpenDetail: 50
- SharpenEdgeMasking: 0
- SharpenRadius: +0.7
- Sharpness: 70
- SplitToningBalance: 0
- SplitToningHighlightHue: 0
- SplitToningHighlightSaturation: 0
- SplitToningShadowHue: 0
- SplitToningShadowSaturation: 0
- Temperature: 4950
- Tint: 0
- ToneCurve: 0, 0, 32, 22, 64, 56, 128, 128, 192, 196, 255, 255
- ToneCurveName: Medium Contrast
- Version: 4.4
- Vibrance: 0
- VignetteAmount: 0
- WhiteBalance: As Shot
- XMP-dc
- XMP-exif
- DateTimeDigitized: 2008:03:30 13:14:15.00+04:00
- DateTimeOriginal: 2008:03:30 13:14:15.00+04:00
- FlashFired: False
- FlashFunction: False
- FlashMode: Off
- FlashRedEyeMode: False
- FlashReturn: No return detection
- XMP-tiff
- ImageHeight: 2592
- ImageWidth: 3888
- XMP-xmp
- CreateDate: 2008:04:01 11:42:29+04:00
- ModifyDate: 2008:04:01 11:42:29+04:00
- XMP-xmpMM
- DerivedFrom:
- Просмотров: 222
- Рейтинг: голосов еще нет
- Отзывов: 0