- Раздел: Путешествия
- Дата съёмки: 25.03.2010 10:35
- Дата загрузки фото: 10.04.2010 15:41
- Оригинальная фотография: 1024 x 757 (1,0 Мб)
- Технические характеристики:
- Фотоаппарат: Panasonic DMC-GF1
- Выдержка: 1/30
- Диафрагма: 8,0
- Светочувствительность: 200
- Фокусное расстояние: 20,0 mm
- Полный EXIF
- Adobe
- ColorTransform: YCbCr
- Composite
- Aperture: 8,0
- FocalLength35efl: 20,0 mm
- ShutterSpeed: 1/30
- ExifIFD
- ApertureValue: 8,0
- CreateDate: 2010:03:25 10:35:32
- DateTimeOriginal: 2010:03:25 10:35:32
- ExposureCompensation: 0
- ExposureProgram: Aperture-priority AE
- ExposureTime: 1/30
- FNumber: 8,0
- Flash: On, Fired
- FocalLength: 20,0 mm
- ISO: 200
- MaxApertureValue: 1,7
- MeteringMode: Multi-segment
- ShutterSpeedValue: 1/30
- ICC-header
- ICC-meas
- ICC-view
- IFD0
- Make: Panasonic
- Model: DMC-GF1
- ModifyDate: 2010:04:10 11:05:17
- IFD1
- System
- XMP-aux
- Lens: LUMIX G 20/F1.7
- LensSerialNumber: 09LG3156740
- XMP-crs
- AlreadyApplied: True
- BlueHue: 0
- BlueSaturation: 0
- Brightness: +50
- ChromaticAberrationB: 0
- ChromaticAberrationR: 0
- Clarity: +60
- ColorNoiseReduction: 25
- Contrast: +25
- ConvertToGrayscale: False
- CropAngle: 0
- CropBottom: 1
- CropHeight: 757
- CropLeft: 0.031638
- CropRight: 1
- CropTop: 0.045181
- CropUnit: pixels
- CropWidth: 1024
- Defringe: 0
- Exposure: 0.00
- FillLight: 0
- GreenHue: 0
- GreenSaturation: 0
- HasCrop: True
- HasSettings: True
- HighlightRecovery: 24
- HueAdjustmentAqua: 0
- HueAdjustmentBlue: 0
- HueAdjustmentGreen: 0
- HueAdjustmentMagenta: 0
- HueAdjustmentOrange: 0
- HueAdjustmentPurple: 0
- HueAdjustmentRed: 0
- HueAdjustmentYellow: 0
- LuminanceAdjustmentAqua: 0
- LuminanceAdjustmentBlue: 0
- LuminanceAdjustmentGreen: 0
- LuminanceAdjustmentMagenta: 0
- LuminanceAdjustmentOrange: 0
- LuminanceAdjustmentPurple: 0
- LuminanceAdjustmentRed: 0
- LuminanceAdjustmentYellow: 0
- LuminanceSmoothing: 0
- ParametricDarks: 0
- ParametricHighlightSplit: 75
- ParametricHighlights: 0
- ParametricLights: 0
- ParametricMidtoneSplit: 50
- ParametricShadowSplit: 25
- ParametricShadows: 0
- PostCropVignetteAmount: 0
- RedHue: 0
- RedSaturation: 0
- Saturation: 0
- SaturationAdjustmentAqua: 0
- SaturationAdjustmentBlue: 0
- SaturationAdjustmentGreen: 0
- SaturationAdjustmentMagenta: 0
- SaturationAdjustmentOrange: 0
- SaturationAdjustmentPurple: 0
- SaturationAdjustmentRed: 0
- SaturationAdjustmentYellow: 0
- ShadowTint: 0
- Shadows: 1
- SharpenDetail: 25
- SharpenEdgeMasking: 0
- SharpenRadius: +1.0
- Sharpness: 25
- SplitToningBalance: 0
- SplitToningHighlightHue: 0
- SplitToningHighlightSaturation: 0
- SplitToningShadowHue: 0
- SplitToningShadowSaturation: 0
- Temperature: 7500
- Tint: +30
- ToneCurve: 0, 0, 32, 22, 64, 56, 128, 128, 192, 196, 255, 255
- ToneCurveName: Medium Contrast
- Version: 5.6
- Vibrance: 0
- VignetteAmount: 0
- WhiteBalance: Auto
- XMP-exif
- DateTimeDigitized: 2010:03:25 10:35:32+02:00
- DateTimeOriginal: 2010:03:25 10:35:32+02:00
- ExifImageHeight: 757
- ExifImageWidth: 1024
- FlashFired: True
- FlashFunction: False
- FlashMode: On
- FlashRedEyeMode: False
- FlashReturn: No return detection
- XMP-tiff
- ImageHeight: 757
- ImageWidth: 1024
- XMP-xmp
- CreateDate: 2010:03:25 10:35:32+02:00
- ModifyDate: 2010:04:10 11:05:17+03:00
- Просмотров: 178
- Рейтинг: голосов еще нет
- Отзывов: 0