Уважаемые друзья и участники проекта iXBT.photo! К сожалению, 1 марта 2026 года проект iXBT.photo прекратит свою работу и будет закрыт. Мы высоко ценим ваше участие и тот вклад, который вы внесли в развитие нашего сообщества. Пожалуйста, не забудьте сохранить ваши фотографии до этой даты.
С уважением, команда iXBT.com
| Долгострой |
Долгострой
- Раздел: Портрет
- Дата съёмки: 15.04.2010 12:57
- Дата загрузки фото: 15.04.2010 20:09
- Оригинальная фотография: 2763 x 1842 (964 Кб)
- Технические характеристики:
- Фотоаппарат: Sony DSC-HX5V
- Выдержка: 1/160
- Диафрагма: 4,5
- Светочувствительность: 125
- Фокусное расстояние: 13,0 mm
- Полный EXIF
- Adobe
- ColorTransform: YCbCr
- Composite
- Aperture: 4,5
- FocalLength35efl: 13,0 mm
- ShutterSpeed: 1/160
- ExifIFD
- ApertureValue: 4,5
- Contrast: Normal
- CreateDate: 2010:04:15 12:57:56
- CustomRendered: Normal
- DateTimeOriginal: 2010:04:15 12:57:56
- ExposureCompensation: 0
- ExposureMode: Auto
- ExposureProgram: Program AE
- ExposureTime: 1/160
- FNumber: 4,5
- Flash: Off, Did not fire
- FocalLength: 13,1 mm
- ISO: 125
- LightSource: Unknown
- MaxApertureValue: 3,5
- MeteringMode: Multi-segment
- Saturation: Normal
- SceneCaptureType: Portrait
- SceneType: Directly photographed
- Sharpness: Normal
- ShutterSpeedValue: 1/160
- WhiteBalance: Auto
- GPS
- GPSDifferential: No Correction
- GPSImgDirection: 111,75
- GPSImgDirectionRef: Magnetic North
- GPSMapDatum: WGS-84
- GPSStatus: Measurement Void
- ICC-header
- IFD0
- Make: SONY
- Model: DSC-HX5V
- ModifyDate: 2010:04:15 19:58:37
- XPKeywords: Андрей;Портфолио
- IFD1
- System
- XMP-crs
- AlreadyApplied: True
- BlueHue: 0
- BlueSaturation: 0
- Brightness: 0
- CameraProfile: Embedded
- ChromaticAberrationB: 0
- ChromaticAberrationR: 0
- Clarity: 0
- ColorNoiseReduction: 0
- Contrast: 0
- ConvertToGrayscale: False
- CropAngle: 0.011656
- CropBottom: 1
- CropHeight: 3
- CropLeft: 0.000103
- CropRight: 0.757341
- CropTop: 0.326602
- CropUnit: Unknown (3)
- CropWidth: 2
- Defringe: 0
- Exposure: 0.00
- FillLight: 0
- GreenHue: 0
- GreenSaturation: 0
- HasCrop: True
- HasSettings: True
- HighlightRecovery: 0
- HueAdjustmentAqua: 0
- HueAdjustmentBlue: 0
- HueAdjustmentGreen: 0
- HueAdjustmentMagenta: 0
- HueAdjustmentOrange: 0
- HueAdjustmentPurple: 0
- HueAdjustmentRed: 0
- HueAdjustmentYellow: 0
- IncrementalTemperature: 0
- IncrementalTint: 0
- LuminanceAdjustmentAqua: 0
- LuminanceAdjustmentBlue: 0
- LuminanceAdjustmentGreen: 0
- LuminanceAdjustmentMagenta: 0
- LuminanceAdjustmentOrange: 0
- LuminanceAdjustmentPurple: 0
- LuminanceAdjustmentRed: 0
- LuminanceAdjustmentYellow: 0
- LuminanceSmoothing: 0
- ParametricDarks: -100
- ParametricHighlightSplit: 75
- ParametricHighlights: 0
- ParametricLights: +67
- ParametricMidtoneSplit: 50
- ParametricShadowSplit: 25
- ParametricShadows: 0
- PostCropVignetteAmount: 0
- RawFileName: DSC00486.JPG
- RedHue: 0
- RedSaturation: 0
- Saturation: 0
- SaturationAdjustmentAqua: 0
- SaturationAdjustmentBlue: 0
- SaturationAdjustmentGreen: 0
- SaturationAdjustmentMagenta: 0
- SaturationAdjustmentOrange: 0
- SaturationAdjustmentPurple: 0
- SaturationAdjustmentRed: 0
- SaturationAdjustmentYellow: 0
- ShadowTint: 0
- Shadows: 0
- SharpenDetail: 25
- SharpenEdgeMasking: 0
- SharpenRadius: +1.0
- Sharpness: 0
- SplitToningBalance: 0
- SplitToningHighlightHue: 0
- SplitToningHighlightSaturation: 0
- SplitToningShadowHue: 0
- SplitToningShadowSaturation: 0
- ToneCurve: 0, 0, 255, 255
- ToneCurveName: Linear
- Version: 5.0
- Vibrance: 0
- VignetteAmount: 0
- WhiteBalance: As Shot
- XMP-dc
- Subject: Андрей, Портфолио
- XMP-exif
- DateTimeDigitized: 2010:04:15 12:57:56+04:00
- DateTimeOriginal: 2010:04:15 12:57:56+04:00
- ExifImageHeight: 1842
- ExifImageWidth: 2763
- FlashFired: False
- FlashFunction: False
- FlashMode: Off
- FlashRedEyeMode: False
- FlashReturn: No return detection
- XMP-microsoft
- LastKeywordXMP: Андрей, Портфолио
- XMP-tiff
- ImageHeight: 1842
- ImageWidth: 2763
- XMP-xmp
- CreateDate: 2010:04:15 12:57:56+04:00
- ModifyDate: 2010:04:15 19:58:37+04:00
Получить код для блога
| Вставка фотографии в текущем разрешении |
Вставка миниатюры |
HTML (для вставки в блог):
BBCode (для вставки в форум):
Ссылка на фото:
Ссылка на миниатюру:
- Послать ссылку другу
| Комментарии к фотографии |