- Раздел: Путешествия
- Дата съёмки: 19.03.2010 14:09
- Дата загрузки фото: 01.05.2010 09:10
- Оригинальная фотография: 1882 x 2584 (1,2 Мб)
- Технические характеристики:
- Фотоаппарат: Canon EOS 40D
- Выдержка: 1/200
- Гиперфокальное расстояние: inf m
- Диафрагма: 11,0
- Светочувствительность: 100
- Фокусное расстояние: 28,0 mm (35 mm equivalent: 56,0 mm)
- Полный EXIF
- Composite
- Aperture: 11,0
- CircleOfConfusion: 0,013 mm
- FOV: 35,0 deg
- FocalLength35efl: 28,0 mm (35 mm equivalent: 56,0 mm)
- HyperfocalDistance: inf m
- ScaleFactor35efl: 2,4
- ShutterSpeed: 1/200
- ExifIFD
- ApertureValue: 11,0
- CreateDate: 2010:03:19 14:09:25
- CustomRendered: Normal
- DateTimeOriginal: 2010:03:19 14:09:25
- ExifImageHeight: 2584
- ExifImageWidth: 1882
- ExposureCompensation: 0
- ExposureMode: Auto
- ExposureProgram: Aperture-priority AE
- ExposureTime: 1/200
- FNumber: 11,0
- Flash: Off, Did not fire
- FocalLength: 28,0 mm
- ISO: 100
- MaxApertureValue: 2,8
- MeteringMode: Multi-segment
- SceneCaptureType: Standard
- ShutterSpeedValue: 1/200
- WhiteBalance: Auto
- ICC-header
- ICC-meas
- ICC-view
- IFD0
- Artist: StasSt
- Make: Canon
- Model: Canon EOS 40D
- ModifyDate: 2010:04:30 20:19:59
- Orientation: Horizontal (normal)
- Software: ACD Systems Digital Imaging
- IPTC
- System
- XMP-aux
- Firmware: 1.0.8
- FlashCompensation: 0
- ImageNumber: 0
- Lens: EF28mm f/2.8
- LensInfo: 28/1 28/1 0/0 0/0
- OwnerName: StasSt
- SerialNumber: 1030504313
- XMP-crs
- AlreadyApplied: True
- BlueHue: 0
- BlueSaturation: 0
- Brightness: +50
- CameraProfile: ACR 4.4
- ChromaticAberrationB: 0
- ChromaticAberrationR: 0
- Clarity: +13
- ColorNoiseReduction: 25
- Contrast: +28
- ConvertToGrayscale: False
- CropAngle: -2.935673
- CropBottom: 0.928571
- CropLeft: 0.019841
- CropRight: 0.980159
- CropTop: 0.071429
- Defringe: 0
- Exposure: +0.25
- FillLight: 0
- GreenHue: 0
- GreenSaturation: 0
- HasCrop: True
- HasSettings: True
- HighlightRecovery: 0
- HueAdjustmentAqua: 0
- HueAdjustmentBlue: 0
- HueAdjustmentGreen: 0
- HueAdjustmentMagenta: 0
- HueAdjustmentOrange: 0
- HueAdjustmentPurple: 0
- HueAdjustmentRed: 0
- HueAdjustmentYellow: 0
- LuminanceAdjustmentAqua: 0
- LuminanceAdjustmentBlue: 0
- LuminanceAdjustmentGreen: 0
- LuminanceAdjustmentMagenta: 0
- LuminanceAdjustmentOrange: 0
- LuminanceAdjustmentPurple: 0
- LuminanceAdjustmentRed: 0
- LuminanceAdjustmentYellow: 0
- LuminanceSmoothing: 0
- ParametricDarks: 0
- ParametricHighlightSplit: 75
- ParametricHighlights: 0
- ParametricLights: 0
- ParametricMidtoneSplit: 50
- ParametricShadowSplit: 25
- ParametricShadows: 0
- PostCropVignetteAmount: 0
- RawFileName: _MG_9450.CR2
- RedHue: 0
- RedSaturation: 0
- Saturation: 0
- SaturationAdjustmentAqua: 0
- SaturationAdjustmentBlue: 0
- SaturationAdjustmentGreen: 0
- SaturationAdjustmentMagenta: 0
- SaturationAdjustmentOrange: 0
- SaturationAdjustmentPurple: 0
- SaturationAdjustmentRed: 0
- SaturationAdjustmentYellow: 0
- ShadowTint: 0
- Shadows: 10
- SharpenDetail: 25
- SharpenEdgeMasking: 0
- SharpenRadius: +1.0
- Sharpness: 25
- SplitToningBalance: 0
- SplitToningHighlightHue: 0
- SplitToningHighlightSaturation: 0
- SplitToningShadowHue: 0
- SplitToningShadowSaturation: 0
- Temperature: 5800
- Tint: +13
- ToneCurve: 0, 0, 32, 22, 64, 56, 128, 128, 192, 196, 255, 255
- ToneCurveName: Medium Contrast
- Version: 5.0
- Vibrance: +11
- VignetteAmount: 0
- WhiteBalance: Custom
- XMP-dc
- XMP-exif
- DateTimeDigitized: 2010:03:19 14:09:25.0+3:00
- DateTimeOriginal: 2010:03:19 14:09:25.0+3:00
- ExifImageHeight: 3615
- ExifImageWidth: 2410
- FlashFired: False
- FlashFunction: False
- FlashMode: Off
- FlashRedEyeMode: False
- FlashReturn: No return detection
- XMP-tiff
- ImageHeight: 3615
- ImageWidth: 2410
- XMP-x
- XMP-xmp
- CreateDate: 2010:03:19 19:09:25.00+08:00
- CreatorTool: ACD Systems Digital Imaging
- ModifyDate: 2010:04:03 17:05:57+09:00
- Rating: 0
- Просмотров: 196
- Рейтинг: голосов еще нет
- Отзывов: 0