Florence-009.jpg |
Florence-009.jpg
- Раздел: Путешествия
- Дата съёмки: 06.05.2009 15:36
- Дата загрузки фото: 11.05.2010 18:12
- Оригинальная фотография: 1600 x 1600 (415 Кб)
- Технические характеристики:
- Фотоаппарат: Pentax K200D
- Выдержка: 1/1000
- Светочувствительность: 100
- Полный EXIF
- Adobe
- ColorTransform: YCbCr
- Composite
- ExifIFD
- Contrast: Normal
- CreateDate: 2009:05:06 15:36:21
- CustomRendered: Normal
- DateTimeOriginal: 2009:05:06 15:36:21
- ExposureCompensation: 0
- ExposureMode: Manual
- ExposureProgram: Manual
- ExposureTime: 1/1000
- Flash: Off, Did not fire
- ISO: 100
- MeteringMode: Spot
- Saturation: Normal
- SceneCaptureType: Standard
- SensingMethod: One-chip color area
- Sharpness: Soft
- ShutterSpeedValue: 1/1000
- SubjectDistanceRange: Unknown
- WhiteBalance: Auto
- ICC-header
- ICC-meas
- ICC-view
- IFD0
- Copyright: Copyrighted
- Make: PENTAX Corporation
- Model: PENTAX K200D
- ModifyDate: 2010:05:11 17:07:01
- Software: K200D Ver 1.00
- IFD1
- IPTC
- CopyrightNotice: Copyrighted
- System
- XMP-aux
- XMP-crs
- AlreadyApplied: True
- BlueHue: +11
- BlueSaturation: -21
- Brightness: +40
- ChromaticAberrationB: 0
- ChromaticAberrationR: 0
- Clarity: 0
- ColorNoiseReduction: 25
- Contrast: 0
- ConvertToGrayscale: False
- CropAngle: 0
- CropBottom: 1
- CropHeight: 1600
- CropLeft: 0.330578
- CropRight: 1
- CropTop: 0
- CropUnit: pixels
- CropWidth: 1600
- Defringe: 0
- Exposure: +1.15
- FillLight: 0
- GreenHue: +16
- GreenSaturation: +51
- HasCrop: True
- HasSettings: True
- HighlightRecovery: 25
- HueAdjustmentAqua: 0
- HueAdjustmentBlue: 0
- HueAdjustmentGreen: 0
- HueAdjustmentMagenta: 0
- HueAdjustmentOrange: 0
- HueAdjustmentPurple: 0
- HueAdjustmentRed: 0
- HueAdjustmentYellow: 0
- LuminanceAdjustmentAqua: 0
- LuminanceAdjustmentBlue: 0
- LuminanceAdjustmentGreen: 0
- LuminanceAdjustmentMagenta: 0
- LuminanceAdjustmentOrange: 0
- LuminanceAdjustmentPurple: 0
- LuminanceAdjustmentRed: 0
- LuminanceAdjustmentYellow: 0
- LuminanceSmoothing: 0
- ParametricDarks: -20
- ParametricHighlightSplit: 75
- ParametricHighlights: +60
- ParametricLights: +10
- ParametricMidtoneSplit: 50
- ParametricShadowSplit: 25
- ParametricShadows: -60
- PostCropVignetteAmount: -95
- PostCropVignetteFeather: 50
- PostCropVignetteMidpoint: 50
- PostCropVignetteRoundness: 0
- RedHue: +23
- RedSaturation: +10
- Saturation: 0
- SaturationAdjustmentAqua: +50
- SaturationAdjustmentBlue: +58
- SaturationAdjustmentGreen: +10
- SaturationAdjustmentMagenta: 0
- SaturationAdjustmentOrange: +13
- SaturationAdjustmentPurple: +23
- SaturationAdjustmentRed: 0
- SaturationAdjustmentYellow: +23
- ShadowTint: +4
- Shadows: 14
- SharpenDetail: 25
- SharpenEdgeMasking: 0
- SharpenRadius: +1.0
- Sharpness: 25
- SplitToningBalance: 0
- SplitToningHighlightHue: 0
- SplitToningHighlightSaturation: 0
- SplitToningShadowHue: 0
- SplitToningShadowSaturation: 0
- Temperature: 4200
- Tint: 0
- ToneCurve: 0, 0, 255, 255
- ToneCurveName: Linear
- Version: 5.4
- Vibrance: 0
- VignetteAmount: -100
- VignetteMidpoint: 40
- WhiteBalance: As Shot
- XMP-dc
- XMP-exif
- DateTimeDigitized: 2009:05:06 15:36:21+03:00
- DateTimeOriginal: 2009:05:06 15:36:21+03:00
- ExifImageHeight: 1600
- ExifImageWidth: 1600
- FlashFired: False
- FlashFunction: False
- FlashMode: Off
- FlashRedEyeMode: False
- FlashReturn: No return detection
- XMP-tiff
- ImageHeight: 1600
- ImageWidth: 1600
- XMP-xmp
- CreateDate: 2009:05:06 15:36:21+03:00
- ModifyDate: 2010:05:11 17:07:01+03:00
- Rating: 5
- XMP-xmpRights
- Marked: True
- UsageTerms: for private use only
- Просмотров: 272
- Рейтинг: голосов еще нет
- Отзывов: 0
Получить код для блога
Вставка фотографии в текущем разрешении |
Вставка миниатюры |
HTML (для вставки в блог):
BBCode (для вставки в форум):
Ссылка на фото:
Ссылка на миниатюру:
- Послать ссылку другу
Комментарии к фотографии |