- Раздел: Другое, разное
- Дата съёмки: 31.12.2009 23:45
- Дата загрузки фото: 16.05.2010 01:10
- Оригинальная фотография: 2016 x 3024 (2,7 Мб)
- Технические характеристики:
- Фотоаппарат: FujiFilm FinePix S5Pro
- Выдержка: 1,0
- Гиперфокальное расстояние: inf m
- Диафрагма: 2,8
- Светочувствительность: 400
- Фокусное расстояние: 34,0 mm (35 mm equivalent: 34,0 mm)
- Экспокоррекция: +2,33
- Полный EXIF
- Adobe
- ColorTransform: YCbCr
- Composite
- Aperture: 2,8
- CircleOfConfusion: 0,020 mm
- FOV: 55,0 deg
- FocalLength35efl: 34,0 mm (35 mm equivalent: 34,0 mm)
- HyperfocalDistance: inf m
- LightValue: 0,0
- ScaleFactor35efl: 1,5
- ShutterSpeed: 1,0
- ExifIFD
- ApertureValue: 2,8
- BrightnessValue: -1,75
- Contrast: Normal
- CreateDate: 2009:12:31 23:45:30
- CustomRendered: Custom
- DateTimeOriginal: 2009:12:31 23:45:30
- ExposureCompensation: +2,33
- ExposureMode: Auto
- ExposureProgram: Aperture-priority AE
- ExposureTime: 1,0
- FNumber: 2,8
- Flash: Off, Did not fire
- FocalLength: 34,0 mm
- FocalLengthIn35mmFormat: 51 mm
- GainControl: High gain up
- ISO: 400
- LightSource: Unknown
- MaxApertureValue: 2,8
- MeteringMode: Multi-segment
- Saturation: Low
- SceneCaptureType: Standard
- SceneType: Directly photographed
- SensingMethod: One-chip color area
- Sharpness: Hard
- ShutterSpeedValue: 1,0
- SubjectDistanceRange: Unknown
- UserComment: LAZY.ALBATROSS@GMAIL.COM
- WhiteBalance: Manual
- ICC-header
- ICC-meas
- ICC-view
- IFD0
- Make: FUJIFILM
- Model: FinePix S5Pro
- ModifyDate: 2010:01:01 20:41:11
- Software: FUJIFILM RAW FILE CONVERTER Plug-In Ver.2, 3, 0, 18
- IFD1
- System
- XMP-aux
- Lens: 28.0-70.0 mm f/2.8
- LensInfo: 2800/100 7000/100 280/100 280/100
- XMP-crs
- AlreadyApplied: True
- BlueHue: 0
- BlueSaturation: 0
- Brightness: +50
- CameraProfile: Embedded
- ChromaticAberrationB: 0
- ChromaticAberrationR: 0
- Clarity: 0
- ColorNoiseReduction: 25
- Contrast: +25
- ConvertToGrayscale: True
- Defringe: 0
- Exposure: -1.62
- FillLight: 13
- GrayMixerAqua: -10
- GrayMixerBlue: +20
- GrayMixerGreen: -19
- GrayMixerMagenta: +28
- GrayMixerOrange: +4
- GrayMixerPurple: +25
- GrayMixerRed: +29
- GrayMixerYellow: -13
- GreenHue: 0
- GreenSaturation: 0
- HasCrop: False
- HasSettings: True
- HighlightRecovery: 0
- IncrementalTemperature: +8
- IncrementalTint: -16
- LuminanceSmoothing: 0
- ParametricDarks: -17
- ParametricHighlightSplit: 75
- ParametricHighlights: 0
- ParametricLights: +28
- ParametricMidtoneSplit: 50
- ParametricShadowSplit: 25
- ParametricShadows: 0
- PostCropVignetteAmount: 0
- RedHue: 0
- RedSaturation: 0
- ShadowTint: 0
- Shadows: 0
- SharpenDetail: 25
- SharpenEdgeMasking: 0
- SharpenRadius: +1.0
- Sharpness: 25
- SplitToningBalance: 0
- SplitToningHighlightHue: 52
- SplitToningHighlightSaturation: 64
- SplitToningShadowHue: 37
- SplitToningShadowSaturation: 22
- ToneCurve: 0, 0, 32, 22, 64, 56, 128, 128, 192, 196, 255, 255
- ToneCurveName: Medium Contrast
- Version: 5.4
- VignetteAmount: 0
- WhiteBalance: Custom
- XMP-exif
- DateTimeDigitized: 2009:12:31 23:45:30+03:00
- DateTimeOriginal: 2009:12:31 23:45:30+03:00
- ExifImageHeight: 3024
- ExifImageWidth: 2016
- FlashFired: False
- FlashFunction: False
- FlashMode: Off
- FlashRedEyeMode: False
- FlashReturn: No return detection
- XMP-tiff
- ImageHeight: 3024
- ImageWidth: 2016
- XMP-xmp
- CreateDate: 2009:12:31 23:45:30+03:00
- ModifyDate: 2010:01:01 20:41:11+03:00
- Просмотров: 190
- Рейтинг: голосов еще нет
- Отзывов: 0