- Раздел: Другое, разное
- Дата съёмки: 11.05.2010 19:54
- Дата загрузки фото: 19.05.2010 17:29
- Оригинальная фотография: 664 x 1000 (276 Кб)
- Технические характеристики:
- Фотоаппарат: Nikon D90
- Выдержка: 1/125
- Гиперфокальное расстояние: inf m
- Диафрагма: 13,0
- Светочувствительность: 200
- Фокусное расстояние: 85,0 mm (35 mm equivalent: 85,0 mm)
- Полный EXIF
- Composite
- Aperture: 13,0
- CircleOfConfusion: 0,020 mm
- FOV: 23,0 deg
- FocalLength35efl: 85,0 mm (35 mm equivalent: 85,0 mm)
- HyperfocalDistance: inf m
- ScaleFactor35efl: 1,5
- ShutterSpeed: 1/125
- ExifIFD
- ApertureValue: 13,0
- ColorSpace: sRGB
- Contrast: Normal
- CreateDate: 2010:05:11 19:54:54
- CustomRendered: Normal
- DateTimeOriginal: 2010:05:11 19:54:54
- DigitalZoomRatio: 1
- ExifImageHeight: 1000
- ExifImageWidth: 664
- ExposureCompensation: 0
- ExposureMode: Manual
- ExposureProgram: Manual
- ExposureTime: 1/125
- FNumber: 13,0
- Flash: On, Return not detected
- FocalLength: 85,0 mm
- FocalLengthIn35mmFormat: 127 mm
- GainControl: None
- ISO: 200
- LightSource: Unknown
- MaxApertureValue: 1,4
- MeteringMode: Multi-segment
- Saturation: Normal
- SceneCaptureType: Standard
- SceneType: Directly photographed
- SensingMethod: One-chip color area
- Sharpness: Normal
- ShutterSpeedValue: 1/125
- SubjectDistanceRange: Unknown
- UserComment: Pokrovskaya OLga
- WhiteBalance: Manual
- GPS
- ICC-header
- IFD0
- Make: NIKON CORPORATION
- Model: NIKON D90
- ModifyDate: 2010:05:11 23:58:09
- Orientation: Horizontal (normal)
- Software: Программа цифровой обработки изображений компании ACD Systems
- IFD1
- IPTC
- Nikon
- IFD0_Offset: 1104
- ImageDataSize: 6719890
- MakerNoteVersion: 2.10
- NikonCaptureVersion: Capture NX 2.2.4 W
- PreviewIFD_Offset: 1004
- System
- XMP-crs
- AlreadyApplied: True
- BlueHue: 0
- BlueSaturation: 0
- Brightness: +50
- CameraProfile: Embedded
- ChromaticAberrationB: 0
- ChromaticAberrationR: 0
- Clarity: +50
- ColorNoiseReduction: 0
- Contrast: +44
- ConvertToGrayscale: True
- Defringe: 0
- Exposure: +0.57
- FillLight: 24
- GrayMixerAqua: +21
- GrayMixerBlue: -14
- GrayMixerGreen: +29
- GrayMixerMagenta: +5
- GrayMixerOrange: +10
- GrayMixerPurple: +14
- GrayMixerRed: +10
- GrayMixerYellow: +10
- GreenHue: 0
- GreenSaturation: 0
- HasCrop: False
- HasSettings: True
- HighlightRecovery: 51
- IncrementalTemperature: 0
- IncrementalTint: 0
- LuminanceSmoothing: 0
- ParametricDarks: -15
- ParametricHighlightSplit: 75
- ParametricHighlights: +20
- ParametricLights: +19
- ParametricMidtoneSplit: 50
- ParametricShadowSplit: 25
- ParametricShadows: -20
- PostCropVignetteAmount: 0
- RedHue: 0
- RedSaturation: 0
- ShadowTint: 0
- Shadows: 33
- SharpenDetail: 25
- SharpenEdgeMasking: 0
- SharpenRadius: +1.0
- Sharpness: 0
- SplitToningBalance: 0
- SplitToningHighlightHue: 0
- SplitToningHighlightSaturation: 0
- SplitToningShadowHue: 0
- SplitToningShadowSaturation: 0
- ToneCurve: 0, 0, 32, 22, 64, 56, 128, 128, 192, 196, 255, 255
- ToneCurveName: Medium Contrast
- Version: 5.4
- VignetteAmount: 0
- WhiteBalance: As Shot
- XMP-dc
- XMP-exif
- DateTimeDigitized: 2010:05:11 19:54:54.0+2:00
- DateTimeOriginal: 2010:05:11 19:54:54.0+2:00
- ExifImageHeight: 4288
- ExifImageWidth: 2848
- FlashFired: True
- FlashFunction: False
- FlashMode: On
- FlashRedEyeMode: False
- FlashReturn: Return not detected
- FocalLengthIn35mmFormat: 127
- GPSVersionID: 2.2.0.0
- XMP-tiff
- BitsPerSample: 16, 16, 16
- ImageHeight: 4288
- ImageWidth: 2848
- PhotometricInterpretation: RGB
- SamplesPerPixel: 3
- XMP-x
- XMP-xmp
- CreateDate: 2010:05:11 20:54:54+03:00
- ModifyDate: 2010:05:11 22:50:48.0+2:00
- XMP-xmpMM
- Просмотров: 173
- Рейтинг: голосов еще нет
- Отзывов: отключены