| » Участники » mkdires » МАКС 2009 » Dassault Rafale F2C, 113-HR / 103, ВВС Франции |
Уважаемые друзья и участники проекта iXBT.photo! К сожалению, 1 марта 2026 года проект iXBT.photo прекратит свою работу и будет закрыт. Мы высоко ценим ваше участие и тот вклад, который вы внесли в развитие нашего сообщества. Пожалуйста, не забудьте сохранить ваши фотографии до этой даты.
С уважением, команда iXBT.com
| Dassault Rafale F2C, 113-HR / 103, ВВС Франции |
Dassault Rafale F2C, 113-HR / 103, ВВС Франции
(фр. Dassault Rafale («Шквал»)) — французский многоцелевой истребитель поколения 4+.Обладает пониженной радиолокационной и инфракрасной заметностью, а также улучшенными характеристиками боевой живучести. По своим возможностям близок к пятому поколению истребителей. Совершил первый полёт 4 июля 1986 года.
Выполнен по традиционной для истребителей фирмы Dassault Aviation схеме с треугольным крылом, в которой переднее поворотное горизонтальное оперение (т.н. канарды) расположены впереди крыла для увеличения маневренности самолета (максимальная перегрузка 11). Однокилевой. Силовая установка двухдвигательная. Может эксплуатироваться с ВПП длиной 400 м.
Базирование: истребительная эскадрилья 1/7 "Provence", Saint-Dizier - Robinson Air Base (BA 113)
- Раздел: Другое, разное
- Дата съёмки: 22.08.2009 13:43
- Дата загрузки фото: 19.05.2010 17:38
- Оригинальная фотография: 1024 x 683 (130 Кб)
- Технические характеристики:
- Фотоаппарат: Canon EOS 30D
- Выдержка: 1/250
- Гиперфокальное расстояние: inf m
- Диафрагма: 8,0
- Светочувствительность: 100
- Фокусное расстояние: 400,0 mm (35 mm equivalent: 2000,0 mm)
- Полный EXIF
- Adobe
- ColorTransform: YCbCr
- Composite
- Aperture: 8,0
- CircleOfConfusion: 0,005 mm
- FOV: 1,0 deg
- FocalLength35efl: 400,0 mm (35 mm equivalent: 2000,0 mm)
- HyperfocalDistance: inf m
- ScaleFactor35efl: 5,5
- ShutterSpeed: 1/250
- ExifIFD
- ApertureValue: 8,0
- ColorSpace: sRGB
- CreateDate: 2009:08:22 13:43:40
- CustomRendered: Normal
- DateTimeOriginal: 2009:08:22 13:43:40
- ExifImageHeight: 683
- ExifImageWidth: 1024
- ExposureCompensation: 0
- ExposureMode: Auto
- ExposureProgram: Aperture-priority AE
- ExposureTime: 1/250
- FNumber: 8,0
- Flash: Off, Did not fire
- FocalLength: 400,0 mm
- ISO: 100
- MaxApertureValue: 5,6
- MeteringMode: Multi-segment
- SceneCaptureType: Standard
- ShutterSpeedValue: 1/250
- WhiteBalance: Auto
- ICC-header
- ICC-meas
- ICC-view
- IFD0
- Artist: Dmitri
- Make: Canon
- Model: Canon EOS 30D
- ModifyDate: 2010:05:19 15:43:13
- Orientation: Horizontal (normal)
- IFD1
- IPTC
- By-line: Dmitri
- System
- XMP-aux
- Firmware: 1.0.6
- FlashCompensation: 0
- ImageNumber: 16
- Lens: EF100-400mm f/4.5-5.6L IS USM
- LensInfo: 100/1 400/1 0/0 0/0
- OwnerName: Dmitri
- SerialNumber: 730518282
- XMP-crs
- AlreadyApplied: True
- BlueHue: 0
- BlueSaturation: 0
- Brightness: +5
- CameraProfile: Camera Landscape
- ChromaticAberrationB: 0
- ChromaticAberrationR: 0
- Clarity: 0
- ColorNoiseReduction: 25
- Contrast: +49
- ConvertToGrayscale: False
- Defringe: 0
- Exposure: +0.40
- FillLight: 6
- GreenHue: 0
- GreenSaturation: 0
- HasCrop: False
- HasSettings: True
- HighlightRecovery: 0
- HueAdjustmentAqua: 0
- HueAdjustmentBlue: 0
- HueAdjustmentGreen: 0
- HueAdjustmentMagenta: 0
- HueAdjustmentOrange: 0
- HueAdjustmentPurple: 0
- HueAdjustmentRed: 0
- HueAdjustmentYellow: 0
- LuminanceAdjustmentAqua: 0
- LuminanceAdjustmentBlue: 0
- LuminanceAdjustmentGreen: 0
- LuminanceAdjustmentMagenta: 0
- LuminanceAdjustmentOrange: 0
- LuminanceAdjustmentPurple: 0
- LuminanceAdjustmentRed: 0
- LuminanceAdjustmentYellow: 0
- LuminanceSmoothing: 0
- ParametricDarks: 0
- ParametricHighlightSplit: 75
- ParametricHighlights: 0
- ParametricLights: 0
- ParametricMidtoneSplit: 50
- ParametricShadowSplit: 25
- ParametricShadows: 0
- PostCropVignetteAmount: 0
- RawFileName: IMG_3073.CR2
- RedHue: 0
- RedSaturation: 0
- Saturation: 0
- SaturationAdjustmentAqua: 0
- SaturationAdjustmentBlue: 0
- SaturationAdjustmentGreen: 0
- SaturationAdjustmentMagenta: 0
- SaturationAdjustmentOrange: 0
- SaturationAdjustmentPurple: 0
- SaturationAdjustmentRed: 0
- SaturationAdjustmentYellow: 0
- ShadowTint: 0
- Shadows: 18
- SharpenDetail: 25
- SharpenEdgeMasking: 0
- SharpenRadius: +1.0
- Sharpness: 25
- SplitToningBalance: 0
- SplitToningHighlightHue: 0
- SplitToningHighlightSaturation: 0
- SplitToningShadowHue: 0
- SplitToningShadowSaturation: 0
- Temperature: 5500
- Tint: +5
- ToneCurve: 0, 0, 32, 22, 64, 56, 128, 128, 192, 196, 255, 255
- ToneCurveName: Medium Contrast
- Version: 5.5
- Vibrance: 0
- VignetteAmount: 0
- WhiteBalance: As Shot
- XMP-dc
- Creator: Dmitri
- Format: image/jpeg
- XMP-exif
- DateTimeDigitized: 2009:08:22 13:43:40+04:00
- DateTimeOriginal: 2009:08:22 13:43:40+04:00
- FlashFired: False
- FlashFunction: False
- FlashMode: Off
- FlashRedEyeMode: False
- FlashReturn: No return detection
- XMP-tiff
- XMP-xmp
- CreateDate: 2009:08:22 13:43:40+04:00
- ModifyDate: 2010:05:19 15:43:13+04:00
- Rating: 0
- XMP-xmpMM
- Просмотров: 401
- Рейтинг: голосов еще нет
- Отзывов: 0
Получить код для блога
| Вставка фотографии в текущем разрешении |
Вставка миниатюры |
HTML (для вставки в блог):
BBCode (для вставки в форум):
Ссылка на фото:
Ссылка на миниатюру:
- Послать ссылку другу
| Комментарии к фотографии |