- Раздел: Цветы
- Дата съёмки: 16.05.2010 13:58
- Дата загрузки фото: 20.05.2010 18:50
- Оригинальная фотография: 3104 x 4672 (5,6 Мб)
- Технические характеристики:
- Фотоаппарат: Pentax K-7
- Выдержка: 1/160
- Гиперфокальное расстояние: inf m
- Диафрагма: 4,5
- Светочувствительность: 100
- Фокусное расстояние: 77,0 mm (35 mm equivalent: 77,0 mm)
- Экспокоррекция: +0,7
- Полный EXIF
- Adobe
- ColorTransform: YCbCr
- Composite
- Aperture: 4,5
- CircleOfConfusion: 0,020 mm
- FOV: 26,0 deg
- FocalLength35efl: 77,0 mm (35 mm equivalent: 77,0 mm)
- HyperfocalDistance: inf m
- ScaleFactor35efl: 1,5
- ShutterSpeed: 1/160
- ExifIFD
- ApertureValue: 4,5
- CFAPattern: [Blue,Green][Green,Red]
- ColorSpace: sRGB
- Contrast: Normal
- CreateDate: 2010:05:16 13:58:29
- CustomRendered: Normal
- DateTimeOriginal: 2010:05:16 13:58:29
- ExifImageHeight: 4672
- ExifImageWidth: 3104
- ExposureCompensation: +0,7
- ExposureMode: Manual
- ExposureProgram: Aperture-priority AE
- ExposureTime: 1/160
- FNumber: 4,5
- Flash: Off, Did not fire
- FocalLength: 77,0 mm
- FocalLengthIn35mmFormat: 115 mm
- ISO: 100
- MeteringMode: Multi-segment
- Saturation: Normal
- SceneCaptureType: Standard
- SensingMethod: One-chip color area
- Sharpness: Hard
- ShutterSpeedValue: 1/160
- SubjectDistanceRange: Close
- WhiteBalance: Manual
- ICC-header
- ICC-meas
- ICC-view
- IFD0
- Artist: Belostotsky Nikolay
- Copyright: Belostotsky Nickolay
- Make: PENTAX
- Model: PENTAX K-7
- ModifyDate: 2010:05:19 01:24:31
- Orientation: Horizontal (normal)
- IFD1
- IPTC
- By-line: Belostotsky Nikolay
- CopyrightNotice: Belostotsky Nickolay
- DateCreated: 2010:05:16
- System
- XMP-aux
- Lens: smc PENTAX-FA 77mm F1.8 Limited
- LensID: 4 24
- LensInfo: 770/10 770/10 18/10 18/10
- XMP-crs
- AlreadyApplied: True
- BlueHue: 0
- BlueSaturation: 0
- Brightness: +49
- ChromaticAberrationB: 0
- ChromaticAberrationR: 0
- Clarity: +26
- ColorNoiseReduction: 25
- ColorNoiseReductionDetail: 50
- Contrast: +25
- ConvertToGrayscale: False
- Defringe: 0
- Exposure: +0.20
- FillLight: 11
- GrainAmount: 0
- GreenHue: 0
- GreenSaturation: 0
- HasCrop: False
- HasSettings: True
- HighlightRecovery: 100
- HueAdjustmentAqua: 0
- HueAdjustmentBlue: 0
- HueAdjustmentGreen: 0
- HueAdjustmentMagenta: 0
- HueAdjustmentOrange: 0
- HueAdjustmentPurple: 0
- HueAdjustmentRed: 0
- HueAdjustmentYellow: 0
- LensManualDistortionAmount: 0
- LensProfileEnable: 0
- LensProfileSetup: LensDefaults
- LuminanceAdjustmentAqua: 0
- LuminanceAdjustmentBlue: 0
- LuminanceAdjustmentGreen: 0
- LuminanceAdjustmentMagenta: 0
- LuminanceAdjustmentOrange: 0
- LuminanceAdjustmentPurple: 0
- LuminanceAdjustmentRed: 0
- LuminanceAdjustmentYellow: 0
- LuminanceSmoothing: 0
- ParametricDarks: 0
- ParametricHighlightSplit: 75
- ParametricHighlights: 0
- ParametricLights: 0
- ParametricMidtoneSplit: 50
- ParametricShadowSplit: 25
- ParametricShadows: 0
- PerspectiveHorizontal: 0
- PerspectiveRotate: 0.0
- PerspectiveScale: 100
- PerspectiveVertical: 0
- PostCropVignetteAmount: 0
- ProcessVersion: 5.7
- RawFileName: IMGP7356.PEF
- RedHue: 0
- RedSaturation: 0
- Saturation: 0
- SaturationAdjustmentAqua: 0
- SaturationAdjustmentBlue: 0
- SaturationAdjustmentGreen: 0
- SaturationAdjustmentMagenta: 0
- SaturationAdjustmentOrange: 0
- SaturationAdjustmentPurple: 0
- SaturationAdjustmentRed: 0
- SaturationAdjustmentYellow: 0
- ShadowTint: 0
- Shadows: 13
- SharpenDetail: 25
- SharpenEdgeMasking: 0
- SharpenRadius: +1.0
- Sharpness: 25
- SplitToningBalance: 0
- SplitToningHighlightHue: 0
- SplitToningHighlightSaturation: 0
- SplitToningShadowHue: 0
- SplitToningShadowSaturation: 0
- Temperature: 6500
- Tint: +10
- ToneCurve: 0, 0, 32, 22, 64, 56, 128, 128, 192, 196, 255, 255
- ToneCurveName: Medium Contrast
- Version: 6.1
- Vibrance: +16
- VignetteAmount: 0
- WhiteBalance: Cloudy
- XMP-dc
- Creator: Belostotsky Nikolay
- Format: image/jpeg
- Rights: Belostotsky Nickolay
- XMP-xmp
- CreateDate: 2010:05:16 13:58:29+04:00
- CreatorTool: K-7 Ver 1.03
- ModifyDate: 2010:05:19 01:24:31+04:00
- Rating: 0
- XMP-xmpMM
- DerivedFrom:
- Просмотров: 180
- Рейтинг: голосов еще нет
- Отзывов: 0