- Раздел: Портрет
- Дата съёмки: 08.05.2010 19:06
- Дата загрузки фото: 21.05.2010 14:54
- Оригинальная фотография: 3104 x 4672 (5,5 Мб)
- Технические характеристики:
- Фотоаппарат: Pentax K-7
- Выдержка: 1/800
- Гиперфокальное расстояние: inf m
- Диафрагма: 2,2
- Светочувствительность: 100
- Фокусное расстояние: 77,0 mm (35 mm equivalent: 77,0 mm)
- Экспокоррекция: +0,7
- Полный EXIF
- Adobe
- ColorTransform: YCbCr
- Composite
- Aperture: 2,2
- CircleOfConfusion: 0,020 mm
- FOV: 26,0 deg
- FocalLength35efl: 77,0 mm (35 mm equivalent: 77,0 mm)
- HyperfocalDistance: inf m
- ScaleFactor35efl: 1,5
- ShutterSpeed: 1/800
- ExifIFD
- ApertureValue: 2,2
- CFAPattern: [Blue,Green][Green,Red]
- ColorSpace: sRGB
- Contrast: High
- CreateDate: 2010:05:08 19:06:59
- CustomRendered: Normal
- DateTimeOriginal: 2010:05:08 19:06:59
- ExifImageHeight: 4672
- ExifImageWidth: 3104
- ExposureCompensation: +0,7
- ExposureMode: Manual
- ExposureProgram: Aperture-priority AE
- ExposureTime: 1/800
- FNumber: 2,2
- Flash: Off, Did not fire
- FocalLength: 77,0 mm
- FocalLengthIn35mmFormat: 115 mm
- ISO: 100
- MeteringMode: Center-weighted average
- Saturation: Normal
- SceneCaptureType: Standard
- SensingMethod: One-chip color area
- Sharpness: Hard
- ShutterSpeedValue: 1/800
- SubjectDistanceRange: Distant
- WhiteBalance: Manual
- ICC-header
- ICC-meas
- ICC-view
- IFD0
- Artist: Belostotsky Nikolay
- Copyright: Belostotsky Nickolay
- Make: PENTAX
- Model: PENTAX K-7
- ModifyDate: 2010:05:20 14:52:30
- Orientation: Horizontal (normal)
- IFD1
- IPTC
- By-line: Belostotsky Nikolay
- CopyrightNotice: Belostotsky Nickolay
- DateCreated: 2010:05:08
- System
- XMP-aux
- Lens: smc PENTAX-FA 77mm F1.8 Limited
- LensID: 4 24
- LensInfo: 770/10 770/10 18/10 18/10
- XMP-crs
- AlreadyApplied: True
- BlueHue: 0
- BlueSaturation: 0
- Brightness: +50
- ChromaticAberrationB: 0
- ChromaticAberrationR: 0
- Clarity: +19
- ColorNoiseReduction: 25
- ColorNoiseReductionDetail: 50
- Contrast: +25
- ConvertToGrayscale: False
- Defringe: 0
- Exposure: 0.00
- FillLight: 11
- GrainAmount: 0
- GreenHue: 0
- GreenSaturation: 0
- HasCrop: False
- HasSettings: True
- HighlightRecovery: 0
- HueAdjustmentAqua: 0
- HueAdjustmentBlue: 0
- HueAdjustmentGreen: 0
- HueAdjustmentMagenta: 0
- HueAdjustmentOrange: 0
- HueAdjustmentPurple: 0
- HueAdjustmentRed: 0
- HueAdjustmentYellow: 0
- LensManualDistortionAmount: 0
- LensProfileEnable: 0
- LensProfileSetup: LensDefaults
- LuminanceAdjustmentAqua: 0
- LuminanceAdjustmentBlue: 0
- LuminanceAdjustmentGreen: 0
- LuminanceAdjustmentMagenta: 0
- LuminanceAdjustmentOrange: 0
- LuminanceAdjustmentPurple: 0
- LuminanceAdjustmentRed: 0
- LuminanceAdjustmentYellow: 0
- LuminanceSmoothing: 0
- ParametricDarks: 0
- ParametricHighlightSplit: 75
- ParametricHighlights: 0
- ParametricLights: 0
- ParametricMidtoneSplit: 50
- ParametricShadowSplit: 25
- ParametricShadows: 0
- PerspectiveHorizontal: 0
- PerspectiveRotate: 0.0
- PerspectiveScale: 100
- PerspectiveVertical: 0
- PostCropVignetteAmount: 0
- ProcessVersion: 5.7
- RawFileName: IMGP7282.PEF
- RedHue: 0
- RedSaturation: 0
- Saturation: 0
- SaturationAdjustmentAqua: 0
- SaturationAdjustmentBlue: 0
- SaturationAdjustmentGreen: 0
- SaturationAdjustmentMagenta: 0
- SaturationAdjustmentOrange: 0
- SaturationAdjustmentPurple: 0
- SaturationAdjustmentRed: 0
- SaturationAdjustmentYellow: 0
- ShadowTint: 0
- Shadows: 11
- SharpenDetail: 25
- SharpenEdgeMasking: 0
- SharpenRadius: +1.0
- Sharpness: 25
- SplitToningBalance: 0
- SplitToningHighlightHue: 0
- SplitToningHighlightSaturation: 0
- SplitToningShadowHue: 0
- SplitToningShadowSaturation: 0
- Temperature: 4350
- Tint: +11
- ToneCurve: 0, 0, 32, 22, 64, 56, 128, 128, 192, 196, 255, 255
- ToneCurveName: Medium Contrast
- Version: 6.1
- Vibrance: +16
- VignetteAmount: 0
- WhiteBalance: Custom
- XMP-dc
- Creator: Belostotsky Nikolay
- Format: image/jpeg
- Rights: Belostotsky Nickolay
- XMP-xmp
- CreateDate: 2010:05:08 19:06:59+04:00
- ModifyDate: 2010:05:20 14:52:30+04:00
- Rating: 0
- XMP-xmpMM
- Просмотров: 1216
- Рейтинг: голосов еще нет
- Отзывов: 0