- Раздел: Город
- Дата съёмки: 26.05.2010 17:29
- Дата загрузки фото: 27.05.2010 01:40
- Оригинальная фотография: 1508 x 1505 (3,1 Мб)
- Технические характеристики:
- Фотоаппарат: Olympus E-510
- Выдержка: 1/25
- Диафрагма: 7,1
- Светочувствительность: 100
- Фокусное расстояние: 14,0 mm
- Полный EXIF
- Adobe
- ColorTransform: YCbCr
- Composite
- Aperture: 7,1
- FocalLength35efl: 14,0 mm
- ShutterSpeed: 1/25
- ExifIFD
- ApertureValue: 7,1
- CFAPattern: [Red,Green][Green,Blue]
- ColorSpace: sRGB
- Contrast: Low
- CreateDate: 2010:05:26 17:29:27
- CustomRendered: Normal
- DateTimeOriginal: 2010:05:26 17:29:27
- DigitalZoomRatio: 1
- ExifImageHeight: 1505
- ExifImageWidth: 1508
- ExposureCompensation: 0
- ExposureMode: Auto
- ExposureProgram: Aperture-priority AE
- ExposureTime: 1/25
- FNumber: 7,1
- Flash: Auto, Did not fire
- FocalLength: 14,0 mm
- GainControl: None
- ISO: 100
- LightSource: Unknown
- MaxApertureValue: 3,5
- MeteringMode: Multi-segment
- Saturation: Normal
- SceneCaptureType: Standard
- Sharpness: Soft
- ShutterSpeedValue: 1/25
- WhiteBalance: Auto
- ICC-header
- ICC-meas
- ICC-view
- IFD0
- ImageDescription: OLYMPUS DIGITAL CAMERA
- Make: OLYMPUS IMAGING CORP.
- Model: E-510
- ModifyDate: 2010:05:27 00:32:52
- Orientation: Horizontal (normal)
- IFD1
- IPTC
- Caption-Abstract: OLYMPUS DIGITAL CAMERA
- System
- XMP-aux
- FlashCompensation: 0
- Lens: 14.0-42.0 mm f/3.5-5.6
- LensInfo: 14/1 42/1 35/10 56/10
- LensSerialNumber: 212401769
- SerialNumber: D63582545
- XMP-crs
- AlreadyApplied: True
- BlueHue: 0
- BlueSaturation: 0
- Brightness: +50
- CameraProfile: ACR 4.4
- ChromaticAberrationB: 0
- ChromaticAberrationR: 0
- Clarity: +100
- ColorNoiseReduction: 25
- Contrast: +36
- ConvertToGrayscale: False
- Defringe: 0
- Exposure: 0.00
- FillLight: 0
- GreenHue: 0
- GreenSaturation: 0
- HasCrop: False
- HasSettings: True
- HighlightRecovery: 100
- HueAdjustmentAqua: 0
- HueAdjustmentBlue: 0
- HueAdjustmentGreen: 0
- HueAdjustmentMagenta: 0
- HueAdjustmentOrange: 0
- HueAdjustmentPurple: 0
- HueAdjustmentRed: 0
- HueAdjustmentYellow: +13
- LuminanceAdjustmentAqua: 0
- LuminanceAdjustmentBlue: 0
- LuminanceAdjustmentGreen: 0
- LuminanceAdjustmentMagenta: 0
- LuminanceAdjustmentOrange: 0
- LuminanceAdjustmentPurple: 0
- LuminanceAdjustmentRed: 0
- LuminanceAdjustmentYellow: 0
- LuminanceSmoothing: 0
- ParametricDarks: -5
- ParametricHighlightSplit: 75
- ParametricHighlights: 0
- ParametricLights: +21
- ParametricMidtoneSplit: 50
- ParametricShadowSplit: 25
- ParametricShadows: 0
- PostCropVignetteAmount: 0
- RawFileName: P5261523.ORF
- RedHue: 0
- RedSaturation: 0
- Saturation: 0
- SaturationAdjustmentAqua: -38
- SaturationAdjustmentBlue: 0
- SaturationAdjustmentGreen: +5
- SaturationAdjustmentMagenta: 0
- SaturationAdjustmentOrange: 0
- SaturationAdjustmentPurple: 0
- SaturationAdjustmentRed: 0
- SaturationAdjustmentYellow: 0
- ShadowTint: 0
- Shadows: 5
- SharpenDetail: 38
- SharpenEdgeMasking: 0
- SharpenRadius: +1.0
- Sharpness: 48
- SplitToningBalance: 0
- SplitToningHighlightHue: 0
- SplitToningHighlightSaturation: 0
- SplitToningShadowHue: 0
- SplitToningShadowSaturation: 0
- Temperature: 4900
- Tint: +13
- ToneCurve: 0, 0, 32, 22, 64, 56, 128, 128, 192, 196, 255, 255
- ToneCurveName: Medium Contrast
- Version: 5.0
- Vibrance: 0
- VignetteAmount: 0
- WhiteBalance: As Shot
- XMP-dc
- Description: OLYMPUS DIGITAL CAMERA
- Format: image/jpeg
- XMP-exif
- DateTimeDigitized: 2010:05:26 17:29:27+03:00
- DateTimeOriginal: 2010:05:26 17:29:27+03:00
- FlashFired: False
- FlashFunction: False
- FlashMode: Auto
- FlashRedEyeMode: False
- FlashReturn: No return detection
- XMP-tiff
- XMP-xmp
- CreateDate: 2010:05:26 17:29:27+03:00
- CreatorTool: Version 1.3
- ModifyDate: 2010:05:27 00:32:52+03:00
- Rating: 0
- XMP-xmpMM