| » Участники » raimon » Пейзажи » 2009-08-02 19-36-53 Северный Урал, вид на гору Косьвинский камень. |
Уважаемые друзья и участники проекта iXBT.photo! К сожалению, 1 марта 2026 года проект iXBT.photo прекратит свою работу и будет закрыт. Мы высоко ценим ваше участие и тот вклад, который вы внесли в развитие нашего сообщества. Пожалуйста, не забудьте сохранить ваши фотографии до этой даты.
С уважением, команда iXBT.com
| 2009-08-02 19-36-53 Северный Урал, вид на гору Косьвинский камень. |
2009-08-02 19-36-53 Северный Урал, вид на гору Косьвинский камень.
- Раздел: Пейзаж
- Дата съёмки: 02.08.2009 19:36
- Дата загрузки фото: 02.06.2010 20:28
- Оригинальная фотография: 1280 x 815 (336 Кб)
- Технические характеристики:
- Фотоаппарат: Canon EOS 450D
- Выдержка: 1/250
- Гиперфокальное расстояние: inf m
- Диафрагма: 6,3
- Светочувствительность: 200
- Фокусное расстояние: 31,0 mm (35 mm equivalent: 155,0 mm)
- Экспокоррекция: -2/3
- Полный EXIF
- Adobe
- ColorTransform: YCbCr
- Composite
- Aperture: 6,3
- CircleOfConfusion: 0,005 mm
- FOV: 13,0 deg
- FocalLength35efl: 31,0 mm (35 mm equivalent: 155,0 mm)
- GPSAltitude: 376 m Above Sea Level
- GPSDateTime: 2009:08:02 13:36:28Z
- GPSLatitude: 59 deg 29' 48,00" N
- GPSLatitudeRef: North
- GPSLongitude: 58 deg 51' 46,00" E
- GPSLongitudeRef: East
- GPSPosition: 59 deg 29' 48,00" N, 58 deg 51' 46,00" E
- HyperfocalDistance: inf m
- ScaleFactor35efl: 5,5
- ShutterSpeed: 1/250
- ExifIFD
- ApertureValue: 6,3
- ColorSpace: Uncalibrated
- CreateDate: 2009:08:02 19:36:28
- CustomRendered: Normal
- DateTimeOriginal: 2009:08:02 19:36:28
- ExifImageHeight: 815
- ExifImageWidth: 1280
- ExposureCompensation: -2/3
- ExposureMode: Auto
- ExposureProgram: Not Defined
- ExposureTime: 1/250
- FNumber: 6,3
- Flash: Off, Did not fire
- FocalLength: 31,0 mm
- ISO: 200
- MaxApertureValue: 4,4
- MeteringMode: Multi-segment
- SceneCaptureType: Standard
- ShutterSpeedValue: 1/250
- TimeZoneOffset: 6
- WhiteBalance: Auto
- GPS
- GPSAltitude: 376 m
- GPSAltitudeRef: Above Sea Level
- GPSDateStamp: 2009:08:02
- GPSLatitude: 59 deg 29' 48,00"
- GPSLongitude: 58 deg 51' 46,00"
- GPSMapDatum: WGS-84
- GPSSatellites: 0
- GPSTimeStamp: 13:36:28
- GPSVersionID: 2.2.0.0
- IFD0
- Artist: Roman Alexandrov
- Make: Canon
- Model: Canon EOS 450D
- ModifyDate: 2009:08:02 19:36:28
- Orientation: Horizontal (normal)
- IFD1
- IPTC
- By-line: Roman Alexandrov
- Country-PrimaryLocationCode: RUS
- Country-PrimaryLocationName: Ðîññèÿ
- Province-State: Sverdlovsk
- Sub-location: Ust'-Tylay
- System
- XMP-aux
- Firmware: 1.1.0
- FlashCompensation: 0
- ImageNumber: 0
- Lens: 18-200mm
- LensInfo: 18/1 200/1 0/0 0/0
- OwnerName: Roman Alexandrov
- SerialNumber: 530105153
- XMP-crs
- AlreadyApplied: True
- BlueHue: 0
- BlueSaturation: 0
- Brightness: +50
- CameraProfile: Camera Landscape
- ChromaticAberrationB: 0
- ChromaticAberrationR: 0
- Clarity: 0
- ColorNoiseReduction: 29
- Contrast: +25
- ConvertToGrayscale: False
- Defringe: 2
- Exposure: 0.00
- FillLight: 14
- GreenHue: 0
- GreenSaturation: 0
- HasCrop: False
- HasSettings: True
- HighlightRecovery: 7
- HueAdjustmentAqua: 0
- HueAdjustmentBlue: 0
- HueAdjustmentGreen: 0
- HueAdjustmentMagenta: 0
- HueAdjustmentOrange: 0
- HueAdjustmentPurple: 0
- HueAdjustmentRed: 0
- HueAdjustmentYellow: 0
- LuminanceAdjustmentAqua: 0
- LuminanceAdjustmentBlue: 0
- LuminanceAdjustmentGreen: 0
- LuminanceAdjustmentMagenta: 0
- LuminanceAdjustmentOrange: 0
- LuminanceAdjustmentPurple: 0
- LuminanceAdjustmentRed: 0
- LuminanceAdjustmentYellow: 0
- LuminanceSmoothing: 6
- ParametricDarks: 0
- ParametricHighlightSplit: 75
- ParametricHighlights: 0
- ParametricLights: 0
- ParametricMidtoneSplit: 50
- ParametricShadowSplit: 25
- ParametricShadows: 0
- PostCropVignetteAmount: 0
- RawFileName: 2009-08-02 19-36-53 (2).CR2
- RedHue: 0
- RedSaturation: 0
- Saturation: 0
- SaturationAdjustmentAqua: 0
- SaturationAdjustmentBlue: 0
- SaturationAdjustmentGreen: 0
- SaturationAdjustmentMagenta: 0
- SaturationAdjustmentOrange: 0
- SaturationAdjustmentPurple: 0
- SaturationAdjustmentRed: 0
- SaturationAdjustmentYellow: 0
- ShadowTint: 0
- Shadows: 5
- SharpenDetail: 25
- SharpenEdgeMasking: 0
- SharpenRadius: +1.0
- Sharpness: 31
- SplitToningBalance: 0
- SplitToningHighlightHue: 0
- SplitToningHighlightSaturation: 0
- SplitToningShadowHue: 0
- SplitToningShadowSaturation: 0
- Temperature: 5500
- Tint: +10
- ToneCurve: 0, 0, 32, 22, 64, 56, 128, 128, 192, 196, 255, 255
- ToneCurveName: Medium Contrast
- Version: 5.4
- Vibrance: +15
- VignetteAmount: +11
- VignetteMidpoint: 47
- WhiteBalance: Daylight
- XMP-dc
- Creator: Roman Alexandrov
- Format: image/jpeg
- XMP-exif
- DateTimeDigitized: 2009:08:02 19:36:28+06:00
- DateTimeOriginal: 2009:08:02 19:36:28+06:00
- ExposureProgram: Unknown (0)
- FlashFired: False
- FlashFunction: False
- FlashMode: Off
- FlashRedEyeMode: False
- FlashReturn: No return detection
- GPSLatitude: 59 deg 29' 48,42" N
- GPSLongitude: 58 deg 51' 46,60" E
- XMP-iptcCore
- CountryCode: RUS
- CreatorCity: Saint-Petersburg
- CreatorCountry: Russia
- CreatorWorkEmail: arv1971@gmail.com
- CreatorWorkURL: http://aleksandroff.spb.ru
- Location: Ust'-Tylay
- XMP-tiff
- BitsPerSample: 16, 16, 16
- ImageHeight: 815
- ImageWidth: 1280
- PhotometricInterpretation: RGB
- PlanarConfiguration: Chunky
- SamplesPerPixel: 3
- XMP-x
- XMP-xmp
- CreateDate: 2009:08:02 19:36:28.94+3:00
- ModifyDate: 2009:08:02 19:36:28+06:00
- Rating: 0
- XMP-xmpMM
Получить код для блога
| Вставка фотографии в текущем разрешении |
Вставка миниатюры |
HTML (для вставки в блог):
BBCode (для вставки в форум):
Ссылка на фото:
Ссылка на миниатюру:
- Послать ссылку другу
| Комментарии к фотографии |