Уважаемые друзья и участники проекта iXBT.photo! К сожалению, 1 марта 2026 года проект iXBT.photo прекратит свою работу и будет закрыт. Мы высоко ценим ваше участие и тот вклад, который вы внесли в развитие нашего сообщества. Пожалуйста, не забудьте сохранить ваши фотографии до этой даты.
С уважением, команда iXBT.com
| IMG_8138.jpg |
IMG_8138.jpg
- Раздел: Портрет
- Дата съёмки: 05.06.2010 20:43
- Дата загрузки фото: 09.06.2010 05:28
- Оригинальная фотография: 1333 x 2000 (512 Кб)
- Технические характеристики:
- Фотоаппарат: Canon EOS-1D Mark III
- Выдержка: 1/80
- Гиперфокальное расстояние: inf m
- Диафрагма: 2,8
- Светочувствительность: 400
- Фокусное расстояние: 29,0 mm (35 mm equivalent: 58,0 mm)
- Полный EXIF
- Composite
- Aperture: 2,8
- CircleOfConfusion: 0,012 mm
- FOV: 34,0 deg
- FocalLength35efl: 29,0 mm (35 mm equivalent: 58,0 mm)
- HyperfocalDistance: inf m
- ScaleFactor35efl: 2,5
- ShutterSpeed: 1/80
- ExifIFD
- ApertureValue: 2,8
- CreateDate: 2010:06:05 20:43:31
- CustomRendered: Normal
- DateTimeOriginal: 2010:06:05 20:43:31
- ExifImageHeight: 2000
- ExifImageWidth: 1333
- ExposureCompensation: 0
- ExposureMode: Manual
- ExposureProgram: Manual
- ExposureTime: 1/80
- FNumber: 2,8
- Flash: On, Fired
- FocalLength: 29,0 mm
- ISO: 400
- MaxApertureValue: 2,8
- MeteringMode: Multi-segment
- SceneCaptureType: Standard
- ShutterSpeedValue: 1/80
- SubjectDistance: m
- WhiteBalance: Auto
- ICC-header
- ICC-meas
- ICC-view
- IFD0
- Artist: demakov.ru
- Make: Canon
- Model: Canon EOS-1D Mark III
- ModifyDate: 2010:06:09 05:26:42
- Orientation: Horizontal (normal)
- Software: ACD Systems Digital Imaging
- IFD1
- IPTC
- System
- XMP-aux
- Firmware: 1.3.0
- FlashCompensation: 0
- ImageNumber: 0
- Lens: EF16-35mm f/2.8L II USM
- LensID: 246
- LensInfo: 16/1 35/1 0/0 0/0
- OwnerName: demakov.ru
- SerialNumber: 543680
- XMP-crs
- AlreadyApplied: True
- BlueHue: 0
- BlueSaturation: 0
- Brightness: +60
- CameraProfile: Camera Faithful
- ChromaticAberrationB: 0
- ChromaticAberrationR: 0
- Clarity: -45
- ColorNoiseReduction: 25
- ColorNoiseReductionDetail: 50
- Contrast: +22
- ConvertToGrayscale: True
- Defringe: 0
- Exposure: +0.78
- FillLight: 0
- GrainAmount: 0
- GrayMixerAqua: -10
- GrayMixerBlue: +20
- GrayMixerGreen: -17
- GrayMixerMagenta: +32
- GrayMixerOrange: +12
- GrayMixerPurple: +25
- GrayMixerRed: +39
- GrayMixerYellow: -9
- GreenHue: 0
- GreenSaturation: 0
- HasCrop: False
- HasSettings: True
- HighlightRecovery: 0
- LensManualDistortionAmount: 0
- LensProfileEnable: 0
- LensProfileSetup: LensDefaults
- LuminanceNoiseReductionContrast: 0
- LuminanceNoiseReductionDetail: 50
- LuminanceSmoothing: 13
- ParametricDarks: -17
- ParametricHighlightSplit: 75
- ParametricHighlights: 0
- ParametricLights: +28
- ParametricMidtoneSplit: 50
- ParametricShadowSplit: 25
- ParametricShadows: 0
- PerspectiveHorizontal: 0
- PerspectiveRotate: 0.0
- PerspectiveScale: 100
- PerspectiveVertical: 0
- PostCropVignetteAmount: 0
- ProcessVersion: 5.7
- RedHue: 0
- RedSaturation: 0
- ShadowTint: 0
- Shadows: 0
- SharpenDetail: 25
- SharpenEdgeMasking: 0
- SharpenRadius: +1.0
- Sharpness: 25
- SplitToningBalance: 0
- SplitToningHighlightHue: 51
- SplitToningHighlightSaturation: 22
- SplitToningShadowHue: 37
- SplitToningShadowSaturation: 32
- Temperature: 5550
- Tint: -4
- ToneCurve: 0, 0, 32, 22, 64, 56, 128, 128, 192, 196, 255, 255
- ToneCurveName: Medium Contrast
- Version: 6.1
- VignetteAmount: 0
- WhiteBalance: Custom
- XMP-dc
- XMP-exif
- DateTimeDigitized: 2010:06:05 20:43:31.36+3:00
- DateTimeOriginal: 2010:06:05 20:43:31.36+3:00
- ExifImageHeight: 3888
- ExifImageWidth: 2592
- FlashFired: True
- FlashFunction: False
- FlashMode: On
- FlashRedEyeMode: False
- FlashReturn: No return detection
- SubjectDistance: 4294967295 m
- XMP-tiff
- ImageHeight: 3888
- ImageWidth: 2592
- XMP-x
- XMP-xmp
- CreateDate: 2010:06:05 21:43:31.36+04:00
- ModifyDate: 2010:06:08 22:11:41.0+3:00
- Просмотров: 244
- Рейтинг: голосов еще нет
- Отзывов: 0
Получить код для блога
| Вставка фотографии в текущем разрешении |
Вставка миниатюры |
HTML (для вставки в блог):
BBCode (для вставки в форум):
Ссылка на фото:
Ссылка на миниатюру:
- Послать ссылку другу
| Комментарии к фотографии |