Уважаемые друзья и участники проекта iXBT.photo! К сожалению, 1 марта 2026 года проект iXBT.photo прекратит свою работу и будет закрыт. Мы высоко ценим ваше участие и тот вклад, который вы внесли в развитие нашего сообщества. Пожалуйста, не забудьте сохранить ваши фотографии до этой даты.
С уважением, команда iXBT.com
| IMG_6061.jpg |
IMG_6061.jpg
- Раздел: Отдых, развлечения
- Дата съёмки: 29.05.2010 17:38
- Дата загрузки фото: 10.06.2010 06:06
- Оригинальная фотография: 1333 x 2000 (897 Кб)
- Технические характеристики:
- Фотоаппарат: Canon EOS-1D Mark III
- Выдержка: 1/200
- Гиперфокальное расстояние: inf m
- Диафрагма: 2,8
- Светочувствительность: 250
- Фокусное расстояние: 30,0 mm (35 mm equivalent: 60,0 mm)
- Полный EXIF
- Composite
- Aperture: 2,8
- CircleOfConfusion: 0,012 mm
- FOV: 33,0 deg
- FocalLength35efl: 30,0 mm (35 mm equivalent: 60,0 mm)
- HyperfocalDistance: inf m
- ScaleFactor35efl: 2,5
- ShutterSpeed: 1/200
- ExifIFD
- ApertureValue: 2,8
- CreateDate: 2010:05:29 17:38:15
- CustomRendered: Normal
- DateTimeOriginal: 2010:05:29 17:38:15
- ExifImageHeight: 2000
- ExifImageWidth: 1333
- ExposureCompensation: 0
- ExposureMode: Auto
- ExposureProgram: Aperture-priority AE
- ExposureTime: 1/200
- FNumber: 2,8
- Flash: No Flash
- FocalLength: 30,0 mm
- ISO: 250
- MaxApertureValue: 2,8
- MeteringMode: Center-weighted average
- SceneCaptureType: Standard
- ShutterSpeedValue: 1/200
- SubjectDistance: m
- WhiteBalance: Auto
- ICC-header
- ICC-meas
- ICC-view
- IFD0
- Artist: demakov.ru
- Make: Canon
- Model: Canon EOS-1D Mark III
- ModifyDate: 2010:06:10 06:00:27
- Orientation: Horizontal (normal)
- Software: ACD Systems Digital Imaging
- IFD1
- IPTC
- System
- XMP-aux
- Firmware: 1.3.0
- FlashCompensation: 0
- ImageNumber: 0
- Lens: EF16-35mm f/2.8L II USM
- LensID: 246
- LensInfo: 16/1 35/1 0/0 0/0
- OwnerName: demakov.ru
- SerialNumber: 543680
- XMP-crs
- AlreadyApplied: True
- BlueHue: 0
- BlueSaturation: 0
- Brightness: +50
- CameraProfile: Camera Faithful
- ChromaticAberrationB: 0
- ChromaticAberrationR: 0
- Clarity: 0
- ColorNoiseReduction: 5
- ColorNoiseReductionDetail: 50
- Contrast: +25
- ConvertToGrayscale: False
- Defringe: 0
- Exposure: +0.51
- FillLight: 21
- GrainAmount: 0
- GreenHue: 0
- GreenSaturation: 0
- HasCrop: False
- HasSettings: True
- HighlightRecovery: 0
- HueAdjustmentAqua: 0
- HueAdjustmentBlue: 0
- HueAdjustmentGreen: 0
- HueAdjustmentMagenta: 0
- HueAdjustmentOrange: 0
- HueAdjustmentPurple: 0
- HueAdjustmentRed: 0
- HueAdjustmentYellow: 0
- LuminanceAdjustmentAqua: 0
- LuminanceAdjustmentBlue: 0
- LuminanceAdjustmentGreen: 0
- LuminanceAdjustmentMagenta: 0
- LuminanceAdjustmentOrange: 0
- LuminanceAdjustmentPurple: 0
- LuminanceAdjustmentRed: 0
- LuminanceAdjustmentYellow: 0
- LuminanceNoiseReductionContrast: 0
- LuminanceNoiseReductionDetail: 50
- LuminanceSmoothing: 10
- ParametricDarks: 0
- ParametricHighlightSplit: 75
- ParametricHighlights: 0
- ParametricLights: 0
- ParametricMidtoneSplit: 50
- ParametricShadowSplit: 25
- ParametricShadows: 0
- PostCropVignetteAmount: -15
- PostCropVignetteFeather: 50
- PostCropVignetteHighlightContrast: 0
- PostCropVignetteMidpoint: 50
- PostCropVignetteRoundness: 0
- PostCropVignetteStyle: 1
- ProcessVersion: 5.7
- RedHue: 0
- RedSaturation: 0
- Saturation: 0
- SaturationAdjustmentAqua: 0
- SaturationAdjustmentBlue: 0
- SaturationAdjustmentGreen: 0
- SaturationAdjustmentMagenta: 0
- SaturationAdjustmentOrange: 0
- SaturationAdjustmentPurple: 0
- SaturationAdjustmentRed: 0
- SaturationAdjustmentYellow: 0
- ShadowTint: 0
- Shadows: 5
- SharpenDetail: 25
- SharpenEdgeMasking: 0
- SharpenRadius: +1.0
- Sharpness: 0
- SplitToningBalance: 0
- SplitToningHighlightHue: 0
- SplitToningHighlightSaturation: 0
- SplitToningShadowHue: 0
- SplitToningShadowSaturation: 0
- Temperature: 5793
- Tint: +24
- ToneCurve: 0, 0, 32, 22, 64, 56, 128, 128, 192, 196, 255, 255
- ToneCurveName: Medium Contrast
- Version: 6.0
- Vibrance: 0
- VignetteAmount: 0
- WhiteBalance: Custom
- XMP-dc
- XMP-exif
- DateTimeDigitized: 2010:05:29 17:38:15.99+3:00
- DateTimeOriginal: 2010:05:29 17:38:15.99+3:00
- ExifImageHeight: 3888
- ExifImageWidth: 2592
- FlashFired: False
- FlashFunction: False
- FlashMode: Unknown
- FlashRedEyeMode: False
- FlashReturn: No return detection
- SubjectDistance: 4294967295 m
- XMP-tiff
- ImageHeight: 3888
- ImageWidth: 2592
- XMP-x
- XMP-xmp
- CreateDate: 2010:05:29 18:38:15.99+04:00
- ModifyDate: 2010:06:07 21:16:16.0+3:00
- Просмотров: 275
- Рейтинг: голосов еще нет
- Отзывов: отключены
Получить код для блога
| Вставка фотографии в текущем разрешении |
Вставка миниатюры |
HTML (для вставки в блог):
BBCode (для вставки в форум):
Ссылка на фото:
Ссылка на миниатюру:
- Послать ссылку другу
| Комментарии к фотографии |