- Раздел: Макро
- Дата съёмки: 06.06.2010 13:21
- Дата загрузки фото: 14.06.2010 22:13
- Оригинальная фотография: 683 x 1024 (457 Кб)
- Технические характеристики:
- Фотоаппарат: Nikon D90
- Выдержка: 1/160
- Гиперфокальное расстояние: inf m
- Диафрагма: 5,6
- Светочувствительность: 200
- Фокусное расстояние: 98,0 mm (35 mm equivalent: 98,0 mm)
- Экспокоррекция: +2/3
- Полный EXIF
- Adobe
- ColorTransform: YCbCr
- Composite
- Aperture: 5,6
- CircleOfConfusion: 0,020 mm
- FOV: 20,0 deg
- FocalLength35efl: 98,0 mm (35 mm equivalent: 98,0 mm)
- HyperfocalDistance: inf m
- ScaleFactor35efl: 1,5
- ShutterSpeed: 1/160
- ExifIFD
- ApertureValue: 5,6
- CFAPattern: [Green,Blue][Red,Green]
- Contrast: Normal
- CreateDate: 2010:06:06 13:21:41
- CustomRendered: Normal
- DateTimeOriginal: 2010:06:06 13:21:41
- DigitalZoomRatio: 1
- ExposureCompensation: +2/3
- ExposureMode: Manual
- ExposureProgram: Manual
- ExposureTime: 1/160
- FNumber: 5,6
- Flash: No Flash
- FocalLength: 98,0 mm
- FocalLengthIn35mmFormat: 147 mm
- GainControl: None
- ISO: 200
- LightSource: Unknown
- MaxApertureValue: 5,7
- MeteringMode: Spot
- Saturation: Normal
- SceneCaptureType: Standard
- SceneType: Directly photographed
- SensingMethod: One-chip color area
- Sharpness: Normal
- ShutterSpeedValue: 1/160
- SubjectDistance: 0,47 m
- SubjectDistanceRange: Unknown
- WhiteBalance: Auto
- ICC-header
- ICC-meas
- ICC-view
- IFD0
- Make: NIKON CORPORATION
- Model: NIKON D90
- ModifyDate: 2010:06:06 20:30:52
- Software: Nikon Transfer 1.1 W
- IFD1
- System
- XMP-aux
- ImageNumber: 822
- Lens: 18.0-105.0 mm f/3.5-5.6
- LensID: 158
- LensInfo: 18/1 105/1 35/10 56/10
- SerialNumber: 6411497
- XMP-crs
- AlreadyApplied: True
- BlueHue: 0
- BlueSaturation: 0
- Brightness: 0
- ChromaticAberrationB: 0
- ChromaticAberrationR: 0
- Clarity: 0
- ColorNoiseReduction: 15
- Contrast: +20
- ConvertToGrayscale: False
- CropAngle: 0
- CropBottom: 0.935942
- CropHeight: 1024
- CropLeft: 0.370382
- CropRight: 0.63623
- CropTop: 0.335541
- CropUnit: pixels
- CropWidth: 683
- Defringe: 0
- Exposure: +0.10
- FillLight: 0
- GreenHue: 0
- GreenSaturation: 0
- HasCrop: True
- HasSettings: True
- HighlightRecovery: 40
- HueAdjustmentAqua: -36
- HueAdjustmentBlue: 0
- HueAdjustmentGreen: -48
- HueAdjustmentMagenta: 0
- HueAdjustmentOrange: 0
- HueAdjustmentPurple: 0
- HueAdjustmentRed: 0
- HueAdjustmentYellow: 0
- LuminanceAdjustmentAqua: 0
- LuminanceAdjustmentBlue: 0
- LuminanceAdjustmentGreen: +64
- LuminanceAdjustmentMagenta: 0
- LuminanceAdjustmentOrange: -86
- LuminanceAdjustmentPurple: 0
- LuminanceAdjustmentRed: 0
- LuminanceAdjustmentYellow: -64
- LuminanceSmoothing: 0
- ParametricDarks: +95
- ParametricHighlightSplit: 75
- ParametricHighlights: -17
- ParametricLights: +55
- ParametricMidtoneSplit: 50
- ParametricShadowSplit: 25
- ParametricShadows: -47
- PostCropVignetteAmount: 0
- RedHue: 0
- RedSaturation: 0
- Saturation: +21
- SaturationAdjustmentAqua: 0
- SaturationAdjustmentBlue: 0
- SaturationAdjustmentGreen: 0
- SaturationAdjustmentMagenta: 0
- SaturationAdjustmentOrange: 0
- SaturationAdjustmentPurple: 0
- SaturationAdjustmentRed: 0
- SaturationAdjustmentYellow: 0
- ShadowTint: 0
- Shadows: 0
- SharpenDetail: 100
- SharpenEdgeMasking: 0
- SharpenRadius: +0.6
- Sharpness: 30
- SplitToningBalance: 0
- SplitToningHighlightHue: 0
- SplitToningHighlightSaturation: 0
- SplitToningShadowHue: 0
- SplitToningShadowSaturation: 0
- Temperature: 4381
- Tint: 0
- ToneCurve: 0, 0, 32, 22, 64, 56, 128, 128, 192, 196, 255, 255
- ToneCurveName: Medium Contrast
- Version: 5.6.1
- Vibrance: 0
- VignetteAmount: 0
- WhiteBalance: Custom
- XMP-exif
- DateTimeDigitized: 2010:06:06 13:21:41.00+04:00
- DateTimeOriginal: 2010:06:06 13:21:41.00+04:00
- ExifImageHeight: 1024
- ExifImageWidth: 683
- FlashFired: False
- FlashFunction: False
- FlashMode: Unknown
- FlashRedEyeMode: False
- FlashReturn: No return detection
- XMP-microsoft
- XMP-tiff
- ImageHeight: 1024
- ImageWidth: 683
- XMP-xmp
- CreateDate: 2010:06:06 13:21:41.00+04:00
- ModifyDate: 2010:06:06 20:30:52+04:00
- Просмотров: 238
- Рейтинг: голосов еще нет
- Отзывов: 0