- Раздел: Другое, разное
- Дата съёмки: 05.02.2010 18:45
- Дата загрузки фото: 27.06.2010 10:05
- Оригинальная фотография: 700 x 467 (201 Кб)
- Технические характеристики:
- Фотоаппарат: Canon EOS 50D
- Выдержка: 1/80
- Гиперфокальное расстояние: inf m
- Диафрагма: 1,4
- Светочувствительность: 200
- Фокусное расстояние: 50,0 mm (35 mm equivalent: 500,0 mm)
- Экспокоррекция: -5/3
- Полный EXIF
- Adobe
- ColorTransform: YCbCr
- Composite
- Aperture: 1,4
- CircleOfConfusion: 0,003 mm
- FOV: 4,0 deg
- FocalLength35efl: 50,0 mm (35 mm equivalent: 500,0 mm)
- HyperfocalDistance: inf m
- ScaleFactor35efl: 10,8
- ShutterSpeed: 1/80
- ExifIFD
- ApertureValue: 1,4
- ColorSpace: sRGB
- CreateDate: 2010:02:05 18:45:05
- CustomRendered: Normal
- DateTimeOriginal: 2010:02:05 18:45:05
- ExifImageHeight: 467
- ExifImageWidth: 700
- ExposureCompensation: -5/3
- ExposureMode: Auto
- ExposureProgram: Aperture-priority AE
- ExposureTime: 1/80
- FNumber: 1,4
- Flash: On, Fired
- FocalLength: 50,0 mm
- ISO: 200
- MaxApertureValue: 1,4
- MeteringMode: Center-weighted average
- SceneCaptureType: Standard
- ShutterSpeedValue: 1/80
- WhiteBalance: Auto
- ICC-header
- ICC-meas
- ICC-view
- IFD0
- Artist: Photographer: Nikolai Yushevich
- Copyright: Copyright: partizanby.livejournal.com
- Make: Canon
- Model: Canon EOS 50D
- ModifyDate: 2010:06:26 15:20:46
- Orientation: Horizontal (normal)
- IFD1
- IPTC
- By-line: Photographer: Nikolai Yushevich
- CopyrightNotice: Copyright: partizanby.livejournal.com
- System
- XMP-aux
- Firmware: 1.0.3
- FlashCompensation: 1,33333333333333
- ImageNumber: 0
- Lens: EF50mm f/1.4 USM
- LensInfo: 50/1 50/1 0/0 0/0
- OwnerName: PartizanBY
- SerialNumber: 530345516
- XMP-crs
- AlreadyApplied: True
- BlueHue: 0
- BlueSaturation: 0
- Brightness: +71
- ChromaticAberrationB: 0
- ChromaticAberrationR: 0
- Clarity: -22
- ColorNoiseReduction: 17
- Contrast: +79
- ConvertToGrayscale: False
- CropAngle: 4.91953
- CropBottom: 0.938699
- CropHeight: 2587
- CropLeft: 0.186677
- CropRight: 0.953329
- CropTop: 0.020365
- CropUnit: pixels
- CropWidth: 3879
- Defringe: 0
- Exposure: +0.30
- FillLight: 7
- GreenHue: 0
- GreenSaturation: 0
- HasCrop: True
- HasSettings: True
- HighlightRecovery: 0
- HueAdjustmentAqua: 0
- HueAdjustmentBlue: 0
- HueAdjustmentGreen: 0
- HueAdjustmentMagenta: 0
- HueAdjustmentOrange: 0
- HueAdjustmentPurple: 0
- HueAdjustmentRed: 0
- HueAdjustmentYellow: 0
- LuminanceAdjustmentAqua: 0
- LuminanceAdjustmentBlue: 0
- LuminanceAdjustmentGreen: 0
- LuminanceAdjustmentMagenta: 0
- LuminanceAdjustmentOrange: 0
- LuminanceAdjustmentPurple: 0
- LuminanceAdjustmentRed: 0
- LuminanceAdjustmentYellow: 0
- LuminanceSmoothing: 0
- ParametricDarks: +5
- ParametricHighlightSplit: 75
- ParametricHighlights: +63
- ParametricLights: +80
- ParametricMidtoneSplit: 50
- ParametricShadowSplit: 25
- ParametricShadows: -29
- PostCropVignetteAmount: -25
- PostCropVignetteFeather: 59
- PostCropVignetteMidpoint: 32
- PostCropVignetteRoundness: +24
- RedHue: 0
- RedSaturation: 0
- Saturation: 0
- SaturationAdjustmentAqua: 0
- SaturationAdjustmentBlue: 0
- SaturationAdjustmentGreen: 0
- SaturationAdjustmentMagenta: 0
- SaturationAdjustmentOrange: 0
- SaturationAdjustmentPurple: 0
- SaturationAdjustmentRed: 0
- SaturationAdjustmentYellow: 0
- ShadowTint: 0
- Shadows: 10
- SharpenDetail: 25
- SharpenEdgeMasking: 0
- SharpenRadius: +1.0
- Sharpness: 0
- SplitToningBalance: 0
- SplitToningHighlightHue: 0
- SplitToningHighlightSaturation: 0
- SplitToningShadowHue: 0
- SplitToningShadowSaturation: 0
- Temperature: 4471
- Tint: +16
- ToneCurve: 0, 0, 32, 22, 64, 56, 128, 128, 192, 196, 255, 255
- ToneCurveName: Medium Contrast
- Version: 5.3
- Vibrance: 0
- VignetteAmount: -31
- VignetteMidpoint: 33
- WhiteBalance: Custom
- XMP-dc
- Creator: Photographer: Nikolai Yushevich
- Format: image/jpeg
- Rights: Copyright: partizanby.livejournal.com
- XMP-exif
- DateTimeDigitized: 2010:02:05 18:45:05.46+02:00
- DateTimeOriginal: 2010:02:05 18:45:05.46+02:00
- FlashFired: True
- FlashFunction: False
- FlashMode: On
- FlashRedEyeMode: False
- FlashReturn: No return detection
- XMP-tiff
- ImageHeight: 2587
- ImageWidth: 3879
- XMP-xmp
- CreateDate: 2010:03:10 20:28:04+02:00
- ModifyDate: 2010:06:26 15:20:46+03:00
- XMP-xmpMM
- Просмотров: 246
- Рейтинг: голосов еще нет
- Отзывов: 0