- Раздел: Другое, разное
- Дата съёмки: 01.07.2009 18:16
- Дата загрузки фото: 12.07.2010 22:45
- Оригинальная фотография: 4080 x 2720 (1,2 Мб)
- Технические характеристики:
- Фотоаппарат: Canon EOS 5D Mark II
- Выдержка: 1/200
- Гиперфокальное расстояние: inf m
- Диафрагма: 5,0
- Светочувствительность: 100
- Фокусное расстояние: 105,0 mm
- Полный EXIF
- Canon
- AEBBracketValue: 0
- AFAreaHeights: 101 101 74 101 101 101 74 101 131
- AFAreaWidths: 84 84 101 84 84 84 101 84 123
- AFAreaXPositions: -1173 -561 0 561 1173 561 0 -561 0
- AFAreaYPositions: 0 280 501 280 0 -280 -501 -280 0
- AFImageHeight: 3744
- AFImageWidth: 5616
- AFMicroAdjActive: No
- AFMicroAdjValue: 0
- AFMode: Single-point AF
- AFPointsInFocus: 8
- AFPointsSelected: 8
- AutoExposureBracketing: Off
- AutoISO: 100
- AutoLightingOptimizer: Standard
- BaseISO: 100
- BlackMaskBottomBorder: 0
- BlackMaskLeftBorder: 0
- BlackMaskRightBorder: 0
- BlackMaskTopBorder: 0
- BracketMode: Off
- BracketShotNumber: 0
- BracketValue: 0
- BulbDuration: 0
- CameraISO: Auto
- CameraOrientation: Horizontal (normal)
- CameraTemperature: 19 C
- CameraType: EOS High-end
- CanonExposureMode: Program AE
- CanonFirmwareVersion: Firmware Version 1.0.7
- CanonFlashMode: Off
- CanonImageHeight: 2720
- CanonImageType: Canon EOS 5D Mark II
- CanonImageWidth: 4080
- CanonModelID: EOS 5D Mark II
- ColorDataVersion: 6 (50D/5DmkII)
- ColorSpace: sRGB
- ColorTempAsShot: 5576
- ColorTempAuto: 5576
- ColorTempCloudy: 6000
- ColorTempDaylight: 5200
- ColorTempFlash: 6108
- ColorTempFluorescent: 3674
- ColorTempKelvin: 5211
- ColorTempMeasured: 5576
- ColorTempShade: 7000
- ColorTempTungsten: 3200
- ColorTemperature: 5200
- ColorTone: Normal
- ContinuousDrive: Continuous
- Contrast: Normal
- ControlMode: Camera Local Control
- DigitalGain: 0
- DigitalZoom: None
- EasyMode: Manual
- ExposureCompensation: 0
- ExposureTime: 1/197
- FNumber: 5
- FileIndex: 2206
- FirmwareVersion: 1.0.7
- FlashActivity: 0
- FlashBits: (none)
- FlashExposureComp: 0
- FlashExposureLock: Off
- FlashGuideNumber: 0
- FlashMeteringMode: Off
- FocalLength: 105 mm
- FocalUnits: 1/mm
- FocusDistanceLower: 16,29
- FocusDistanceUpper: inf
- FocusMode: AI Focus AF
- FocusRange: Not Known
- HighISONoiseReduction: Standard
- HighlightTonePriority: Off
- ISO: 100
- InternalSerialNumber:
- LensModel: EF24-105mm f/4L IS USM
- LensType: Canon EF 24-105mm f/4L IS
- LiveViewShooting: Off
- LongExposureNoiseReduction2: Off
- LongFocal: 105 mm
- MacroMode: Normal
- ManualFlashOutput: n/a
- MaxAperture: 4
- MeasuredEV: 12,12
- MeasuredEV2: 12,25
- MeasuredRGGB: 429 1024 1024 566
- MeteringMode: Evaluative
- MinAperture: 23
- NDFilter: Unknown (-1)
- NumAFPoints: 9
- OpticalZoomCode: n/a
- OriginalDecisionDataOffset: 0
- OriginalImageHeight: 3744
- OriginalImageWidth: 5616
- OwnerName:
- PeripheralLighting: On
- PeripheralLightingSetting: On
- PeripheralLightingValue: 70
- PictureStyle: Standard
- Quality: Normal
- RawJpgSize: Large
- RawMeasuredRGGB: 119718 282040 282981 156170
- RecordMode: JPEG
- Saturation: Normal
- SelfTimer: Off
- SensorBlueLevel: 0
- SensorBottomBorder: 3799
- SensorHeight: 3804
- SensorLeftBorder: 168
- SensorRedLevel: 0
- SensorRightBorder: 5783
- SensorTopBorder: 56
- SensorWidth: 5792
- SequenceNumber: 0
- SerialNumber: 0520304009
- SerialNumberFormat: Format 2
- Sharpness: 3
- SharpnessFrequency: n/a
- ShortFocal: 24 mm
- SlowShutter: None
- TargetAperture: 5
- TargetExposureTime: 1/203
- ToneCurve: Standard
- VRDOffset: 0
- ValidAFPoints: 9
- WBBracketMode: Off
- WBBracketValueAB: 0
- WBBracketValueGM: 0
- WBShiftAB: 0
- WBShiftGM: 0
- WB_RGGBLevelsAsShot: 2427 1024 1024 1742
- WB_RGGBLevelsAuto: 2427 1024 1024 1742
- WB_RGGBLevelsCloudy: 2416 1024 1024 1598
- WB_RGGBLevelsDaylight: 2245 1024 1024 1774
- WB_RGGBLevelsFlash: 2433 1024 1024 1582
- WB_RGGBLevelsFluorescent: 1976 1049 1049 2664
- WB_RGGBLevelsKelvin: 2245 1024 1024 1774
- WB_RGGBLevelsMeasured: 2425 1022 1025 1740
- WB_RGGBLevelsShade: 2576 1024 1024 1464
- WB_RGGBLevelsTungsten: 1734 1104 1104 3032
- WhiteBalance: Auto
- WhiteBalanceBlue: 0
- WhiteBalanceRed: 0
- ZoomSourceWidth: 0
- ZoomTargetWidth: 0
- CanonCustom
- AEBAutoCancel: On
- AEBSequence: 0,-,+
- AFAssistBeam: Emits
- AFMicroadjustment: Disable; 0; 0; 0; 0
- AFOnAELockButtonSwitch: Disable
- AFPointAreaExpansion: Disable
- AFPointSelectionMethod: Normal
- AddOriginalDecisionData: Off
- AssignFuncButton: LCD brightness
- DialDirectionTvAv: Normal
- ExposureLevelIncrements: 1/3 Stop
- FlashSyncSpeedAv: Auto
- FocusingScreen: Eg-A
- HighlightTonePriority: Disable
- ISOExpansion: Off
- ISOSpeedIncrements: 1/3 Stop
- LensAFStopButton: AF stop
- LensDriveNoAF: Focus search on
- LongExposureNoiseReduction: Off
- MirrorLockup: Disable
- SafetyShift: Disable
- SetButtonWhenShooting: Normal (disabled)
- ShutterButtonAFOnButton: Metering + AF start
- SuperimposedDisplay: On
- Composite
- Aperture: 5,0
- BlueBalance: 1,701172
- CircleOfConfusion: 0,031 mm
- DriveMode: Continuous shooting
- FileNumber: 100-2206
- FocalLength35efl: 105,0 mm
- HyperfocalDistance: inf m
- Lens: 24,0 - 105,0 mm
- Lens35efl: 24,0 - 105,0 mm (35 mm equivalent: 23,4 - 102,5 mm)
- LensID: Canon EF 24-105mm f/4L IS
- RedBalance: 2,370117
- ScaleFactor35efl: 1,0
- ShootingMode: Program AE
- ShutterSpeed: 1/200
- WB_RGGBLevels: 2427 1024 1024 1742
- ExifIFD
- ApertureValue: 5,0
- CreateDate: 2009:07:01 18:16:02
- CustomRendered: Normal
- DateTimeOriginal: 2009:07:01 18:16:02
- ExifImageHeight: 2720
- ExifImageWidth: 4080
- ExposureMode: Auto
- ExposureProgram: Program AE
- ExposureTime: 1/200
- FNumber: 5,0
- Flash: Off, Did not fire
- FocalLength: 105,0 mm
- MeteringMode: Multi-segment
- SceneCaptureType: Standard
- ShutterSpeedValue: 1/197
- UserComment:
- GPS
- IFD0
- Artist:
- Copyright:
- Make: Canon
- Model: Canon EOS 5D Mark II
- ModifyDate: 2009:07:01 18:16:02
- Orientation: Horizontal (normal)
- IFD1
- IPTC
- By-line: Corporal Artur Shvartsberg
- By-lineTitle: 1st Marine Division Combat Camera
- Caption-Abstract: The main push, helicopter insertion bravo main push, july 2-4, 20091st Battalion, 5th Marine Regiment is deployed in support of NATO's International Security Assistance Force and will participate in counter insurgency operations and training and mentoring the Afghan National Security Forces to improve security and stability in Afghanistan. DoD photo by Corporal Artur Shvartsberg (Not Reviewed)
- Category: M
- City: Camp Leatherneck
- Country-PrimaryLocationCode: AFG
- Country-PrimaryLocationName: Afghanistan
- Credit: 1st Battalion 5th Marines
- DateCreated: 2009:07:01
- Headline: ISAF- Afghanistan
- ObjectName: 090624-M-7825S-
- OriginalTransmissionReference: 1st Battalion 5th Marines
- Prefs: Tagged:0, ColorClass:0, Rating:0, FrameNum:-00001
- Province-State: Helmand
- SpecialInstructions: Not Reviewed
- SupplementalCategories: Unclassified, , artur.shvartsberg@afg.usmc.mil
- System
- XMP-aux
- Firmware: 1.0.7
- FlashCompensation: 0
- ImageNumber: 0
- Lens: EF24-105mm f/4L IS USM
- LensInfo: 24/1 105/1 0/0 0/0
- SerialNumber: 520304009
- XMP-crs
- AlreadyApplied: False
- BlueHue: 0
- BlueSaturation: 0
- Brightness: 0
- CameraProfile: Embedded
- ChromaticAberrationB: 0
- ChromaticAberrationR: 0
- ColorNoiseReduction: 0
- Contrast: 0
- ConvertToGrayscale: False
- Exposure: 0.00
- FillLight: 0
- GreenHue: 0
- GreenSaturation: 0
- HasCrop: False
- HasSettings: True
- HighlightRecovery: 13
- HueAdjustmentAqua: 0
- HueAdjustmentBlue: 0
- HueAdjustmentGreen: 0
- HueAdjustmentMagenta: 0
- HueAdjustmentOrange: 0
- HueAdjustmentPurple: 0
- HueAdjustmentRed: 0
- HueAdjustmentYellow: 0
- IncrementalTemperature: +3
- IncrementalTint: 0
- LuminanceAdjustmentAqua: 0
- LuminanceAdjustmentBlue: 0
- LuminanceAdjustmentGreen: 0
- LuminanceAdjustmentMagenta: 0
- LuminanceAdjustmentOrange: 0
- LuminanceAdjustmentPurple: 0
- LuminanceAdjustmentRed: 0
- LuminanceAdjustmentYellow: 0
- LuminanceSmoothing: 0
- ParametricDarks: 0
- ParametricHighlightSplit: 75
- ParametricHighlights: 0
- ParametricLights: 0
- ParametricMidtoneSplit: 50
- ParametricShadowSplit: 25
- ParametricShadows: 0
- RawFileName: 090702-M-7825S-128.jpg
- RedHue: 0
- RedSaturation: 0
- Saturation: 0
- SaturationAdjustmentAqua: 0
- SaturationAdjustmentBlue: 0
- SaturationAdjustmentGreen: 0
- SaturationAdjustmentMagenta: 0
- SaturationAdjustmentOrange: 0
- SaturationAdjustmentPurple: 0
- SaturationAdjustmentRed: 0
- SaturationAdjustmentYellow: 0
- ShadowTint: 0
- Shadows: 12
- Sharpness: 22
- SplitToningBalance: 0
- SplitToningHighlightHue: 0
- SplitToningHighlightSaturation: 0
- SplitToningShadowHue: 0
- SplitToningShadowSaturation: 0
- ToneCurve: 0, 0, 255, 255
- ToneCurveName: Linear
- Version: 4.0
- Vibrance: +11
- VignetteAmount: 0
- WhiteBalance: Custom
- XMP-dc
- Creator: Corporal Artur Shvartsberg
- Description: The main push, helicopter insertion bravo main push, july 2-4, 20091st Battalion, 5th Marine Regiment is deployed in support of NATO's International Security Assistance Force and will participate in counter insurgency operations and training and mentoring the Afghan National Security Forces to improve security and stability in Afghanistan. DoD photo by Corporal Artur Shvartsberg (Not Reviewed)
- :
- Title: 090624-M-7825S-
- XMP-exif
- DateTimeDigitized: 2009:07:01 18:16:02.48-07:00
- DateTimeOriginal: 2009:07:01 18:16:02.48-07:00
- FlashFired: False
- FlashFunction: False
- FlashMode: Off
- FlashRedEyeMode: False
- FlashReturn: No return detection
- MaxApertureValue: 4,0
- ShutterSpeedValue: 1/200
- XMP-iptcCore
- XMP-photomech
- CountryCode: AFG
- XMP-tiff
- XMP-x
- XMP-xmp
- ModifyDate: 2009:07:01 18:16:02.48-07:00
- Rating: 0
- Просмотров: 156
- Рейтинг: голосов еще нет
- Отзывов: 0