- Раздел: Другое, разное
- Дата съёмки: 28.07.2009 21:06
- Дата загрузки фото: 12.07.2010 22:47
- Оригинальная фотография: 3744 x 2496 (815 Кб)
- Технические характеристики:
- Фотоаппарат: Canon EOS 5D Mark II
- Выдержка: 1/100
- Гиперфокальное расстояние: inf m
- Диафрагма: 13,0
- Светочувствительность: 200
- Фокусное расстояние: 98,0 mm (35 mm equivalent: 98,0 mm)
- Экспокоррекция: -1/3
- Полный EXIF
- Adobe
- ColorTransform: YCbCr
- Composite
- Aperture: 13,0
- CircleOfConfusion: 0,028 mm
- FOV: 20,0 deg
- FocalLength35efl: 98,0 mm (35 mm equivalent: 98,0 mm)
- HyperfocalDistance: inf m
- ScaleFactor35efl: 1,1
- ShutterSpeed: 1/100
- ExifIFD
- ApertureValue: 13,0
- ColorSpace: Uncalibrated
- CreateDate: 2009:07:28 21:06:41
- CustomRendered: Normal
- DateTimeOriginal: 2009:07:28 21:06:41
- ExifImageHeight: 2496
- ExifImageWidth: 3744
- ExposureCompensation: -1/3
- ExposureMode: Auto
- ExposureProgram: Aperture-priority AE
- ExposureTime: 1/100
- FNumber: 13,0
- Flash: Off, Did not fire
- FocalLength: 98,0 mm
- ISO: 200
- MaxApertureValue: 4,0
- MeteringMode: Multi-segment
- SceneCaptureType: Standard
- ShutterSpeedValue: 1/100
- WhiteBalance: Auto
- ICC-header
- IFD0
- Make: Canon
- Model: Canon EOS 5D Mark II
- ModifyDate: 2009:07:30 22:01:10
- Orientation: Horizontal (normal)
- TimeZoneOffset: -7 -7
- IFD1
- IPTC
- By-line: Corporal Artur Shvartsberg
- By-lineTitle: 1st Marine Division Combat Camera
- Category: M
- City: Camp Leatherneck
- Country-PrimaryLocationCode: AFG
- Country-PrimaryLocationName: Afghanistan
- Credit: 1st Battalion 5th Marines
- DateCreated: 2009:07:28
- Headline: ISAF- Afghanistan
- ObjectName: 090729-M-7825S-118
- OriginalTransmissionReference: 1st Battalion 5th Marines
- Prefs: Tagged:0, ColorClass:0, Rating:0, FrameNum:-00001
- Province-State: Helmand
- SpecialInstructions: Not Reviewed
- SupplementalCategories: Unclassified, , artur.shvartsberg@afg.usmc.mil
- System
- XMP-aux
- Firmware: 1.0.7
- FlashCompensation: 0
- ImageNumber: 0
- Lens: EF24-105mm f/4L IS USM
- LensInfo: 24/1 105/1 0/0 0/0
- SerialNumber: 520304009
- XMP-crs
- AlreadyApplied: True
- BlueHue: 0
- BlueSaturation: 0
- Brightness: 0
- CameraProfile: Embedded
- ChromaticAberrationB: 0
- ChromaticAberrationR: 0
- ColorNoiseReduction: 0
- Contrast: +16
- ConvertToGrayscale: False
- CropAngle: 0
- CropBottom: 0.969805
- CropLeft: 0.063371
- CropRight: 0.981043
- CropTop: 0.052133
- Exposure: 0.00
- FillLight: 0
- GreenHue: 0
- GreenSaturation: 0
- HasCrop: True
- HasSettings: True
- HighlightRecovery: 36
- HueAdjustmentAqua: 0
- HueAdjustmentBlue: 0
- HueAdjustmentGreen: 0
- HueAdjustmentMagenta: 0
- HueAdjustmentOrange: 0
- HueAdjustmentPurple: 0
- HueAdjustmentRed: 0
- HueAdjustmentYellow: 0
- IncrementalTemperature: 0
- IncrementalTint: 0
- LuminanceAdjustmentAqua: 0
- LuminanceAdjustmentBlue: 0
- LuminanceAdjustmentGreen: 0
- LuminanceAdjustmentMagenta: 0
- LuminanceAdjustmentOrange: 0
- LuminanceAdjustmentPurple: 0
- LuminanceAdjustmentRed: 0
- LuminanceAdjustmentYellow: 0
- LuminanceSmoothing: 0
- ParametricDarks: 0
- ParametricHighlightSplit: 75
- ParametricHighlights: 0
- ParametricLights: 0
- ParametricMidtoneSplit: 50
- ParametricShadowSplit: 25
- ParametricShadows: 0
- RawFileName: 090729-M-7825S-118.JPG
- RedHue: 0
- RedSaturation: 0
- Saturation: +11
- SaturationAdjustmentAqua: 0
- SaturationAdjustmentBlue: 0
- SaturationAdjustmentGreen: 0
- SaturationAdjustmentMagenta: 0
- SaturationAdjustmentOrange: 0
- SaturationAdjustmentPurple: 0
- SaturationAdjustmentRed: 0
- SaturationAdjustmentYellow: 0
- ShadowTint: 0
- Shadows: 16
- Sharpness: 18
- SplitToningBalance: 0
- SplitToningHighlightHue: 0
- SplitToningHighlightSaturation: 0
- SplitToningShadowHue: 0
- SplitToningShadowSaturation: 0
- ToneCurve: 0, 0, 255, 255
- ToneCurveName: Linear
- Version: 4.0
- Vibrance: +19
- VignetteAmount: 0
- WhiteBalance: Custom
- XMP-dc
- Creator: Corporal Artur Shvartsberg
- :
- Format: image/jpeg
- Title: 090729-M-7825S-118
- XMP-exif
- ColorSpace: Unknown (-1)
- DateTimeDigitized: 2009:07:28 21:06:41.22-07:00
- DateTimeOriginal: 2009:07:28 21:06:41.22-07:00
- FlashFired: False
- FlashFunction: False
- FlashMode: Off
- FlashRedEyeMode: False
- FlashReturn: No return detection
- XMP-iptcCore
- XMP-photomech
- CountryCode: AFG
- XMP-tiff
- XMP-x
- XMP-xmp
- CreateDate: 2009:07:28 21:06:41.22-07:00
- ModifyDate: 2009:07:30 22:01:10-07:00
- XMP-xmpMM
- Просмотров: 222
- Рейтинг: голосов еще нет
- Отзывов: 0