- Раздел: Другое, разное
- Дата съёмки: 14.08.2009 20:27
- Дата загрузки фото: 12.07.2010 22:49
- Оригинальная фотография: 3072 x 2048 (789 Кб)
- Технические характеристики:
- Фотоаппарат: Canon EOS 5D Mark II
- Выдержка: 1/125
- Гиперфокальное расстояние: inf m
- Диафрагма: 16,0
- Светочувствительность: 100
- Фокусное расстояние: 32,0 mm (35 mm equivalent: 32,0 mm)
- Полный EXIF
- Adobe
- ColorTransform: YCbCr
- Composite
- Aperture: 16,0
- CircleOfConfusion: 0,023 mm
- FOV: 58,0 deg
- FocalLength35efl: 32,0 mm (35 mm equivalent: 32,0 mm)
- HyperfocalDistance: inf m
- ScaleFactor35efl: 1,3
- ShutterSpeed: 1/125
- ExifIFD
- ApertureValue: 16,0
- ColorSpace: Uncalibrated
- CreateDate: 2009:08:14 20:27:09
- CustomRendered: Normal
- DateTimeOriginal: 2009:08:14 20:27:09
- ExifImageHeight: 2048
- ExifImageWidth: 3072
- ExposureCompensation: 0
- ExposureMode: Auto
- ExposureProgram: Aperture-priority AE
- ExposureTime: 1/125
- FNumber: 16,0
- Flash: Off, Did not fire
- FocalLength: 32,0 mm
- ISO: 100
- MaxApertureValue: 4,0
- MeteringMode: Multi-segment
- SceneCaptureType: Standard
- ShutterSpeedValue: 1/125
- WhiteBalance: Auto
- ICC-header
- IFD0
- Make: Canon
- Model: Canon EOS 5D Mark II
- ModifyDate: 2009:08:15 00:51:48
- Orientation: Horizontal (normal)
- TimeZoneOffset: -7 -7
- IFD1
- IPTC
- By-line: Corporal Artur Shvartsberg
- By-lineTitle: 1st Marine Division Combat Camera
- Caption-Abstract: U.S. Explosive Ordnance Disposal Marines with Bravo Company, 1st Battalion, 5th Marine Regiment (1/5) blow up an improvised explosive device during a security patrol through the Nawa District of Helmand, Province, Afghanistan on Aug. 14, 2009. Marines conduct security patrols to decrease insurgent activity and gain the trust of the local Afghan people. 1st Battalion, 5th Marine Regiment is deployed with Regimental Combat Team 3, whose mission is to conduct counter insurgency operations in partnership with the Afghan national security forces in southern Afghanistan.
(U.S. Marine Corps photo by Cpl. Artur Shvartsberg/Released)
- Category: M
- City: Camp Leatherneck
- Country-PrimaryLocationCode: AFG
- Country-PrimaryLocationName: Afghanistan
- Credit: 1st Battalion 5th Marines
- DateCreated: 2009:08:10
- Headline: ISAF- Afghanistan
- ObjectName: 090814-M-7825S-416
- OriginalTransmissionReference: 1st Battalion 5th Marines
- Prefs: Tagged:0, ColorClass:0, Rating:0, FrameNum:-00001
- Province-State: Helmand
- SpecialInstructions: Not Reviewed
- SupplementalCategories: Unclassified, , artur.shvartsberg@afg.usmc.mil
- System
- XMP-aux
- Firmware: 1.0.7
- FlashCompensation: 0
- ImageNumber: 0
- Lens: EF24-105mm f/4L IS USM
- LensInfo: 24/1 105/1 0/0 0/0
- SerialNumber: 520304009
- XMP-crs
- AlreadyApplied: True
- BlueHue: 0
- BlueSaturation: 0
- Brightness: 0
- CameraProfile: Embedded
- ChromaticAberrationB: 0
- ChromaticAberrationR: 0
- ColorNoiseReduction: 0
- Contrast: +21
- ConvertToGrayscale: False
- Exposure: 0.00
- FillLight: 4
- GreenHue: 0
- GreenSaturation: 0
- HasCrop: False
- HasSettings: True
- HighlightRecovery: 0
- HueAdjustmentAqua: 0
- HueAdjustmentBlue: 0
- HueAdjustmentGreen: 0
- HueAdjustmentMagenta: 0
- HueAdjustmentOrange: 0
- HueAdjustmentPurple: 0
- HueAdjustmentRed: 0
- HueAdjustmentYellow: 0
- IncrementalTemperature: +3
- IncrementalTint: 0
- LuminanceAdjustmentAqua: 0
- LuminanceAdjustmentBlue: 0
- LuminanceAdjustmentGreen: 0
- LuminanceAdjustmentMagenta: 0
- LuminanceAdjustmentOrange: 0
- LuminanceAdjustmentPurple: 0
- LuminanceAdjustmentRed: 0
- LuminanceAdjustmentYellow: 0
- LuminanceSmoothing: 0
- ParametricDarks: 0
- ParametricHighlightSplit: 75
- ParametricHighlights: 0
- ParametricLights: 0
- ParametricMidtoneSplit: 50
- ParametricShadowSplit: 25
- ParametricShadows: 0
- RawFileName: 090814-M-7825S-416.jpg
- RedHue: 0
- RedSaturation: 0
- Saturation: +26
- SaturationAdjustmentAqua: 0
- SaturationAdjustmentBlue: 0
- SaturationAdjustmentGreen: 0
- SaturationAdjustmentMagenta: 0
- SaturationAdjustmentOrange: 0
- SaturationAdjustmentPurple: 0
- SaturationAdjustmentRed: 0
- SaturationAdjustmentYellow: 0
- ShadowTint: 0
- Shadows: 18
- Sharpness: 20
- SplitToningBalance: 0
- SplitToningHighlightHue: 0
- SplitToningHighlightSaturation: 0
- SplitToningShadowHue: 0
- SplitToningShadowSaturation: 0
- ToneCurve: 0, 0, 255, 255
- ToneCurveName: Linear
- Version: 4.0
- Vibrance: +26
- VignetteAmount: 0
- WhiteBalance: Custom
- XMP-dc
- Creator: Corporal Artur Shvartsberg
- Description: U.S. Explosive Ordnance Disposal Marines with Bravo Company, 1st Battalion, 5th Marine Regiment (1/5) blow up an improvised explosive device during a security patrol through the Nawa District of Helmand, Province, Afghanistan on Aug. 14, 2009. Marines conduct security patrols to decrease insurgent activity and gain the trust of the local Afghan people. 1st Battalion, 5th Marine Regiment is deployed with Regimental Combat Team 3, whose mission is to conduct counter insurgency operations in partnership with the Afghan national security forces in southern Afghanistan.
- (U.S. Marine Corps photo by Cpl. Artur Shvartsberg/Released):
- :
- Format: image/jpeg
- Title: 090814-M-7825S-416
- XMP-exif
- ColorSpace: Unknown (-1)
- DateTimeDigitized: 2009:08:14 20:27:09.70-07:00
- DateTimeOriginal: 2009:08:14 20:27:09.70-07:00
- FlashFired: False
- FlashFunction: False
- FlashMode: Off
- FlashRedEyeMode: False
- FlashReturn: No return detection
- XMP-iptcCore
- XMP-photomech
- CountryCode: AFG
- XMP-tiff
- XMP-x
- XMP-xmp
- CreateDate: 2009:08:14 20:27:09.7-07:00
- ModifyDate: 2009:08:15 00:51:48-07:00
- XMP-xmpMM
- Просмотров: 190
- Рейтинг: голосов еще нет
- Отзывов: 0