- Раздел: Другое, разное
- Дата съёмки: 26.08.2009 22:17
- Дата загрузки фото: 12.07.2010 22:50
- Оригинальная фотография: 1536 x 1024 (806 Кб)
- Технические характеристики:
- Фотоаппарат: Canon EOS 5D Mark II
- Выдержка: 1/320
- Гиперфокальное расстояние: inf m
- Диафрагма: 14,0
- Светочувствительность: 250
- Фокусное расстояние: 120,0 mm (35 mm equivalent: 240,0 mm)
- Экспокоррекция: -1/3
- Полный EXIF
- Adobe
- ColorTransform: YCbCr
- Composite
- Aperture: 14,0
- CircleOfConfusion: 0,012 mm
- FOV: 8,0 deg
- FocalLength35efl: 120,0 mm (35 mm equivalent: 240,0 mm)
- HyperfocalDistance: inf m
- ScaleFactor35efl: 2,6
- ShutterSpeed: 1/320
- ExifIFD
- ApertureValue: 14,0
- ColorSpace: Uncalibrated
- CreateDate: 2009:08:26 22:17:14
- CustomRendered: Normal
- DateTimeOriginal: 2009:08:26 22:17:14
- ExifImageHeight: 1024
- ExifImageWidth: 1536
- ExposureCompensation: -1/3
- ExposureMode: Auto
- ExposureProgram: Aperture-priority AE
- ExposureTime: 1/320
- FNumber: 14,0
- Flash: Off, Did not fire
- FocalLength: 120,0 mm
- ISO: 250
- MaxApertureValue: 2,8
- MeteringMode: Multi-segment
- SceneCaptureType: Standard
- ShutterSpeedValue: 1/320
- WhiteBalance: Auto
- ICC-header
- IFD0
- Make: Canon
- Model: Canon EOS 5D Mark II
- ModifyDate: 2009:08:29 04:12:08
- Orientation: Horizontal (normal)
- TimeZoneOffset: -7 -7
- IFD1
- IPTC
- By-line: Corporal Artur Shvartsberg
- By-lineTitle: 1st Marine Division Combat Camera
- Caption-Abstract: Local Afghan children play with Shadow, a bomb sniffing dog with Bravo Company, 1st Battalion, 5th Marine Regiment, (1/5) at the Nawa District of Helmand Province, Afghanistan on Aug. 27, 2009. U.S. Marine bomb sniffing dogs are used to sniff out any type of explosives and improvised explosive devices before they can harm U.S. service members. 1st Battalion, 5th Marine Regiment is deployed with Regimental Combat Team 3, whose mission is to conduct counter insurgency operations in partnership with the Afghan national security forces in southern Afghanistan.
(U.S. Marine Corps photo by Cpl. Artur Shvartsberg/Released)
- Category: M
- City: Camp Leatherneck
- Country-PrimaryLocationCode: AFG
- Country-PrimaryLocationName: Afghanistan
- Credit: 1st Battalion 5th Marines- RCT 3
- DateCreated: 2009:08:29
- Headline: ISAF- Afghanistan
- ObjectName: 090827-M-7825S-060
- OriginalTransmissionReference: 1st Battalion 5th Marines
- Prefs: Tagged:0, ColorClass:0, Rating:0, FrameNum:-00001
- Province-State: Helmand
- SpecialInstructions: Not Reviewed
- SupplementalCategories: Unclassified, , artur.shvartsberg@afg.usmc.mil
- System
- XMP-aux
- Firmware: 1.0.7
- FlashCompensation: 0
- ImageNumber: 0
- Lens: EF70-200mm f/2.8L IS USM
- LensInfo: 70/1 200/1 0/0 0/0
- SerialNumber: 520304009
- XMP-crs
- AlreadyApplied: True
- BlueHue: 0
- BlueSaturation: 0
- Brightness: 0
- CameraProfile: Embedded
- ChromaticAberrationB: 0
- ChromaticAberrationR: 0
- ColorNoiseReduction: 0
- Contrast: +22
- ConvertToGrayscale: False
- Exposure: 0.00
- FillLight: 0
- GreenHue: 0
- GreenSaturation: 0
- HasCrop: False
- HasSettings: True
- HighlightRecovery: 0
- HueAdjustmentAqua: 0
- HueAdjustmentBlue: 0
- HueAdjustmentGreen: 0
- HueAdjustmentMagenta: 0
- HueAdjustmentOrange: 0
- HueAdjustmentPurple: 0
- HueAdjustmentRed: 0
- HueAdjustmentYellow: 0
- IncrementalTemperature: 0
- IncrementalTint: 0
- LuminanceAdjustmentAqua: 0
- LuminanceAdjustmentBlue: 0
- LuminanceAdjustmentGreen: 0
- LuminanceAdjustmentMagenta: 0
- LuminanceAdjustmentOrange: 0
- LuminanceAdjustmentPurple: 0
- LuminanceAdjustmentRed: 0
- LuminanceAdjustmentYellow: 0
- LuminanceSmoothing: 0
- ParametricDarks: 0
- ParametricHighlightSplit: 75
- ParametricHighlights: 0
- ParametricLights: 0
- ParametricMidtoneSplit: 50
- ParametricShadowSplit: 25
- ParametricShadows: 0
- RawFileName: 090827-M-7825S-060.jpg
- RedHue: 0
- RedSaturation: 0
- Saturation: +9
- SaturationAdjustmentAqua: 0
- SaturationAdjustmentBlue: 0
- SaturationAdjustmentGreen: 0
- SaturationAdjustmentMagenta: 0
- SaturationAdjustmentOrange: 0
- SaturationAdjustmentPurple: 0
- SaturationAdjustmentRed: 0
- SaturationAdjustmentYellow: 0
- ShadowTint: 0
- Shadows: 11
- Sharpness: 22
- SplitToningBalance: 0
- SplitToningHighlightHue: 0
- SplitToningHighlightSaturation: 0
- SplitToningShadowHue: 0
- SplitToningShadowSaturation: 0
- ToneCurve: 0, 0, 255, 255
- ToneCurveName: Linear
- Version: 4.0
- Vibrance: +7
- VignetteAmount: 0
- WhiteBalance: As Shot
- XMP-dc
- Creator: Corporal Artur Shvartsberg
- Description: Local Afghan children play with Shadow, a bomb sniffing dog with Bravo Company, 1st Battalion, 5th Marine Regiment, (1/5) at the Nawa District of Helmand Province, Afghanistan on Aug. 27, 2009. U.S. Marine bomb sniffing dogs are used to sniff out any type of explosives and improvised explosive devices before they can harm U.S. service members. 1st Battalion, 5th Marine Regiment is deployed with Regimental Combat Team 3, whose mission is to conduct counter insurgency operations in partnership with the Afghan national security forces in southern Afghanistan.
- (U.S. Marine Corps photo by Cpl. Artur Shvartsberg/Released):
- :
- Format: image/jpeg
- Title: 090827-M-7825S-060
- XMP-exif
- ColorSpace: Unknown (-1)
- DateTimeDigitized: 2009:08:26 22:17:14.50-07:00
- DateTimeOriginal: 2009:08:26 22:17:14.50-07:00
- FlashFired: False
- FlashFunction: False
- FlashMode: Off
- FlashRedEyeMode: False
- FlashReturn: No return detection
- XMP-iptcCore
- XMP-photomech
- CountryCode: AFG
- XMP-tiff
- XMP-x
- XMP-xmp
- CreateDate: 2009:08:26 22:17:14.5-07:00
- ModifyDate: 2009:08:29 04:12:08-07:00
- XMP-xmpMM
- Просмотров: 202
- Рейтинг: голосов еще нет
- Отзывов: 0