- Раздел: Другое, разное
- Дата съёмки: 02.01.2008 18:43
- Дата загрузки фото: 12.07.2010 22:51
- Оригинальная фотография: 3072 x 2048 (868 Кб)
- Технические характеристики:
- Фотоаппарат: Canon EOS 5D Mark II
- Выдержка: 1/100
- Гиперфокальное расстояние: inf m
- Диафрагма: 16,0
- Светочувствительность: 100
- Фокусное расстояние: 45,0 mm (35 mm equivalent: 45,0 mm)
- Полный EXIF
- Adobe
- ColorTransform: YCbCr
- Composite
- Aperture: 16,0
- CircleOfConfusion: 0,023 mm
- FOV: 43,0 deg
- FocalLength35efl: 45,0 mm (35 mm equivalent: 45,0 mm)
- HyperfocalDistance: inf m
- ScaleFactor35efl: 1,3
- ShutterSpeed: 1/100
- ExifIFD
- ApertureValue: 16,0
- ColorSpace: Uncalibrated
- CreateDate: 2008:01:02 18:43:11
- CustomRendered: Normal
- DateTimeOriginal: 2008:01:02 18:43:11
- ExifImageHeight: 2048
- ExifImageWidth: 3072
- ExposureCompensation: 0
- ExposureMode: Auto
- ExposureProgram: Aperture-priority AE
- ExposureTime: 1/100
- FNumber: 16,0
- Flash: Off, Did not fire
- FocalLength: 45,0 mm
- ISO: 100
- MeteringMode: Multi-segment
- SceneCaptureType: Standard
- ShutterSpeedValue: 1/100
- WhiteBalance: Auto
- ICC-header
- IFD0
- Make: Canon
- Model: Canon EOS 5D Mark II
- ModifyDate: 2009:09:04 13:42:53
- Orientation: Horizontal (normal)
- TimeZoneOffset: 5 5
- IFD1
- IPTC
- By-line: Corporal Artur Shvartsberg
- By-lineTitle: 1st Marine Division Combat Camera
(U.S. Marine Corps photo by Cpl. Artur Shvartsberg/Released)
- Category: M
- City: Camp Leatherneck
- Country-PrimaryLocationCode: AFG
- Country-PrimaryLocationName: Afghanistan
- Credit: 1st Battalion 5th Marines- RCT 3
- DateCreated: 2009:09:04
- Headline: ISAF- Afghanistan
- ObjectName: 090904-M-7825S-002
- OriginalTransmissionReference: 1st Battalion 5th Marines
- Prefs: Tagged:0, ColorClass:0, Rating:0, FrameNum:-00001
- Province-State: Helmand
- SpecialInstructions: Not Reviewed
- SupplementalCategories: Unclassified, , artur.shvartsberg@afg.usmc.mil
- System
- XMP-aux
- FlashCompensation: 0
- ImageNumber: 0
- SerialNumber: 520303937
- XMP-crs
- AlreadyApplied: True
- BlueHue: 0
- BlueSaturation: 0
- Brightness: 0
- CameraProfile: Embedded
- ChromaticAberrationB: 0
- ChromaticAberrationR: 0
- ColorNoiseReduction: 0
- Contrast: +9
- ConvertToGrayscale: False
- Exposure: 0.00
- FillLight: 0
- GreenHue: 0
- GreenSaturation: 0
- HasCrop: False
- HasSettings: True
- HighlightRecovery: 0
- HueAdjustmentAqua: 0
- HueAdjustmentBlue: 0
- HueAdjustmentGreen: 0
- HueAdjustmentMagenta: 0
- HueAdjustmentOrange: 0
- HueAdjustmentPurple: 0
- HueAdjustmentRed: 0
- HueAdjustmentYellow: 0
- IncrementalTemperature: 0
- IncrementalTint: 0
- LuminanceAdjustmentAqua: 0
- LuminanceAdjustmentBlue: 0
- LuminanceAdjustmentGreen: 0
- LuminanceAdjustmentMagenta: 0
- LuminanceAdjustmentOrange: 0
- LuminanceAdjustmentPurple: 0
- LuminanceAdjustmentRed: 0
- LuminanceAdjustmentYellow: 0
- LuminanceSmoothing: 0
- ParametricDarks: 0
- ParametricHighlightSplit: 75
- ParametricHighlights: 0
- ParametricLights: 0
- ParametricMidtoneSplit: 50
- ParametricShadowSplit: 25
- ParametricShadows: 0
- RawFileName: 090904-M-7825S-002.jpg
- RedHue: 0
- RedSaturation: 0
- Saturation: +1
- SaturationAdjustmentAqua: 0
- SaturationAdjustmentBlue: 0
- SaturationAdjustmentGreen: 0
- SaturationAdjustmentMagenta: 0
- SaturationAdjustmentOrange: 0
- SaturationAdjustmentPurple: 0
- SaturationAdjustmentRed: 0
- SaturationAdjustmentYellow: 0
- ShadowTint: 0
- Shadows: 10
- Sharpness: 23
- SplitToningBalance: 0
- SplitToningHighlightHue: 0
- SplitToningHighlightSaturation: 0
- SplitToningShadowHue: 0
- SplitToningShadowSaturation: 0
- ToneCurve: 0, 0, 255, 255
- ToneCurveName: Linear
- Version: 4.0
- Vibrance: +8
- VignetteAmount: 0
- WhiteBalance: As Shot
- XMP-dc
- Creator: Corporal Artur Shvartsberg
- (U.S. Marine Corps photo by Cpl. Artur Shvartsberg/Released):
- :
- Format: image/jpeg
- Title: 090904-M-7825S-002
- XMP-exif
- ColorSpace: Unknown (-1)
- DateTimeDigitized: 2008:01:02 18:43:11.87+05:00
- DateTimeOriginal: 2008:01:02 18:43:11.87+05:00
- FlashFired: False
- FlashFunction: False
- FlashMode: Off
- FlashRedEyeMode: False
- FlashReturn: No return detection
- XMP-iptcCore
- XMP-photomech
- CountryCode: AFG
- XMP-tiff
- XMP-x
- XMP-xmp
- CreateDate: 2008:01:02 18:43:11.87+05:00
- ModifyDate: 2009:09:04 13:42:53+04:30
- XMP-xmpMM
- Просмотров: 205
- Рейтинг: голосов еще нет
- Отзывов: 0