- Раздел: Другое, разное
- Дата съёмки: 28.01.2008 22:18
- Дата загрузки фото: 12.07.2010 22:54
- Оригинальная фотография: 3547 x 2365 (739 Кб)
- Технические характеристики:
- Фотоаппарат: Canon EOS 5D Mark II
- Выдержка: 1/200
- Гиперфокальное расстояние: inf m
- Диафрагма: 7,1
- Светочувствительность: 100
- Фокусное расстояние: 105,0 mm (35 mm equivalent: 105,0 mm)
- Экспокоррекция: -1/3
- Полный EXIF
- Adobe
- ColorTransform: YCbCr
- Composite
- Aperture: 7,1
- CircleOfConfusion: 0,027 mm
- FOV: 19,0 deg
- FocalLength35efl: 105,0 mm (35 mm equivalent: 105,0 mm)
- HyperfocalDistance: inf m
- ScaleFactor35efl: 1,1
- ShutterSpeed: 1/200
- ExifIFD
- ApertureValue: 7,1
- ColorSpace: Uncalibrated
- CreateDate: 2008:01:28 22:18:13
- CustomRendered: Normal
- DateTimeOriginal: 2008:01:28 22:18:13
- ExifImageHeight: 2365
- ExifImageWidth: 3547
- ExposureCompensation: -1/3
- ExposureMode: Auto
- ExposureProgram: Aperture-priority AE
- ExposureTime: 1/200
- FNumber: 7,1
- Flash: Off, Did not fire
- FocalLength: 105,0 mm
- ISO: 100
- MaxApertureValue: 4,0
- MeteringMode: Multi-segment
- SceneCaptureType: Standard
- ShutterSpeedValue: 1/200
- WhiteBalance: Auto
- ICC-header
- IFD0
- Make: Canon
- Model: Canon EOS 5D Mark II
- ModifyDate: 2009:09:30 09:45:17
- Orientation: Horizontal (normal)
- IFD1
- IPTC
- By-line: Corporal Artur Shvartsberg
- By-lineTitle: 1st Marine Division Combat Camera
- Caption-Abstract: U.S. Marine Brigadier General Larry Nicholson, Commander of 2nd Marine Expeditionary Brigade Afghanistan addresses U.S. Marines of Bravo Company at their forward operating base at Nawa District, Helmand Province, Afghanistan on Sept. 30, 2009. 1st Battalion, 5th Marine Regiment, is one of the ground elements of Regimental Combat Team 3, whose mission is to conduct counter insurgency operations in partnership with the Afghan national security forces in Southern Afghanistan.
(U.S. Marine Corps photo by Cpl. Artur Shvartsberg/Released)
- Category: M
- City: Camp Leatherneck
- Country-PrimaryLocationCode: AFG
- Country-PrimaryLocationName: Afghanistan
- Credit: 1st Battalion 5th Marines- RCT 3
- DateCreated: 2009:09:30
- Headline: ISAF- Afghanistan
- ObjectName: 090930-M-7825S-098
- OriginalTransmissionReference: 1st Battalion 5th Marines
- Prefs: Tagged:0, ColorClass:0, Rating:0, FrameNum:-00001
- Province-State: Helmand
- SpecialInstructions: Not Reviewed
- SupplementalCategories: Unclassified, , artur.shvartsberg@afg.usmc.mil
- System
- XMP-aux
- Firmware: 1.0.7
- FlashCompensation: 0
- ImageNumber: 0
- Lens: EF24-105mm f/4L IS USM
- LensInfo: 24/1 105/1 0/0 0/0
- SerialNumber: 520303937
- XMP-crs
- AlreadyApplied: True
- BlueHue: 0
- BlueSaturation: 0
- Brightness: 0
- CameraProfile: Embedded
- ChromaticAberrationB: 0
- ChromaticAberrationR: 0
- Clarity: 0
- ColorNoiseReduction: 0
- Contrast: +8
- ConvertToGrayscale: False
- CropAngle: 0
- CropBottom: 1
- CropLeft: 0.032999
- CropRight: 0.902439
- CropTop: 0.13056
- Defringe: 0
- Exposure: 0.00
- FillLight: 0
- GreenHue: 0
- GreenSaturation: 0
- HasCrop: True
- HasSettings: True
- HighlightRecovery: 0
- HueAdjustmentAqua: 0
- HueAdjustmentBlue: 0
- HueAdjustmentGreen: 0
- HueAdjustmentMagenta: 0
- HueAdjustmentOrange: 0
- HueAdjustmentPurple: 0
- HueAdjustmentRed: 0
- HueAdjustmentYellow: 0
- IncrementalTemperature: 0
- IncrementalTint: 0
- LuminanceAdjustmentAqua: 0
- LuminanceAdjustmentBlue: 0
- LuminanceAdjustmentGreen: 0
- LuminanceAdjustmentMagenta: 0
- LuminanceAdjustmentOrange: 0
- LuminanceAdjustmentPurple: 0
- LuminanceAdjustmentRed: 0
- LuminanceAdjustmentYellow: 0
- LuminanceSmoothing: 0
- ParametricDarks: 0
- ParametricHighlightSplit: 75
- ParametricHighlights: 0
- ParametricLights: 0
- ParametricMidtoneSplit: 50
- ParametricShadowSplit: 25
- ParametricShadows: -15
- PostCropVignetteAmount: 0
- RawFileName: 090930-M-7825S-098.jpg
- RedHue: 0
- RedSaturation: 0
- Saturation: +5
- SaturationAdjustmentAqua: 0
- SaturationAdjustmentBlue: 0
- SaturationAdjustmentGreen: 0
- SaturationAdjustmentMagenta: 0
- SaturationAdjustmentOrange: 0
- SaturationAdjustmentPurple: 0
- SaturationAdjustmentRed: 0
- SaturationAdjustmentYellow: 0
- ShadowTint: 0
- Shadows: 9
- SharpenDetail: 25
- SharpenEdgeMasking: 0
- SharpenRadius: +1.0
- Sharpness: 31
- SplitToningBalance: 0
- SplitToningHighlightHue: 0
- SplitToningHighlightSaturation: 0
- SplitToningShadowHue: 0
- SplitToningShadowSaturation: 0
- ToneCurve: 0, 0, 255, 255
- ToneCurveName: Linear
- Version: 4.6
- Vibrance: +10
- VignetteAmount: 0
- WhiteBalance: As Shot
- XMP-dc
- Creator: Corporal Artur Shvartsberg
- Description: U.S. Marine Brigadier General Larry Nicholson, Commander of 2nd Marine Expeditionary Brigade Afghanistan addresses U.S. Marines of Bravo Company at their forward operating base at Nawa District, Helmand Province, Afghanistan on Sept. 30, 2009. 1st Battalion, 5th Marine Regiment, is one of the ground elements of Regimental Combat Team 3, whose mission is to conduct counter insurgency operations in partnership with the Afghan national security forces in Southern Afghanistan.
- (U.S. Marine Corps photo by Cpl. Artur Shvartsberg/Released):
- :
- Format: image/jpeg
- Title: 090930-M-7825S-098
- XMP-exif
- ColorSpace: Unknown (-1)
- DateTimeDigitized: 2008:01:28 22:18:13.58+04:30
- DateTimeOriginal: 2008:01:28 22:18:13.58+04:30
- FlashFired: False
- FlashFunction: False
- FlashMode: Off
- FlashRedEyeMode: False
- FlashReturn: No return detection
- XMP-iptcCore
- XMP-photomech
- CountryCode: AFG
- XMP-tiff
- XMP-x
- XMP-xmp
- CreateDate: 2008:01:28 22:18:13.58+04:30
- ModifyDate: 2009:09:30 09:45:17+04:30
- XMP-xmpMM
- Просмотров: 178
- Рейтинг: голосов еще нет
- Отзывов: 0