Уважаемые друзья и участники проекта iXBT.photo! К сожалению, 1 марта 2026 года проект iXBT.photo прекратит свою работу и будет закрыт. Мы высоко ценим ваше участие и тот вклад, который вы внесли в развитие нашего сообщества. Пожалуйста, не забудьте сохранить ваши фотографии до этой даты.
С уважением, команда iXBT.com
| IMGP8127.jpg |
IMGP8127.jpg
- Раздел: Отдых, развлечения
- Дата съёмки: 27.07.2010 14:11
- Дата загрузки фото: 28.07.2010 16:18
- Оригинальная фотография: 1600 x 1063 (458 Кб)
- Технические характеристики:
- Фотоаппарат: Pentax K-7
- Выдержка: 1/1600
- Гиперфокальное расстояние: inf m
- Диафрагма: 5,6
- Светочувствительность: 320
- Фокусное расстояние: 17,0 mm (35 mm equivalent: 17,0 mm)
- Экспокоррекция: +0,7
- Полный EXIF
- Composite
- Aperture: 5,6
- CircleOfConfusion: 0,020 mm
- FOV: 93,0 deg
- FocalLength35efl: 17,0 mm (35 mm equivalent: 17,0 mm)
- HyperfocalDistance: inf m
- ScaleFactor35efl: 1,5
- ShutterSpeed: 1/1600
- ExifIFD
- ApertureValue: 5,6
- CFAPattern: [Blue,Green][Green,Red]
- Contrast: Normal
- CreateDate: 2010:07:27 14:11:37
- CustomRendered: Normal
- DateTimeOriginal: 2010:07:27 14:11:37
- ExposureCompensation: +0,7
- ExposureMode: Manual
- ExposureProgram: Aperture-priority AE
- ExposureTime: 1/1600
- FNumber: 5,6
- Flash: Off, Did not fire
- FocalLength: 17,0 mm
- FocalLengthIn35mmFormat: 25 mm
- ISO: 320
- MeteringMode: Center-weighted average
- Saturation: Normal
- SceneCaptureType: Standard
- SensingMethod: One-chip color area
- Sharpness: Hard
- ShutterSpeedValue: 1/1600
- SubjectDistanceRange: Distant
- WhiteBalance: Auto
- ICC-header
- ICC-meas
- ICC-view
- IFD0
- Artist: Belostotsky Nikolay
- Copyright: Belostotsky Nickolay
- Make: PENTAX
- Model: PENTAX K-7
- ModifyDate: 2010:07:28 14:56:41
- Software: K-7 Ver 1.03
- IFD1
- IPTC
- By-line: Belostotsky Nikolay
- CopyrightNotice: Belostotsky Nickolay
- Keywords: 2010, Âà ëäà é, îòäûõ, îòïóñê
- System
- XMP-aux
- Lens: Sigma or Tamron Lens
- LensID: 3 44
- XMP-crs
- AlreadyApplied: True
- BlueHue: 0
- BlueSaturation: 0
- Brightness: +50
- ChromaticAberrationB: 0
- ChromaticAberrationR: 0
- Clarity: +31
- ColorNoiseReduction: 25
- ColorNoiseReductionDetail: 50
- Contrast: +25
- ConvertToGrayscale: False
- Defringe: 0
- Exposure: -0.05
- FillLight: 21
- GrainAmount: 0
- GreenHue: 0
- GreenSaturation: 0
- HasCrop: False
- HasSettings: True
- HighlightRecovery: 32
- HueAdjustmentAqua: 0
- HueAdjustmentBlue: 0
- HueAdjustmentGreen: 0
- HueAdjustmentMagenta: 0
- HueAdjustmentOrange: 0
- HueAdjustmentPurple: 0
- HueAdjustmentRed: 0
- HueAdjustmentYellow: 0
- LensManualDistortionAmount: 0
- LensProfileChromaticAberrationScale: 100
- LensProfileDistortionScale: 100
- LensProfileEnable: 1
- LensProfileFilename: PENTAX (Sigma_17-70mm_F2.8-4.5_DC_MACRO_HSM ) - RAW.lcp
- LensProfileSetup: Custom
- LensProfileVignettingScale: 0
- LuminanceAdjustmentAqua: -7
- LuminanceAdjustmentBlue: -58
- LuminanceAdjustmentGreen: 0
- LuminanceAdjustmentMagenta: 0
- LuminanceAdjustmentOrange: 0
- LuminanceAdjustmentPurple: 0
- LuminanceAdjustmentRed: 0
- LuminanceAdjustmentYellow: 0
- LuminanceSmoothing: 0
- ParametricDarks: 0
- ParametricHighlightSplit: 75
- ParametricHighlights: 0
- ParametricLights: 0
- ParametricMidtoneSplit: 50
- ParametricShadowSplit: 25
- ParametricShadows: 0
- PerspectiveHorizontal: 0
- PerspectiveRotate: 0.0
- PerspectiveScale: 100
- PerspectiveVertical: 0
- PostCropVignetteAmount: 0
- ProcessVersion: 5.7
- RedHue: 0
- RedSaturation: 0
- Saturation: 0
- SaturationAdjustmentAqua: +11
- SaturationAdjustmentBlue: +100
- SaturationAdjustmentGreen: 0
- SaturationAdjustmentMagenta: 0
- SaturationAdjustmentOrange: 0
- SaturationAdjustmentPurple: 0
- SaturationAdjustmentRed: 0
- SaturationAdjustmentYellow: 0
- ShadowTint: 0
- Shadows: 10
- SharpenDetail: 25
- SharpenEdgeMasking: 0
- SharpenRadius: +1.0
- Sharpness: 25
- SplitToningBalance: 0
- SplitToningHighlightHue: 0
- SplitToningHighlightSaturation: 0
- SplitToningShadowHue: 0
- SplitToningShadowSaturation: 0
- Temperature: 6100
- Tint: +13
- ToneCurve: 0, 0, 32, 22, 64, 56, 128, 128, 192, 196, 255, 255
- ToneCurveName: Medium Contrast
- Version: 6.1
- Vibrance: +13
- VignetteAmount: 0
- WhiteBalance: Custom
- XMP-dc
- Creator: Belostotsky Nikolay
- Rights: Belostotsky Nickolay
- Subject: 2010, Валдай, отдых, отпуск
- XMP-exif
- DateTimeDigitized: 2010:07:27 14:11:37+04:00
- DateTimeOriginal: 2010:07:27 14:11:37+04:00
- ExifImageHeight: 3104
- ExifImageWidth: 4672
- FlashFired: False
- FlashFunction: False
- FlashMode: Off
- FlashRedEyeMode: False
- FlashReturn: No return detection
- XMP-tiff
- ImageHeight: 3104
- ImageWidth: 4672
- XMP-xmp
- CreateDate: 2010:07:27 14:11:37+04:00
- ModifyDate: 2010:07:28 14:56:41+04:00
Получить код для блога
| Вставка фотографии в текущем разрешении |
Вставка миниатюры |
HTML (для вставки в блог):
BBCode (для вставки в форум):
Ссылка на фото:
Ссылка на миниатюру:
- Послать ссылку другу
| Комментарии к фотографии |