| » Участники » Yuras » Львов » Ч/Б из RAW-конвертора ACR |
Уважаемые друзья и участники проекта iXBT.photo! К сожалению, 5 марта 2026 года проект iXBT.photo прекратит свою работу и будет закрыт. Мы высоко ценим ваше участие и тот вклад, который вы внесли в развитие нашего сообщества. Пожалуйста, не забудьте сохранить ваши фотографии до этой даты.
С уважением, команда iXBT.com
| Ч/Б из RAW-конвертора ACR |
Ч/Б из RAW-конвертора ACR
- Раздел: Город
- Дата съёмки: 23.07.2010 13:33
- Дата загрузки фото: 18.08.2010 00:42
- Оригинальная фотография: 3072 x 2304 (2,3 Мб)
- Технические характеристики:
- Фотоаппарат: Canon EOS 350D DIGITAL
- Выдержка: 1/200
- Гиперфокальное расстояние: inf m
- Диафрагма: 9,0
- Светочувствительность: 100
- Фокусное расстояние: 55,0 mm (35 mm equivalent: 55,0 mm)
- Экспокоррекция: -2/3
- Полный EXIF
- Adobe
- ColorTransform: YCbCr
- Composite
- Aperture: 9,0
- CircleOfConfusion: 0,017 mm
- FOV: 36,0 deg
- FocalLength35efl: 55,0 mm (35 mm equivalent: 55,0 mm)
- HyperfocalDistance: inf m
- ScaleFactor35efl: 1,8
- ShutterSpeed: 1/200
- ExifIFD
- ApertureValue: 9,0
- ColorSpace: sRGB
- CreateDate: 2010:07:23 13:33:54
- CustomRendered: Normal
- DateTimeOriginal: 2010:07:23 13:33:54
- ExifImageHeight: 2304
- ExifImageWidth: 3072
- ExposureCompensation: -2/3
- ExposureMode: Auto
- ExposureProgram: Aperture-priority AE
- ExposureTime: 1/200
- FNumber: 9,0
- Flash: Off, Did not fire
- FocalLength: 55,0 mm
- ISO: 100
- MaxApertureValue: 4,5
- MeteringMode: Multi-segment
- SceneCaptureType: Standard
- ShutterSpeedValue: 1/200
- WhiteBalance: Auto
- ICC-header
- ICC-meas
- ICC-view
- IFD0
- Artist: Yuras
- Make: Canon
- Model: Canon EOS 350D DIGITAL
- ModifyDate: 2010:08:17 23:39:10
- Orientation: Horizontal (normal)
- IFD1
- IPTC
- By-line: Yuras
- System
- XMP-aux
- Firmware: 1.0.3
- FlashCompensation: 0
- ImageNumber: 65
- Lens: 55.0-250.0 mm
- LensID: 65535
- LensInfo: 55/1 250/1 0/0 0/0
- OwnerName: Yuras
- SerialNumber: 230102161
- XMP-crs
- AlreadyApplied: True
- BlueHue: 0
- BlueSaturation: 0
- Brightness: +39
- ChromaticAberrationB: 0
- ChromaticAberrationR: 0
- Clarity: 0
- ColorNoiseReduction: 60
- Contrast: +45
- ConvertToGrayscale: True
- Defringe: 0
- Exposure: +0.85
- FillLight: 4
- GrainAmount: 0
- GrayMixerAqua: +20
- GrayMixerBlue: -44
- GrayMixerGreen: +71
- GrayMixerMagenta: +29
- GrayMixerOrange: +27
- GrayMixerPurple: -18
- GrayMixerRed: +62
- GrayMixerYellow: +55
- GreenHue: 0
- GreenSaturation: 0
- HasCrop: False
- HasSettings: True
- HighlightRecovery: 3
- LuminanceSmoothing: 38
- ParametricDarks: -5
- ParametricHighlightSplit: 75
- ParametricHighlights: -7
- ParametricLights: +12
- ParametricMidtoneSplit: 50
- ParametricShadowSplit: 25
- ParametricShadows: +2
- PostCropVignetteAmount: 0
- ProcessVersion: 5.0
- RawFileName: IMG_1345.CR2
- RedHue: 0
- RedSaturation: 0
- ShadowTint: 0
- Shadows: 1
- SharpenDetail: 28
- SharpenEdgeMasking: 23
- SharpenRadius: +0.7
- Sharpness: 56
- SplitToningBalance: +18
- SplitToningHighlightHue: 0
- SplitToningHighlightSaturation: 0
- SplitToningShadowHue: 0
- SplitToningShadowSaturation: 0
- Temperature: 5150
- Tint: +7
- ToneCurve: 0, 0, 32, 22, 64, 56, 128, 128, 192, 196, 255, 255
- ToneCurveName: Medium Contrast
- Version: 5.7
- VignetteAmount: 0
- WhiteBalance: As Shot
- XMP-dc
- Creator: Yuras
- Format: image/jpeg
- XMP-exif
- DateTimeDigitized: 2010:07:23 13:33:54+03:00
- DateTimeOriginal: 2010:07:23 13:33:54+03:00
- FlashFired: False
- FlashFunction: False
- FlashMode: Off
- FlashRedEyeMode: False
- FlashReturn: No return detection
- XMP-tiff
- XMP-xmp
- CreateDate: 2010:07:23 13:33:54+03:00
- ModifyDate: 2010:08:17 23:39:10+03:00
- Rating: 0
- XMP-xmpMM
Получить код для блога
| Вставка фотографии в текущем разрешении |
Вставка миниатюры |
HTML (для вставки в блог):
BBCode (для вставки в форум):
Ссылка на фото:
Ссылка на миниатюру:
- Послать ссылку другу
| Комментарии к фотографии |