- Ðàçäåë: Æèâîòíûå
- Äàòà ñú¸ìêè: 24.05.2006 19:52
- Äàòà çàãðóçêè ôîòî: 29.08.2010 12:13
- Îðèãèíàëüíàÿ ôîòîãðàôèÿ: 960 x 640 (122 Êá)
- Òåõíè÷åñêèå õàðàêòåðèñòèêè:
- Ôîòîàïïàðàò: Sony DSLR-A100
- Âûäåðæêà: 1/80
- Ãèïåðôîêàëüíîå ðàññòîÿíèå: inf m
- Äèàôðàãìà: 10,0
- Ñâåòî÷óâñòâèòåëüíîñòü: 100
- Ôîêóñíîå ðàññòîÿíèå: 18,0 mm (35 mm equivalent: 18,0 mm)
- Ïîëíûé EXIF
- Adobe
- ColorTransform: YCbCr
- Composite
- Aperture: 10,0
- CircleOfConfusion: 0,020 mm
- FOV: 90,0 deg
- FocalLength35efl: 18,0 mm (35 mm equivalent: 18,0 mm)
- HyperfocalDistance: inf m
- ScaleFactor35efl: 1,5
- ShutterSpeed: 1/80
- ExifIFD
- ApertureValue: 10,0
- BrightnessValue: 8,12
- ColorSpace: sRGB
- Contrast: Normal
- CreateDate: 2006:05:24 19:52:21
- CustomRendered: Normal
- DateTimeOriginal: 2006:05:24 19:52:21
- DigitalZoomRatio: 0
- ExifImageHeight: 640
- ExifImageWidth: 960
- ExposureCompensation: 0
- ExposureMode: Auto
- ExposureProgram: Program AE
- ExposureTime: 1/80
- FNumber: 10,0
- Flash: Auto, Did not fire
- FocalLength: 18,0 mm
- FocalLengthIn35mmFormat: 27 mm
- GainControl: None
- ISO: 100
- LightSource: Unknown
- MaxApertureValue: 3,5
- MeteringMode: Multi-segment
- Saturation: Normal
- SceneCaptureType: Standard
- SceneType: Directly photographed
- Sharpness: Normal
- ShutterSpeedValue: 1/80
- SubjectArea: 960 640 163 194
- WhiteBalance: Auto
- ICC-header
- ICC-meas
- ICC-view
- IFD0
- ImageDescription: SONY DSC
- Make: SONY
- Model: DSLR-A100
- ModifyDate: 2010:08:29 12:13:09
- Orientation: Horizontal (normal)
- IFD1
- IPTC
- Caption-Abstract: SONY DSC
- System
- XMP-crs
- AlreadyApplied: True
- BlueHue: 0
- BlueSaturation: 0
- Brightness: 0
- CameraProfile: Embedded
- ChromaticAberrationB: 0
- ChromaticAberrationR: 0
- Clarity: +21
- ColorNoiseReduction: 0
- Contrast: 0
- ConvertToGrayscale: False
- Defringe: 0
- Exposure: 0.00
- FillLight: 9
- GreenHue: 0
- GreenSaturation: 0
- HasCrop: False
- HasSettings: True
- HighlightRecovery: 0
- HueAdjustmentAqua: 0
- HueAdjustmentBlue: 0
- HueAdjustmentGreen: 0
- HueAdjustmentMagenta: 0
- HueAdjustmentOrange: 0
- HueAdjustmentPurple: 0
- HueAdjustmentRed: 0
- HueAdjustmentYellow: 0
- IncrementalTemperature: -4
- IncrementalTint: 0
- LuminanceAdjustmentAqua: 0
- LuminanceAdjustmentBlue: 0
- LuminanceAdjustmentGreen: 0
- LuminanceAdjustmentMagenta: 0
- LuminanceAdjustmentOrange: 0
- LuminanceAdjustmentPurple: 0
- LuminanceAdjustmentRed: 0
- LuminanceAdjustmentYellow: 0
- LuminanceSmoothing: 0
- ParametricDarks: 0
- ParametricHighlightSplit: 75
- ParametricHighlights: 0
- ParametricLights: 0
- ParametricMidtoneSplit: 50
- ParametricShadowSplit: 25
- ParametricShadows: 0
- PostCropVignetteAmount: 0
- RawFileName: Изображение 650.jpg
- RedHue: 0
- RedSaturation: 0
- Saturation: 0
- SaturationAdjustmentAqua: 0
- SaturationAdjustmentBlue: 0
- SaturationAdjustmentGreen: 0
- SaturationAdjustmentMagenta: 0
- SaturationAdjustmentOrange: 0
- SaturationAdjustmentPurple: 0
- SaturationAdjustmentRed: 0
- SaturationAdjustmentYellow: 0
- ShadowTint: 0
- Shadows: 0
- SharpenDetail: 25
- SharpenEdgeMasking: 0
- SharpenRadius: +1.0
- Sharpness: 0
- SplitToningBalance: 0
- SplitToningHighlightHue: 0
- SplitToningHighlightSaturation: 0
- SplitToningShadowHue: 0
- SplitToningShadowSaturation: 0
- ToneCurve: 0, 0, 255, 255
- ToneCurveName: Linear
- Version: 5.0
- Vibrance: +7
- VignetteAmount: 0
- WhiteBalance: Custom
- XMP-dc
- Description: SONY DSC
- Format: image/jpeg
- XMP-exif
- DateTimeDigitized: 2006:05:24 19:52:21+04:00
- DateTimeOriginal: 2006:05:24 19:52:21+04:00
- FlashFired: False
- FlashFunction: False
- FlashMode: Auto
- FlashRedEyeMode: False
- FlashReturn: No return detection
- SubjectArea: 960, 640, 163, 194
- XMP-tiff
- XMP-xmp
- CreateDate: 2006:05:24 19:52:21+04:00
- CreatorTool: ACD Systems Digital Imaging
- ModifyDate: 2010:08:29 12:13:09+04:00
- Rating: 0
- XMP-xmpMM
- DerivedFrom:
- Ïðîñìîòðîâ: 288
- Ðåéòèíã: ãîëîñîâ åùå íåò
- Îòçûâîâ: 0