- Раздел: Другое, разное
- Дата съёмки: 22.03.2010 22:34
- Дата загрузки фото: 29.09.2010 14:38
- Оригинальная фотография: 900 x 598 (413 Кб)
- Технические характеристики:
- Фотоаппарат: Pentax K-7
- Выдержка: 1/90
- Гиперфокальное расстояние: inf m
- Диафрагма: 6,7
- Светочувствительность: 100
- Фокусное расстояние: 43,0 mm (35 mm equivalent: 43,0 mm)
- Экспокоррекция: +1/2
- Полный EXIF
- Composite
- Aperture: 6,7
- CircleOfConfusion: 0,020 mm
- FOV: 45,0 deg
- FocalLength35efl: 43,0 mm (35 mm equivalent: 43,0 mm)
- HyperfocalDistance: inf m
- ScaleFactor35efl: 1,5
- ShutterSpeed: 1/90
- ExifIFD
- ApertureValue: 6,7
- ColorSpace: Uncalibrated
- Contrast: High
- CreateDate: 2010:03:22 22:34:56
- CustomRendered: Normal
- DateTimeOriginal: 2010:03:22 22:34:56
- ExifImageHeight: 598
- ExifImageWidth: 900
- ExposureCompensation: +1/2
- ExposureMode: Manual
- ExposureProgram: Aperture-priority AE
- ExposureTime: 1/90
- FNumber: 6,7
- Flash: On, Fired
- FocalLength: 43,0 mm
- FocalLengthIn35mmFormat: 64 mm
- ISO: 100
- MeteringMode: Spot
- Saturation: Normal
- SceneCaptureType: Standard
- SensingMethod: One-chip color area
- Sharpness: Hard
- ShutterSpeedValue: 1/90
- SubjectDistanceRange: Macro
- WhiteBalance: Auto
- ICC-header
- IFD0
- Artist: GOLUBKOV A.V.
- BitsPerSample: 16 16 16
- ImageHeight: 3104
- ImageWidth: 4672
- Make: PENTAX
- Model: PENTAX K-7
- ModifyDate: 2010:03:22 23:43:01
- Orientation: Horizontal (normal)
- PhotometricInterpretation: RGB
- PlanarConfiguration: Chunky
- SamplesPerPixel: 3
- IFD1
- IPTC
- By-line: GOLUBKOV A.V.
- System
- XMP-aux
- Lens: smc PENTAX-FA 43mm F1.9 Limited
- LensID: 4 3
- LensInfo: 43mm f/1.9
- XMP-crs
- AlreadyApplied: True
- BlueHue: 0
- BlueSaturation: 0
- Brightness: +120
- ChromaticAberrationB: 0
- ChromaticAberrationR: 0
- Clarity: +62
- ColorNoiseReduction: 25
- Contrast: +25
- ConvertToGrayscale: False
- Defringe: 0
- Exposure: 0.00
- FillLight: 10
- GreenHue: 0
- GreenSaturation: 0
- HasCrop: False
- HasSettings: True
- HighlightRecovery: 0
- HueAdjustmentAqua: 0
- HueAdjustmentBlue: 0
- HueAdjustmentGreen: 0
- HueAdjustmentMagenta: 0
- HueAdjustmentOrange: 0
- HueAdjustmentPurple: 0
- HueAdjustmentRed: 0
- HueAdjustmentYellow: 0
- LuminanceAdjustmentAqua: 0
- LuminanceAdjustmentBlue: 0
- LuminanceAdjustmentGreen: 0
- LuminanceAdjustmentMagenta: 0
- LuminanceAdjustmentOrange: 0
- LuminanceAdjustmentPurple: 0
- LuminanceAdjustmentRed: 0
- LuminanceAdjustmentYellow: 0
- LuminanceSmoothing: 0
- ParametricDarks: 0
- ParametricHighlightSplit: 75
- ParametricHighlights: 0
- ParametricLights: 0
- ParametricMidtoneSplit: 50
- ParametricShadowSplit: 25
- ParametricShadows: 0
- PostCropVignetteAmount: 0
- RawFileName: _SAS0260.DNG
- RedHue: 0
- RedSaturation: 0
- Saturation: 0
- SaturationAdjustmentAqua: 0
- SaturationAdjustmentBlue: 0
- SaturationAdjustmentGreen: 0
- SaturationAdjustmentMagenta: 0
- SaturationAdjustmentOrange: 0
- SaturationAdjustmentPurple: 0
- SaturationAdjustmentRed: 0
- SaturationAdjustmentYellow: 0
- ShadowTint: 0
- Shadows: 5
- SharpenDetail: 25
- SharpenEdgeMasking: 0
- SharpenRadius: +1.0
- Sharpness: 25
- SplitToningBalance: 0
- SplitToningHighlightHue: 0
- SplitToningHighlightSaturation: 0
- SplitToningShadowHue: 0
- SplitToningShadowSaturation: 0
- Temperature: 4800
- Tint: +12
- ToneCurve: 0, 0, 32, 22, 64, 56, 128, 128, 192, 196, 255, 255
- ToneCurveName: Medium Contrast
- Version: 5.4
- Vibrance: 0
- VignetteAmount: 0
- WhiteBalance: As Shot
- XMP-dc
- Creator: GOLUBKOV A.V.
- Format: image/jpeg
- XMP-exif
- DateTimeDigitized: 2010:03:22 22:34:56+03:00
- DateTimeOriginal: 2010:03:22 22:34:56+03:00
- FlashFired: True
- FlashFunction: False
- FlashMode: On
- FlashRedEyeMode: False
- FlashReturn: No return detection
- XMP-tiff
- BitsPerSample: 16, 16, 16
- XMP-xmp
- CreateDate: 2010:03:22 22:34:56+03:00
- CreatorTool: K-7 Ver 1.02
- ModifyDate: 2010:03:22 23:43:01+03:00
- XMP-xmpMM
- Просмотров: 389
- Рейтинг: голосов еще нет
- Отзывов: 0