Venice-48.jpg |
Venice-48.jpg
- Раздел: Путешествия
- Дата съёмки: 04.05.2009 12:50
- Дата загрузки фото: 12.10.2010 17:25
- Оригинальная фотография: 1600 x 1071 (605 Кб)
- Технические характеристики:
- Фотоаппарат: Pentax K200D
- Выдержка: 1/320
- Гиперфокальное расстояние: inf m
- Диафрагма: 6,3
- Светочувствительность: 100
- Фокусное расстояние: 19,0 mm (35 mm equivalent: 19,0 mm)
- Полный EXIF
- Adobe
- ColorTransform: YCbCr
- Composite
- Aperture: 6,3
- CircleOfConfusion: 0,020 mm
- FOV: 86,0 deg
- FocalLength35efl: 19,0 mm (35 mm equivalent: 19,0 mm)
- HyperfocalDistance: inf m
- ScaleFactor35efl: 1,5
- ShutterSpeed: 1/320
- ExifIFD
- ApertureValue: 6,3
- Contrast: Normal
- CreateDate: 2009:05:04 12:50:39
- CustomRendered: Normal
- DateTimeOriginal: 2009:05:04 12:50:39
- ExposureCompensation: 0
- ExposureMode: Manual
- ExposureProgram: Manual
- ExposureTime: 1/320
- FNumber: 6,3
- Flash: Off, Did not fire
- FocalLength: 19,0 mm
- FocalLengthIn35mmFormat: 28 mm
- ISO: 100
- MeteringMode: Spot
- Saturation: Normal
- SceneCaptureType: Standard
- SensingMethod: One-chip color area
- Sharpness: Soft
- ShutterSpeedValue: 1/320
- SubjectDistanceRange: Distant
- WhiteBalance: Manual
- ICC-header
- ICC-meas
- ICC-view
- IFD0
- Artist: Balashevich Viachaslau
- Copyright: Copyrighted
- Make: PENTAX Corporation
- Model: PENTAX K200D
- ModifyDate: 2010:10:12 16:19:18
- Software: K200D Ver 1.00
- IFD1
- IPTC
- By-line: Balashevich Viachaslau
- CopyrightNotice: Copyrighted
- System
- XMP-aux
- Lens: smc PENTAX-DA 16-45mm F4 ED AL
- LensID: 4 254
- LensInfo: 16-45mm f/4
- XMP-crs
- AlreadyApplied: True
- BlueHue: 0
- BlueSaturation: 0
- Brightness: +35
- ChromaticAberrationB: 0
- ChromaticAberrationR: 0
- Clarity: 0
- ColorNoiseReduction: 25
- Contrast: +12
- ConvertToGrayscale: False
- CropAngle: 0.982358
- CropBottom: 1
- CropHeight: 1071
- CropLeft: 0.018083
- CropRight: 0.981917
- CropTop: 0
- CropUnit: pixels
- CropWidth: 1600
- Defringe: 0
- Exposure: +1.15
- FillLight: 0
- GreenHue: 0
- GreenSaturation: 0
- HasCrop: True
- HasSettings: True
- HighlightRecovery: 25
- HueAdjustmentAqua: 0
- HueAdjustmentBlue: 0
- HueAdjustmentGreen: 0
- HueAdjustmentMagenta: 0
- HueAdjustmentOrange: 0
- HueAdjustmentPurple: 0
- HueAdjustmentRed: 0
- HueAdjustmentYellow: 0
- LuminanceAdjustmentAqua: 0
- LuminanceAdjustmentBlue: 0
- LuminanceAdjustmentGreen: 0
- LuminanceAdjustmentMagenta: 0
- LuminanceAdjustmentOrange: 0
- LuminanceAdjustmentPurple: 0
- LuminanceAdjustmentRed: 0
- LuminanceAdjustmentYellow: 0
- LuminanceSmoothing: 0
- ParametricDarks: -20
- ParametricHighlightSplit: 75
- ParametricHighlights: +100
- ParametricLights: +76
- ParametricMidtoneSplit: 50
- ParametricShadowSplit: 25
- ParametricShadows: -60
- PostCropVignetteAmount: 0
- RedHue: 0
- RedSaturation: 0
- Saturation: 0
- SaturationAdjustmentAqua: +50
- SaturationAdjustmentBlue: +58
- SaturationAdjustmentGreen: +10
- SaturationAdjustmentMagenta: 0
- SaturationAdjustmentOrange: +13
- SaturationAdjustmentPurple: +23
- SaturationAdjustmentRed: 0
- SaturationAdjustmentYellow: +23
- ShadowTint: 0
- Shadows: 5
- SharpenDetail: 25
- SharpenEdgeMasking: 0
- SharpenRadius: +1.0
- Sharpness: 25
- SplitToningBalance: 0
- SplitToningHighlightHue: 0
- SplitToningHighlightSaturation: 0
- SplitToningShadowHue: 0
- SplitToningShadowSaturation: 0
- Temperature: 5350
- Tint: +5
- ToneCurve: 0, 0, 255, 255
- ToneCurveName: Linear
- Version: 5.4
- Vibrance: 0
- VignetteAmount: 0
- WhiteBalance: As Shot
- XMP-dc
- Creator: Balashevich Viachaslau
- Rights: Copyrighted
- XMP-exif
- DateTimeDigitized: 2009:05:04 12:50:39+03:00
- DateTimeOriginal: 2009:05:04 12:50:39+03:00
- ExifImageHeight: 1071
- ExifImageWidth: 1600
- FlashFired: False
- FlashFunction: False
- FlashMode: Off
- FlashRedEyeMode: False
- FlashReturn: No return detection
- XMP-iptcCore
- CreatorCity: Miensk
- CreatorCountry: Niezaliezhnaja Respublika Mroja
- CreatorWorkEmail: fotomail@tut.by
- XMP-tiff
- ImageHeight: 1071
- ImageWidth: 1600
- XMP-xmp
- CreateDate: 2009:05:04 12:50:39+03:00
- ModifyDate: 2010:10:12 16:19:18+03:00
- XMP-xmpRights
- Marked: True
- UsageTerms: for private use only
- Просмотров: 450
- Рейтинг: голосов еще нет
- Отзывов: 0
Получить код для блога
Вставка фотографии в текущем разрешении |
Вставка миниатюры |
HTML (для вставки в блог):
BBCode (для вставки в форум):
Ссылка на фото:
Ссылка на миниатюру:
- Послать ссылку другу
Комментарии к фотографии |