- Раздел: Животные
- Дата съёмки: 21.09.2010 13:01
- Дата загрузки фото: 25.10.2010 13:19
- Оригинальная фотография: 1980 x 1315 (399 Кб)
- Технические характеристики:
- Фотоаппарат: Pentax K-7
- Выдержка: 1/180
- Гиперфокальное расстояние: inf m
- Диафрагма: 5,0
- Светочувствительность: 100
- Фокусное расстояние: 77,0 mm (35 mm equivalent: 77,0 mm)
- Экспокоррекция: -1,3
- Полный EXIF
- Adobe
- ColorTransform: YCbCr
- Composite
- Aperture: 5,0
- CircleOfConfusion: 0,020 mm
- FOV: 26,0 deg
- FocalLength35efl: 77,0 mm (35 mm equivalent: 77,0 mm)
- HyperfocalDistance: inf m
- ScaleFactor35efl: 1,5
- ShutterSpeed: 1/180
- ExifIFD
- ApertureValue: 5,0
- CFAPattern: [Blue,Green][Green,Red]
- Contrast: Normal
- CreateDate: 2010:09:21 13:01:00
- CustomRendered: Normal
- DateTimeOriginal: 2010:09:21 13:01:00
- ExposureCompensation: -1,3
- ExposureMode: Manual
- ExposureProgram: Aperture-priority AE
- ExposureTime: 1/180
- FNumber: 5,0
- Flash: On, Fired
- FocalLength: 77,0 mm
- FocalLengthIn35mmFormat: 115 mm
- ISO: 100
- LensInfo: 77mm f/1.8
- LensModel: smc PENTAX-FA 77mm F1.8 Limited
- MeteringMode: Center-weighted average
- Saturation: Normal
- SceneCaptureType: Standard
- SensingMethod: One-chip color area
- SensitivityType: Unknown
- Sharpness: Hard
- ShutterSpeedValue: 1/180
- SubjectDistanceRange: Close
- WhiteBalance: Auto
- ICC-header
- ICC-meas
- ICC-view
- IFD0
- Artist: Belostotsky Nikolay
- Copyright: Belostotsky Nickolay
- Make: PENTAX
- Model: PENTAX K-7
- ModifyDate: 2010:10:24 20:59:53
- Software: K-7 Ver 1.10
- IFD1
- IPTC
- By-line: Belostotsky Nikolay
- CopyrightNotice: Belostotsky Nickolay
- System
- XMP-aux
- Lens: smc PENTAX-FA 77mm F1.8 Limited
- LensID: 4 24
- XMP-crs
- AlreadyApplied: True
- BlueHue: 0
- BlueSaturation: 0
- Brightness: +6
- ChromaticAberrationB: 0
- ChromaticAberrationR: 0
- Clarity: 0
- ColorNoiseReduction: 25
- ColorNoiseReductionDetail: 50
- Contrast: 0
- ConvertToGrayscale: False
- Defringe: 0
- Exposure: 0.00
- FillLight: 20
- GrainAmount: 0
- GreenHue: 0
- GreenSaturation: 0
- HasCrop: False
- HasSettings: True
- HighlightRecovery: 22
- HueAdjustmentAqua: 0
- HueAdjustmentBlue: 0
- HueAdjustmentGreen: 0
- HueAdjustmentMagenta: 0
- HueAdjustmentOrange: 0
- HueAdjustmentPurple: 0
- HueAdjustmentRed: 0
- HueAdjustmentYellow: 0
- LensManualDistortionAmount: 0
- LensProfileEnable: 0
- LensProfileSetup: LensDefaults
- LuminanceAdjustmentAqua: 0
- LuminanceAdjustmentBlue: 0
- LuminanceAdjustmentGreen: 0
- LuminanceAdjustmentMagenta: 0
- LuminanceAdjustmentOrange: 0
- LuminanceAdjustmentPurple: 0
- LuminanceAdjustmentRed: 0
- LuminanceAdjustmentYellow: 0
- LuminanceSmoothing: 0
- ParametricDarks: 0
- ParametricHighlightSplit: 75
- ParametricHighlights: 0
- ParametricLights: 0
- ParametricMidtoneSplit: 50
- ParametricShadowSplit: 25
- ParametricShadows: 0
- PerspectiveHorizontal: 0
- PerspectiveRotate: 0.0
- PerspectiveScale: 100
- PerspectiveVertical: 0
- PostCropVignetteAmount: 0
- ProcessVersion: 5.7
- RedHue: 0
- RedSaturation: 0
- Saturation: 0
- SaturationAdjustmentAqua: 0
- SaturationAdjustmentBlue: 0
- SaturationAdjustmentGreen: 0
- SaturationAdjustmentMagenta: 0
- SaturationAdjustmentOrange: 0
- SaturationAdjustmentPurple: 0
- SaturationAdjustmentRed: 0
- SaturationAdjustmentYellow: 0
- ShadowTint: 0
- Shadows: 8
- SharpenDetail: 25
- SharpenEdgeMasking: 0
- SharpenRadius: +1.0
- Sharpness: 25
- SplitToningBalance: 0
- SplitToningHighlightHue: 0
- SplitToningHighlightSaturation: 0
- SplitToningShadowHue: 0
- SplitToningShadowSaturation: 0
- Temperature: 4800
- Tint: +21
- ToneCurve: 0, 0, 32, 22, 64, 56, 128, 128, 192, 196, 255, 255
- ToneCurveName: Medium Contrast
- Version: 6.2
- Vibrance: 0
- VignetteAmount: 0
- WhiteBalance: As Shot
- XMP-dc
- Creator: Belostotsky Nikolay
- Rights: Belostotsky Nickolay
- XMP-exif
- DateTimeDigitized: 2010:09:21 13:01:00+04:00
- DateTimeOriginal: 2010:09:21 13:01:00+04:00
- ExifImageHeight: 1315
- ExifImageWidth: 1980
- FlashFired: True
- FlashFunction: False
- FlashMode: On
- FlashRedEyeMode: False
- FlashReturn: No return detection
- XMP-tiff
- ImageHeight: 1315
- ImageWidth: 1980
- XMP-xmp
- CreateDate: 2010:09:21 13:01:00+04:00
- ModifyDate: 2010:10:24 20:59:53+04:00
- Просмотров: 410
- Рейтинг: голосов еще нет
- Отзывов: 0