- Раздел: Животные
- Дата съёмки: 16.07.2009 21:54
- Дата загрузки фото: 19.11.2010 21:56
- Оригинальная фотография: 3008 x 2000 (854 Кб)
- Технические характеристики:
- Фотоаппарат: Nikon D50
- Выдержка: 1/13
- Гиперфокальное расстояние: inf m
- Диафрагма: 1,8
- Светочувствительность: 1600
- Фокусное расстояние: 35,0 mm (35 mm equivalent: 35,0 mm)
- Экспокоррекция: +2/3
- Полный EXIF
- Adobe
- ColorTransform: YCbCr
- Composite
- Aperture: 1,8
- CircleOfConfusion: 0,020 mm
- DOF: inf (0,00 m - inf)
- FOV: 54,0 deg
- FocalLength35efl: 35,0 mm (35 mm equivalent: 35,0 mm)
- HyperfocalDistance: inf m
- ScaleFactor35efl: 1,5
- ShutterSpeed: 1/13
- ExifIFD
- ApertureValue: 1,8
- CFAPattern: [Blue,Green][Green,Red]
- Contrast: Low
- CreateDate: 2009:07:16 21:54:36
- CustomRendered: Normal
- DateTimeOriginal: 2009:07:16 21:54:36
- DigitalZoomRatio: 1
- ExposureCompensation: +2/3
- ExposureMode: Auto
- ExposureProgram: Aperture-priority AE
- ExposureTime: 1/13
- FNumber: 1,8
- Flash: No Flash
- FocalLength: 35,0 mm
- FocalLengthIn35mmFormat: 52 mm
- GainControl: Low gain up
- ISO: 1600
- LightSource: Unknown
- MaxApertureValue: 1,7
- MeteringMode: Multi-segment
- Saturation: Normal
- SceneCaptureType: Standard
- SceneType: Directly photographed
- SensingMethod: One-chip color area
- Sharpness: Normal
- ShutterSpeedValue: 1/13
- SubjectDistance: 4294967295 m
- SubjectDistanceRange: Unknown
- WhiteBalance: Auto
- ICC-header
- ICC-meas
- ICC-view
- IFD0
- Make: NIKON CORPORATION
- Model: NIKON D50
- ModifyDate: 2010:11:19 20:37:40
- Software: Ver.1.00
- IFD1
- System
- XMP-aux
- ImageNumber: 5857
- Lens: 35.0 mm f/1.8
- LensID: 159
- LensInfo: 35mm f/1.8
- XMP-crs
- AlreadyApplied: True
- BlueHue: 0
- BlueSaturation: 0
- Brightness: -5
- CameraProfile: ACR 3.3
- ChromaticAberrationB: 0
- ChromaticAberrationR: 0
- Clarity: +51
- ColorNoiseReduction: 25
- Contrast: +25
- ConvertToGrayscale: False
- Defringe: 0
- Exposure: +0.33
- FillLight: 69
- GreenHue: 0
- GreenSaturation: 0
- HasCrop: False
- HasSettings: True
- HighlightRecovery: 50
- HueAdjustmentAqua: -48
- HueAdjustmentBlue: 0
- HueAdjustmentGreen: +34
- HueAdjustmentMagenta: +29
- HueAdjustmentOrange: +36
- HueAdjustmentPurple: 0
- HueAdjustmentRed: +27
- HueAdjustmentYellow: -46
- LuminanceAdjustmentAqua: 0
- LuminanceAdjustmentBlue: 0
- LuminanceAdjustmentGreen: +72
- LuminanceAdjustmentMagenta: 0
- LuminanceAdjustmentOrange: +60
- LuminanceAdjustmentPurple: 0
- LuminanceAdjustmentRed: 0
- LuminanceAdjustmentYellow: +62
- LuminanceSmoothing: 0
- ParametricDarks: 0
- ParametricHighlightSplit: 75
- ParametricHighlights: 0
- ParametricLights: 0
- ParametricMidtoneSplit: 50
- ParametricShadowSplit: 25
- ParametricShadows: 0
- PostCropVignetteAmount: 0
- RedHue: 0
- RedSaturation: 0
- Saturation: -62
- SaturationAdjustmentAqua: -65
- SaturationAdjustmentBlue: 0
- SaturationAdjustmentGreen: -100
- SaturationAdjustmentMagenta: 0
- SaturationAdjustmentOrange: +18
- SaturationAdjustmentPurple: +6
- SaturationAdjustmentRed: 0
- SaturationAdjustmentYellow: 0
- ShadowTint: 0
- Shadows: 50
- SharpenDetail: 15
- SharpenEdgeMasking: 0
- SharpenRadius: +1.0
- Sharpness: 50
- SplitToningBalance: 0
- SplitToningHighlightHue: 0
- SplitToningHighlightSaturation: 0
- SplitToningShadowHue: 0
- SplitToningShadowSaturation: 0
- Temperature: 11721
- Tint: -79
- ToneCurve: 0, 0, 32, 22, 64, 56, 128, 128, 192, 196, 255, 255
- ToneCurveName: Medium Contrast
- Version: 5.6.1
- Vibrance: +50
- VignetteAmount: -60
- VignetteMidpoint: 27
- WhiteBalance: Custom
- XMP-exif
- DateTimeDigitized: 2009:07:16 21:54:36.20+03:00
- DateTimeOriginal: 2009:07:16 21:54:36.20+03:00
- ExifImageHeight: 2000
- ExifImageWidth: 3008
- FlashFired: False
- FlashFunction: False
- FlashMode: Unknown
- FlashRedEyeMode: False
- FlashReturn: No return detection
- XMP-tiff
- ImageHeight: 2000
- ImageWidth: 3008
- XMP-xmp
- CreateDate: 2009:07:16 21:54:36.20+03:00
- ModifyDate: 2010:11:19 20:37:40+02:00
- Просмотров: 268
- Рейтинг: голосов еще нет
- Отзывов: 0