| » Участники » sam43 » Альбом #3 » В сырой тишине |
Уважаемые друзья и участники проекта iXBT.photo! К сожалению, 1 марта 2026 года проект iXBT.photo прекратит свою работу и будет закрыт. Мы высоко ценим ваше участие и тот вклад, который вы внесли в развитие нашего сообщества. Пожалуйста, не забудьте сохранить ваши фотографии до этой даты.
С уважением, команда iXBT.com
| В сырой тишине |
В сырой тишине
объектив 18-135 3.5-5.6 ED-IF DX Zoom-Nikkor
- Раздел: Другое, разное
- Дата съёмки: 21.11.2010 15:19
- Дата загрузки фото: 22.11.2010 15:39
- Оригинальная фотография: 1300 x 1942 (964 Кб)
- Технические характеристики:
- Фотоаппарат: Nikon D80
- Выдержка: 1/10
- Гиперфокальное расстояние: inf m
- Диафрагма: 5,3
- Светочувствительность: 200
- Фокусное расстояние: 66,0 mm (35 mm equivalent: 66,0 mm)
- Экспокоррекция: +2/3
- Полный EXIF
- Composite
- Aperture: 5,3
- CircleOfConfusion: 0,020 mm
- FOV: 30,0 deg
- FocalLength35efl: 66,0 mm (35 mm equivalent: 66,0 mm)
- HyperfocalDistance: inf m
- ScaleFactor35efl: 1,5
- ShutterSpeed: 1/10
- ExifIFD
- ApertureValue: 5,3
- CFAPattern: [Green,Blue][Red,Green]
- Contrast: High
- CreateDate: 2010:11:21 15:19:47
- CustomRendered: Normal
- DateTimeOriginal: 2010:11:21 15:19:47
- DigitalZoomRatio: 1
- ExifImageHeight: 1942
- ExifImageWidth: 1300
- ExposureCompensation: +2/3
- ExposureMode: Manual
- ExposureProgram: Manual
- ExposureTime: 1/10
- FNumber: 5,3
- Flash: No Flash
- FocalLength: 66,0 mm
- FocalLengthIn35mmFormat: 99 mm
- GainControl: None
- ISO: 200
- LightSource: Unknown
- MaxApertureValue: 5,3
- MeteringMode: Multi-segment
- Saturation: Normal
- SceneCaptureType: Standard
- SceneType: Directly photographed
- SensingMethod: One-chip color area
- Sharpness: Hard
- ShutterSpeedValue: 1/10
- SubjectDistanceRange: Unknown
- WhiteBalance: Auto
- ICC-header
- ICC-meas
- ICC-view
- IFD0
- Make: NIKON CORPORATION
- Model: NIKON D80
- ModifyDate: 2010:11:22 14:39:18
- Orientation: Horizontal (normal)
- Software: ACD Systems Digital Imaging
- IFD1
- System
- XMP-aux
- ImageNumber: 10829
- Lens: 18.0-135.0 mm f/3.5-5.6
- LensInfo: 18-135mm f/3.5-5.6
- SerialNumber: 4450698
- XMP-crs
- AlreadyApplied: True
- BlueHue: 0
- BlueSaturation: 0
- Brightness: +49
- ChromaticAberrationB: 0
- ChromaticAberrationR: 0
- Clarity: 0
- ColorNoiseReduction: 25
- Contrast: +43
- ConvertToGrayscale: False
- Defringe: 0
- Exposure: 0.00
- FillLight: 13
- GreenHue: 0
- GreenSaturation: 0
- HasCrop: False
- HasSettings: True
- HighlightRecovery: 0
- HueAdjustmentAqua: 0
- HueAdjustmentBlue: 0
- HueAdjustmentGreen: 0
- HueAdjustmentMagenta: 0
- HueAdjustmentOrange: 0
- HueAdjustmentPurple: 0
- HueAdjustmentRed: 0
- HueAdjustmentYellow: 0
- LuminanceAdjustmentAqua: 0
- LuminanceAdjustmentBlue: 0
- LuminanceAdjustmentGreen: 0
- LuminanceAdjustmentMagenta: 0
- LuminanceAdjustmentOrange: 0
- LuminanceAdjustmentPurple: 0
- LuminanceAdjustmentRed: 0
- LuminanceAdjustmentYellow: 0
- LuminanceSmoothing: 0
- ParametricDarks: 0
- ParametricHighlightSplit: 75
- ParametricHighlights: +14
- ParametricLights: +5
- ParametricMidtoneSplit: 50
- ParametricShadowSplit: 25
- ParametricShadows: -8
- PostCropVignetteAmount: 0
- RedHue: 0
- RedSaturation: 0
- Saturation: 0
- SaturationAdjustmentAqua: 0
- SaturationAdjustmentBlue: 0
- SaturationAdjustmentGreen: 0
- SaturationAdjustmentMagenta: 0
- SaturationAdjustmentOrange: 0
- SaturationAdjustmentPurple: 0
- SaturationAdjustmentRed: 0
- SaturationAdjustmentYellow: 0
- ShadowTint: 0
- Shadows: 5
- SharpenDetail: 66
- SharpenEdgeMasking: 0
- SharpenRadius: +0.9
- Sharpness: 84
- SplitToningBalance: 0
- SplitToningHighlightHue: 0
- SplitToningHighlightSaturation: 0
- SplitToningShadowHue: 0
- SplitToningShadowSaturation: 0
- Temperature: 5350
- Tint: -1
- ToneCurve: 0, 0, 32, 22, 64, 56, 128, 128, 192, 196, 255, 255
- ToneCurveName: Medium Contrast
- Version: 5.3
- Vibrance: +23
- VignetteAmount: 0
- WhiteBalance: As Shot
- XMP-exif
- DateTimeDigitized: 2010:11:21 15:19:47.30+02:00
- DateTimeOriginal: 2010:11:21 15:19:47.30+02:00
- ExifImageHeight: 3872
- ExifImageWidth: 2592
- FlashFired: False
- FlashFunction: False
- FlashMode: Unknown
- FlashRedEyeMode: False
- FlashReturn: No return detection
- XMP-tiff
- ImageHeight: 3872
- ImageWidth: 2592
- XMP-xmp
- CreateDate: 2010:11:21 15:19:47.30+02:00
- ModifyDate: 2010:11:21 21:34:38+02:00
Получить код для блога
| Вставка фотографии в текущем разрешении |
Вставка миниатюры |
HTML (для вставки в блог):
BBCode (для вставки в форум):
Ссылка на фото:
Ссылка на миниатюру:
- Послать ссылку другу
| Комментарии к фотографии |