- Раздел: Натюрморт
- Дата съёмки: 06.01.2011 19:52
- Дата загрузки фото: 06.01.2011 21:33
- Оригинальная фотография: 900 x 602 (424 Кб)
- Технические характеристики:
- Фотоаппарат: Pentax K200D
- Выдержка: 1/180
- Гиперфокальное расстояние: inf m
- Диафрагма: 5,6
- Светочувствительность: 400
- Фокусное расстояние: 200,0 mm (35 mm equivalent: 200,0 mm)
- Экспокоррекция: +0,7
- Полный EXIF
- Adobe
- ColorTransform: YCbCr
- Composite
- Aperture: 5,6
- CircleOfConfusion: 0,020 mm
- FOV: 10,0 deg
- FocalLength35efl: 200,0 mm (35 mm equivalent: 200,0 mm)
- HyperfocalDistance: inf m
- ScaleFactor35efl: 1,5
- ShutterSpeed: 1/180
- ExifIFD
- ApertureValue: 5,6
- CFAPattern: [Red,Green][Green,Blue]
- Contrast: Normal
- CreateDate: 2011:01:06 19:52:43
- CustomRendered: Normal
- DateTimeOriginal: 2011:01:06 19:52:43
- ExposureCompensation: +0,7
- ExposureMode: Manual
- ExposureProgram: Creative (Slow speed)
- ExposureTime: 1/180
- FNumber: 5,6
- Flash: On, Fired
- FocalLength: 200,0 mm
- FocalLengthIn35mmFormat: 300 mm
- ISO: 400
- MeteringMode: Center-weighted average
- Saturation: Normal
- SceneCaptureType: Standard
- SensingMethod: One-chip color area
- Sharpness: Normal
- ShutterSpeedValue: 1/180
- SubjectDistanceRange: Close
- WhiteBalance: Auto
- ICC-header
- ICC-meas
- ICC-view
- IFD0
- Make: PENTAX Corporation
- Model: PENTAX K200D
- ModifyDate: 2011:01:07 00:50:16
- Software: K200D Ver 1.00
- IFD1
- IPTC
- Keywords: watches
- System
- XMP-aux
- Lens: smc PENTAX-DA 50-200mm F4-5.6 ED
- LensID: 4 250
- LensInfo: 50-200mm f/4-5.6
- XMP-crs
- AlreadyApplied: True
- BlueHue: 0
- BlueSaturation: 0
- Brightness: +50
- CameraProfile: Camera Standard
- ChromaticAberrationB: 0
- ChromaticAberrationR: 0
- Clarity: +48
- ColorNoiseReduction: 25
- Contrast: +25
- ConvertToGrayscale: False
- CropAngle: 0
- CropBottom: 0.877461
- CropHeight: 602
- CropLeft: 0.043764
- CropRight: 0.921225
- CropTop: 0
- CropUnit: pixels
- CropWidth: 900
- Defringe: 0
- Exposure: +1.14
- FillLight: 15
- GreenHue: 0
- GreenSaturation: 0
- HasCrop: True
- HasSettings: True
- HighlightRecovery: 0
- HueAdjustmentAqua: 0
- HueAdjustmentBlue: 0
- HueAdjustmentGreen: 0
- HueAdjustmentMagenta: 0
- HueAdjustmentOrange: 0
- HueAdjustmentPurple: 0
- HueAdjustmentRed: 0
- HueAdjustmentYellow: 0
- LuminanceAdjustmentAqua: 0
- LuminanceAdjustmentBlue: 0
- LuminanceAdjustmentGreen: 0
- LuminanceAdjustmentMagenta: 0
- LuminanceAdjustmentOrange: 0
- LuminanceAdjustmentPurple: 0
- LuminanceAdjustmentRed: 0
- LuminanceAdjustmentYellow: 0
- LuminanceSmoothing: 0
- ParametricDarks: 0
- ParametricHighlightSplit: 75
- ParametricHighlights: 0
- ParametricLights: 0
- ParametricMidtoneSplit: 50
- ParametricShadowSplit: 25
- ParametricShadows: 0
- PostCropVignetteAmount: 0
- RedHue: 0
- RedSaturation: 0
- Saturation: 0
- SaturationAdjustmentAqua: 0
- SaturationAdjustmentBlue: 0
- SaturationAdjustmentGreen: 0
- SaturationAdjustmentMagenta: 0
- SaturationAdjustmentOrange: 0
- SaturationAdjustmentPurple: 0
- SaturationAdjustmentRed: 0
- SaturationAdjustmentYellow: 0
- ShadowTint: 0
- Shadows: 5
- SharpenDetail: 25
- SharpenEdgeMasking: 0
- SharpenRadius: +1.0
- Sharpness: 25
- SplitToningBalance: 0
- SplitToningHighlightHue: 0
- SplitToningHighlightSaturation: 0
- SplitToningShadowHue: 0
- SplitToningShadowSaturation: 0
- Temperature: 6500
- Tint: +10
- ToneCurve: 0, 0, 32, 22, 64, 56, 128, 128, 192, 196, 255, 255
- ToneCurveName: Medium Contrast
- Version: 5.5
- Vibrance: +24
- VignetteAmount: 0
- WhiteBalance: Cloudy
- XMP-dc
- XMP-exif
- DateTimeDigitized: 2011:01:06 19:52:43+07:00
- DateTimeOriginal: 2011:01:06 19:52:43+07:00
- ExifImageHeight: 602
- ExifImageWidth: 900
- FlashFired: True
- FlashFunction: False
- FlashMode: On
- FlashRedEyeMode: False
- FlashReturn: No return detection
- XMP-lr
- HierarchicalSubject: watches
- XMP-tiff
- ImageHeight: 602
- ImageWidth: 900
- XMP-xmp
- CreateDate: 2011:01:06 19:52:43+07:00
- Label: Green
- ModifyDate: 2011:01:07 00:50:16+07:00
- Просмотров: 477
- Рейтинг: голосов еще нет
- Отзывов: отключены