- Раздел: Семья, личное
- Дата съёмки: 31.12.2010 23:14
- Дата загрузки фото: 29.01.2011 23:14
- Оригинальная фотография: 3693 x 2453 (5,0 Мб)
- Технические характеристики:
- Фотоаппарат: Nikon D90
- Выдержка: 0,6
- Гиперфокальное расстояние: inf m
- Диафрагма: 4,0
- Светочувствительность: 320
- Фокусное расстояние: 26,0 mm (35 mm equivalent: 26,0 mm)
- Полный EXIF
- Adobe
- ColorTransform: YCbCr
- Composite
- Aperture: 4,0
- CircleOfConfusion: 0,020 mm
- FOV: 69,0 deg
- FocalLength35efl: 26,0 mm (35 mm equivalent: 26,0 mm)
- HyperfocalDistance: inf m
- ScaleFactor35efl: 1,5
- ShutterSpeed: 0,6
- ExifIFD
- ApertureValue: 4,0
- CFAPattern: [Green,Blue][Red,Green]
- Contrast: Normal
- CreateDate: 2010:12:31 23:14:22
- CustomRendered: Normal
- DateTimeOriginal: 2010:12:31 23:14:22
- DigitalZoomRatio: 1
- ExposureCompensation: 0
- ExposureMode: Manual
- ExposureProgram: Manual
- ExposureTime: 0,6
- FNumber: 4,0
- Flash: No Flash
- FocalLength: 26,0 mm
- FocalLengthIn35mmFormat: 39 mm
- GainControl: None
- ISO: 320
- LensInfo: 18-105mm f/3.5-5.6
- LensModel: 18.0-105.0 mm f/3.5-5.6
- LightSource: Tungsten (Incandescent)
- MaxApertureValue: 4,0
- MeteringMode: Spot
- Saturation: Normal
- SceneCaptureType: Standard
- SceneType: Directly photographed
- SensingMethod: One-chip color area
- SensitivityType: Unknown
- SerialNumber: 6639313
- Sharpness: Normal
- ShutterSpeedValue: 0,6
- SubjectDistance: 0,67 m
- SubjectDistanceRange: Unknown
- WhiteBalance: Manual
- ICC-header
- ICC-meas
- ICC-view
- IFD0
- Make: NIKON CORPORATION
- Model: NIKON D90
- ModifyDate: 2011:01:29 23:12:38
- Software: Nikon Transfer 1.1 W
- IFD1
- System
- XMP-aux
- ImageNumber: 1003
- Lens: 18.0-105.0 mm f/3.5-5.6
- XMP-crs
- AlreadyApplied: True
- BlueHue: 0
- BlueSaturation: 0
- Brightness: +71
- ChromaticAberrationB: 0
- ChromaticAberrationR: 0
- Clarity: +10
- ColorNoiseReduction: 13
- Contrast: +55
- ConvertToGrayscale: False
- CropAngle: 0
- CropBottom: 0.933228
- CropConstrainToWarp: 0
- CropHeight: 2453
- CropLeft: 0.051171
- CropRight: 0.912402
- CropTop: 0.071994
- CropUnit: pixels
- CropWidth: 3693
- Defringe: 0
- Exposure: +1.00
- FillLight: 16
- GrainAmount: 0
- GreenHue: 0
- GreenSaturation: 0
- HasCrop: True
- HasSettings: True
- HighlightRecovery: 100
- HueAdjustmentAqua: 0
- HueAdjustmentBlue: 0
- HueAdjustmentGreen: 0
- HueAdjustmentMagenta: 0
- HueAdjustmentOrange: 0
- HueAdjustmentPurple: 0
- HueAdjustmentRed: 0
- HueAdjustmentYellow: 0
- LensManualDistortionAmount: 0
- LensProfileEnable: 0
- LensProfileSetup: LensDefaults
- LuminanceAdjustmentAqua: 0
- LuminanceAdjustmentBlue: 0
- LuminanceAdjustmentGreen: 0
- LuminanceAdjustmentMagenta: 0
- LuminanceAdjustmentOrange: 0
- LuminanceAdjustmentPurple: 0
- LuminanceAdjustmentRed: 0
- LuminanceAdjustmentYellow: 0
- LuminanceSmoothing: 40
- ParametricDarks: +9
- ParametricHighlightSplit: 75
- ParametricHighlights: 0
- ParametricLights: -15
- ParametricMidtoneSplit: 50
- ParametricShadowSplit: 25
- ParametricShadows: +36
- PerspectiveHorizontal: 0
- PerspectiveRotate: 0.0
- PerspectiveScale: 100
- PerspectiveVertical: 0
- PostCropVignetteAmount: -80
- PostCropVignetteFeather: 59
- PostCropVignetteHighlightContrast: 16
- PostCropVignetteMidpoint: 61
- PostCropVignetteRoundness: +24
- PostCropVignetteStyle: 1
- ProcessVersion: 5.0
- RedHue: 0
- RedSaturation: 0
- Saturation: +20
- SaturationAdjustmentAqua: 0
- SaturationAdjustmentBlue: 0
- SaturationAdjustmentGreen: 0
- SaturationAdjustmentMagenta: 0
- SaturationAdjustmentOrange: 0
- SaturationAdjustmentPurple: 0
- SaturationAdjustmentRed: 0
- SaturationAdjustmentYellow: 0
- ShadowTint: 0
- Shadows: 5
- SharpenDetail: 100
- SharpenEdgeMasking: 0
- SharpenRadius: +3.0
- Sharpness: 138
- SplitToningBalance: 0
- SplitToningHighlightHue: 0
- SplitToningHighlightSaturation: 0
- SplitToningShadowHue: 0
- SplitToningShadowSaturation: 0
- Temperature: 3200
- Tint: -13
- ToneCurve: 0, 0, 32, 22, 64, 56, 128, 128, 192, 196, 255, 255
- ToneCurveName: Medium Contrast
- Version: 6.3
- Vibrance: -5
- VignetteAmount: 0
- WhiteBalance: Custom
- XMP-exif
- DateTimeDigitized: 2010:12:31 23:14:22.00+03:00
- DateTimeOriginal: 2010:12:31 23:14:22.00+03:00
- ExifImageHeight: 2453
- ExifImageWidth: 3693
- FlashFired: False
- FlashFunction: False
- FlashMode: Unknown
- FlashRedEyeMode: False
- FlashReturn: No return detection
- XMP-microsoft
- XMP-tiff
- ImageHeight: 2453
- ImageWidth: 3693
- XMP-xmp
- CreateDate: 2010:12:31 23:14:22.00+03:00
- ModifyDate: 2011:01:29 23:12:38+03:00
- Rating: 5
- Просмотров: 607
- Рейтинг: голосов еще нет
- Отзывов: 0