- Раздел: Семья, личное
- Дата съёмки: 01.02.2011 19:54
- Дата загрузки фото: 02.02.2011 00:42
- Оригинальная фотография: 3431 x 2279 (5,3 Мб)
- Технические характеристики:
- Фотоаппарат: Nikon D90
- Выдержка: 1/60
- Гиперфокальное расстояние: inf m
- Диафрагма: 5,6
- Светочувствительность: 1000
- Фокусное расстояние: 105,0 mm (35 mm equivalent: 105,0 mm)
- Полный EXIF
- Adobe
- ColorTransform: YCbCr
- Composite
- Aperture: 5,6
- CircleOfConfusion: 0,020 mm
- DOF: inf (0,00 m - inf)
- FOV: 19,0 deg
- FocalLength35efl: 105,0 mm (35 mm equivalent: 105,0 mm)
- HyperfocalDistance: inf m
- ScaleFactor35efl: 1,5
- ShutterSpeed: 1/60
- ExifIFD
- ApertureValue: 5,6
- CFAPattern: [Green,Blue][Red,Green]
- Contrast: Normal
- CreateDate: 2011:02:01 19:54:47
- CustomRendered: Normal
- DateTimeOriginal: 2011:02:01 19:54:47
- DigitalZoomRatio: 1
- ExposureCompensation: 0
- ExposureMode: Auto
- ExposureProgram: Aperture-priority AE
- ExposureTime: 1/60
- FNumber: 5,6
- Flash: On, Return detected
- FocalLength: 105,0 mm
- FocalLengthIn35mmFormat: 157 mm
- GainControl: High gain up
- ISO: 1000
- LensInfo: 18-105mm f/3.5-5.6
- LensModel: 18.0-105.0 mm f/3.5-5.6
- LightSource: Unknown
- MaxApertureValue: 5,7
- MeteringMode: Spot
- Saturation: Normal
- SceneCaptureType: Standard
- SceneType: Directly photographed
- SensingMethod: One-chip color area
- SensitivityType: Unknown
- SerialNumber: 6639313
- Sharpness: Hard
- ShutterSpeedValue: 1/60
- SubjectDistance: 2,11 m
- SubjectDistanceRange: Unknown
- UserComment: Aleksandr A. sanechek05@mail.ru
- WhiteBalance: Auto
- ICC-header
- ICC-meas
- ICC-view
- IFD0
- Make: NIKON CORPORATION
- Model: NIKON D90
- ModifyDate: 2011:02:02 00:33:50
- Software: Nikon Transfer 1.1 W
- IFD1
- IPTC
- Urgency: 9 (user-defined priority)
- System
- XMP-aux
- ApproximateFocusDistance: 2,11
- ImageNumber: 2345
- Lens: 18.0-105.0 mm f/3.5-5.6
- LensID: 158
- XMP-crs
- AlreadyApplied: True
- BlueHue: 0
- BlueSaturation: 0
- Brightness: +52
- CameraProfile: ACR 4.6
- ChromaticAberrationB: 0
- ChromaticAberrationR: 0
- Clarity: +33
- ColorNoiseReduction: 26
- ColorNoiseReductionDetail: 70
- Contrast: +26
- ConvertToGrayscale: False
- CropAngle: 0
- CropBottom: 0.872637
- CropConstrainToWarp: 0
- CropHeight: 2279
- CropLeft: 0.078265
- CropRight: 0.878369
- CropTop: 0.072534
- CropUnit: pixels
- CropWidth: 3431
- Defringe: 0
- Exposure: +0.41
- FillLight: 13
- GrainAmount: 0
- GreenHue: 0
- GreenSaturation: 0
- HasCrop: True
- HasSettings: True
- HighlightRecovery: 53
- HueAdjustmentAqua: 0
- HueAdjustmentBlue: 0
- HueAdjustmentGreen: 0
- HueAdjustmentMagenta: +100
- HueAdjustmentOrange: -25
- HueAdjustmentPurple: 0
- HueAdjustmentRed: 0
- HueAdjustmentYellow: 0
- LensManualDistortionAmount: 0
- LensProfileEnable: 0
- LensProfileSetup: LensDefaults
- LuminanceAdjustmentAqua: 0
- LuminanceAdjustmentBlue: 0
- LuminanceAdjustmentGreen: 0
- LuminanceAdjustmentMagenta: -40
- LuminanceAdjustmentOrange: +100
- LuminanceAdjustmentPurple: 0
- LuminanceAdjustmentRed: -58
- LuminanceAdjustmentYellow: 0
- LuminanceNoiseReductionContrast: 32
- LuminanceNoiseReductionDetail: 93
- LuminanceSmoothing: 10
- ParametricDarks: +6
- ParametricHighlightSplit: 75
- ParametricHighlights: -34
- ParametricLights: -7
- ParametricMidtoneSplit: 50
- ParametricShadowSplit: 25
- ParametricShadows: +10
- PerspectiveHorizontal: 0
- PerspectiveRotate: 0.0
- PerspectiveScale: 100
- PerspectiveVertical: 0
- PostCropVignetteAmount: 0
- ProcessVersion: 5.7
- RedHue: 0
- RedSaturation: 0
- Saturation: -7
- SaturationAdjustmentAqua: 0
- SaturationAdjustmentBlue: 0
- SaturationAdjustmentGreen: 0
- SaturationAdjustmentMagenta: +92
- SaturationAdjustmentOrange: +47
- SaturationAdjustmentPurple: 0
- SaturationAdjustmentRed: +72
- SaturationAdjustmentYellow: 0
- ShadowTint: 0
- Shadows: 5
- SharpenDetail: 86
- SharpenEdgeMasking: 4
- SharpenRadius: +2.3
- Sharpness: 58
- SplitToningBalance: 0
- SplitToningHighlightHue: 0
- SplitToningHighlightSaturation: 0
- SplitToningShadowHue: 0
- SplitToningShadowSaturation: 0
- Temperature: 4617
- Tint: -1
- ToneCurve: 0, 0, 32, 22, 64, 56, 128, 128, 192, 196, 255, 255
- ToneCurveName: Medium Contrast
- Version: 6.3
- Vibrance: -23
- VignetteAmount: 0
- WhiteBalance: Custom
- XMP-exif
- DateTimeDigitized: 2011:02:01 19:54:47.00+03:00
- DateTimeOriginal: 2011:02:01 19:54:47.00+03:00
- ExifImageHeight: 2279
- ExifImageWidth: 3431
- FlashFired: True
- FlashFunction: False
- FlashMode: On
- FlashRedEyeMode: False
- FlashReturn: Return detected
- XMP-microsoft
- XMP-tiff
- ImageHeight: 2279
- ImageWidth: 3431
- XMP-xmp
- CreateDate: 2011:02:01 19:54:47.00+03:00
- Label: Pink
- ModifyDate: 2011:02:02 00:33:50+03:00
- Rating: 5